Workbook

Sheet Instructions

Sheet NetDMR NODI Codes
A1: NetDMR NODI Codes - Indiana
B2: Below is a list of No Discharge Indicator (NODI) codes that should be used to report missing measurement data on the netDMR if there is no measurement data for a parameter/outfall for an entire monitoring period. For the majority of permits/outfalls/parameters this should be rare. In order to maintain NPDES data integrity, reduce confusion, and prevent false violations, IDEM recommends that the permittee uses the codes in bold type and highlighted yellow on an Indiana NPDES netDMR to help explain why there is no measurement data for a parameter (or an entire outfall) for an entire monitoring period (i.e., month). Also, the table indicates if the code results in a non-receipt permit violation. Except for the use of NODI code “C” (no discharge for entire monitoring period - for that outfall), the use of a NODI code should be explained in the NetDMR “Comments” field.
A3: NODI Code | B3: Description | C3: Places Permit in Noncompliance Status
A5: 2 | B5: Operation Shutdown | C5: NO
A7: 3 | B7: Special Report Attached | C7: NO
A9: 7 | B9: No Influent | C9: NO
A11: 9 | B11: Conditional Monitoring - Not Required This Period | C11: NO
A13: A | B13: General Permit Exemption | C13: NO
A15: B | B15: Below Detection Limit/No Detection | C15: NO
A17: C | B17: No Discharge | C17: NO
A19: E | B19: Failed to Sample/Required Analysis Not Conducted | C19: YES
A21: F | B21: Insufficient Flow for Sampling | C21: NO
A23: I | B23: Land Applied | C23: NO
A25: N | B25: Not Constructed | C25: NO
A27: P | B27: Laboratory Error or Invalid Test | C27: YES
A29: Q | B29: Not Quantifiable | C29: NO
A31: T | B31: Environmental Conditions - Monitoring Not Possible | C31: NO
A33: W | B33: Dry Lysimeter / Well | C33: unknown
A35: Z | B35: COVID19 valid Mar-Aug 2020 monitoring | C35: NO
B37: Note: Use of any NODI code other than the ones highlighted above will require permission from the IDEM Compliance Data Section.

Sheet Jan
K1: Name of Facility | P1: Permit Number | R1: Outfall | T1: MONTHLY REPORT OF OPERATION | AO1: MONTHLY REPORT OF OPERATION | BG1: MONTHLY REPORT OF OPERATION | BV1: MONTHLY REPORT OF OPERATION | CM1: MONTHLY REPORT OF OPERATION
D2: MONTHLY REPORT OF OPERATION | K2: Exampleville | P2: IN0000000 | R2: 001 | S2: A | T2: ACTIVATED SLUDGE TYPE | AO2: ACTIVATED SLUDGE TYPE | BG2: ACTIVATED SLUDGE TYPE | BV2: ACTIVATED SLUDGE TYPE | CM2: ACTIVATED SLUDGE TYPE
D3: ACTIVATED SLUDGE TYPE | K3: Month | M3: Year | O3: Plant Design Flow | Q3: Telephone Number | T3: WASTEWATER TREATMENT PLANT | AO3: WASTEWATER TREATMENT PLANT | BG3: WASTEWATER TREATMENT PLANT | BV3: WASTEWATER TREATMENT PLANT | CM3: WASTEWATER TREATMENT PLANT
D4: WASTEWATER TREATMENT PLANT | K4: January | M4: 2026 | O4: 0.001 | P4: mgd | Q4: 555/555-5555 | T4: =+$D$5 -> State Form 10829 (R11 / 3-26) | AG4: < | AO4: =+$D$5 -> State Form 10829 (R11 / 3-26) | BG4: =+$D$5 -> State Form 10829 (R11 / 3-26) | BV4: =+$D$5 -> State Form 10829 (R11 / 3-26) | CM4: =+$D$5 -> State Form 10829 (R11 / 3-26)
D5: State Form 10829 (R11 / 3-26) | J5: =CONCATENATE("1/1/",M4) -> 1/1/2026 | K5: E-mail address: | M5: wwtp@city.org | T5: Name of Facility | X5: Permit Number | Z5: For Month Of: | AB5: Year | AO5: Name of Facility | AS5: Permit Number | AU5: For Month Of: | AW5: Year | BG5: Name of Facility | BI5: Permit Number | BK5: For Month Of: | BM5: Year | BV5: Name of Facility | BX5: Permit Number | BZ5: For Month Of: | CB5: Year | CM5: Name of Facility | CO5: Permit Number | CQ5: For Month Of: | CS5: Year
K6: Certified Operator: Name | O6: Class | P6: Certificate Number | R6: Expiration Date | T6: =+K2 -> Exampleville | X6: =+P2 -> IN0000000 | Z6: =+K4 -> January | AB6: =+M4 -> 2026 | AO6: =+K2 -> Exampleville | AS6: =+P2 -> IN0000000 | AU6: =+K4 -> January | AW6: =+M4 -> 2026 | BG6: =+K2 -> Exampleville | BI6: =+P2 -> IN0000000 | BK6: =+K4 -> January | BM6: =+M4 -> 2026 | BV6: =+K2 -> Exampleville | BX6: =+P2 -> IN0000000 | BZ6: =+K4 -> January | CB6: =+M4 -> 2026 | CM6: =+K2 -> Exampleville | CO6: =+P2 -> IN0000000 | CQ6: =+K4 -> January | CS6: =+M4 -> 2026
K7: Chris A. Operator | O7: V | P7: 9999 | R7: 41820 | BX7: Substitute for State Form 30530 | CO7: Substitute for State Form 30530
C8: Man-Hours at Plant (Plants less than 1 MGD only) | D8: Air Temperature (optional) | E8: Total= | F8: Bypass At Plant Site ("x" If Occurred) | G8: Sanitary Sewer Overflow ("x" If Occurred) | H8: CHEMICALS | K8: RAW SEWAGE | U8: PRIMARY | W8: AERATION | AD8: SECONDARY | AF8: FINAL EFFLUENT | AQ8: FINAL EFFLUENT | BH8: SLUDGE TO | BJ8: DIGESTER OPERATION | BW8: Final Effluent
E9: =SUM(E14:E44) -> 0 | H9: USED | U9: EFFLUENT | W9: MIXED LIQUOR | AB9: RETURN SLUDGE | AD9: EFFLUENT | AQ9: Flow | AS9: BOD | AW9: Total Suspended Solids | BA9: Ammonia | BE9: Phosphorus | BH9: DIGESTER | BJ9: Anaerobic Only | BM9: Supernatant Withdrawn hrs. or Gal. x 1000 | BN9: Supernatant BOD5 mg/l or NH3-N mg/l | BO9: Total Solids in Incoming Sludge - % | BP9: Total Solids in Digested Sludge - % | BQ9: Volatile Solids in Incoming Sludge - % | BR9: Volatile Solids in Digested Sludge - % | BS9: Digested Sludge Withdrawn hrs. or Gal. x 1000 | BW9: Chloride | BY9: Total Nitrogen
A10: Day Of Month | B10: Day of Week | E10: Precipitation - Inches | H10: Chlorine - Lbs/day | I10: Lbs/Day or Gal./Day | J10: Lbs/Day or Gal./Day | K10: Influent Flow Rate (if metered) MGD | L10: pH | M10: CBOD5 - mg/l | N10: CBOD5 - lbs/day | O10: Susp. Solids - mg/l | P10: Susp. Solids - lbs/day | Q10: Phosphorus - mg/l | R10: Ammonia - mg/l | T10: Day Of Month | U10: CBOD5 - mg/l | V10: Susp. Solids - mg/l | W10: Settleable Solids % in 30 minutes | X10: Susp. Solids - mg/l | Y10: Sludge Vol. Index - ml/gm | Z10: Dissolved Oxygen - mg/l | AA10: Temperature - F | AB10: Volume - MG | AC10: Susp. Solids - mg/l | AD10: CBOD5 - mg/l | AE10: Susp. Solids - mg/l | AG10: Residual Chlorine - Final | AH10: Residual Chlorine - Contact Tank | AI10: E. Coli (hidden) | AJ10: E. Coli - colony/100 ml | AK10: pH - daily low (or single sample) | AL10: pH - daily high (if multiple samples) | AM10: Dissolved Oxygen - mg/l | AN10: Oil & Grease (mg/l) | AO10: Day Of Month | AP10: Day of Week | AQ10: Effluent Flow Rate (MGD) | AR10: Effluent Flow Weekly Average | AS10: CBOD5 - mg/l | AT10: CBOD5 - mg/l Weekly Average | AU10: CBOD5 - lbs/day | AV10: CBOD5 - lbs/day Weekly Average | AW10: Susp. Solids - mg/l | AX10: Susp. Solids - mg/l Weekly Average | AY10: Susp. Solids - lbs/day | AZ10: Susp. Solids - lbs/day Weekly Average | BA10: Ammonia - mg/l | BB10: Ammonia - mg/l Weekly Average | BC10: Ammonia - lbs/day | BD10: Ammonia - lbs/day Weekly Average | BE10: Phosphorus - mg/l | BF10: Phosphorus - lbs/day | BG10: Day Of Month | BH10: Primary Sludge Gal. x 1000 | BI10: Waste Act. Sludge Gal. x 1000 | BJ10: pH | BK10: Gas Production Cubic Ft. x 1000 | BL10: Temperature - F | BV10: Day Of Month | BW10: Chloride - mg/l | BX10: Chloride - lbs/day | BY10: Total Nitrogen- mg/l | BZ10: Total Nitrogen- lbs/day | CM10: Day Of Month
A11: 29 | B11: =TEXT(CONCATENATE("12/29/",M4-1),"DDD") -> Mon | C11: Fill in December's effluent data on page 3 as necessary for correct weekly average calculations. | AO11: =+A11 -> 29 | AP11: =+B11 -> Mon | AU11: =IF(CELL("type",AS11)="L","",IF(AS11*($K11+$AQ11)=0,"",IF($AQ11>0,+$AQ11*AS11*8.34,$K11*AS11*8.34))) | AY11: =IF(CELL("type",AW11)="L","",IF(AW11*($K11+$AQ11)=0,"",IF($AQ11>0,+$AQ11*AW11*8.34,$K11*AW11*8.34))) | BC11: =IF(CELL("type",BA11)="L","",IF(BA11*($K11+$AQ11)=0,"",IF($AQ11>0,+$AQ11*BA11*8.34,$K11*BA11*8.34))) | BF11: =IF(CELL("type",BE11)="L","",IF(BE11*($K11+$AQ11)=0,"",IF($AQ11>0,+$AQ11*BE11*8.34,$K11*BE11*8.34))) | BV11: =+A11 -> 29 | BX11: =IF(CELL("type",BW11)="L","",IF(BW11*($K11+$AQ11)=0,"",IF($AQ11>0,+$AQ11*BW11*8.34,$K11*BW11*8.34))) | BZ11: =IF(CELL("type",BY11)="L","",IF(BY11*($K11+$AQ11)=0,"",IF($AQ11>0,+$AQ11*BY11*8.34,$K11*BY11*8.34)))
A12: 30 | B12: =TEXT(CONCATENATE("12/30/",M4-1),"DDD") -> Tue | AO12: =+A12 -> 30 | AP12: =+B12 -> Tue | AU12: =IF(CELL("type",AS12)="L","",IF(AS12*($K12+$AQ12)=0,"",IF($AQ12>0,+$AQ12*AS12*8.34,$K12*AS12*8.34))) | AY12: =IF(CELL("type",AW12)="L","",IF(AW12*($K12+$AQ12)=0,"",IF($AQ12>0,+$AQ12*AW12*8.34,$K12*AW12*8.34))) | BC12: =IF(CELL("type",BA12)="L","",IF(BA12*($K12+$AQ12)=0,"",IF($AQ12>0,+$AQ12*BA12*8.34,$K12*BA12*8.34))) | BF12: =IF(CELL("type",BE12)="L","",IF(BE12*($K12+$AQ12)=0,"",IF($AQ12>0,+$AQ12*BE12*8.34,$K12*BE12*8.34))) | BV12: =+A12 -> 30 | BX12: =IF(CELL("type",BW12)="L","",IF(BW12*($K12+$AQ12)=0,"",IF($AQ12>0,+$AQ12*BW12*8.34,$K12*BW12*8.34))) | BZ12: =IF(CELL("type",BY12)="L","",IF(BY12*($K12+$AQ12)=0,"",IF($AQ12>0,+$AQ12*BY12*8.34,$K12*BY12*8.34)))
A13: 31 | B13: =TEXT(CONCATENATE("12/31/",M4-1),"DDD") -> Wed | AO13: =+A13 -> 31 | AP13: =+B13 -> Wed | AU13: =IF(CELL("type",AS13)="L","",IF(AS13*($K13+$AQ13)=0,"",IF($AQ13>0,+$AQ13*AS13*8.34,$K13*AS13*8.34))) | AY13: =IF(CELL("type",AW13)="L","",IF(AW13*($K13+$AQ13)=0,"",IF($AQ13>0,+$AQ13*AW13*8.34,$K13*AW13*8.34))) | BC13: =IF(CELL("type",BA13)="L","",IF(BA13*($K13+$AQ13)=0,"",IF($AQ13>0,+$AQ13*BA13*8.34,$K13*BA13*8.34))) | BF13: =IF(CELL("type",BE13)="L","",IF(BE13*($K13+$AQ13)=0,"",IF($AQ13>0,+$AQ13*BE13*8.34,$K13*BE13*8.34))) | BV13: =+A13 -> 31 | BX13: =IF(CELL("type",BW13)="L","",IF(BW13*($K13+$AQ13)=0,"",IF($AQ13>0,+$AQ13*BW13*8.34,$K13*BW13*8.34))) | BZ13: =IF(CELL("type",BY13)="L","",IF(BY13*($K13+$AQ13)=0,"",IF($AQ13>0,+$AQ13*BY13*8.34,$K13*BY13*8.34)))
A14: 1 | B14: =TEXT(J$5 + A14-1,"DDD") -> Thu | N14: =IF(CELL("type",M14)="L","",IF(M14*($K14+$AQ14)=0,"",IF($K14>0,+$K14*M14*8.34,$AQ14*M14*8.34))) | P14: =IF(CELL("type",O14)="L","",IF(O14*($K14+$AQ14)=0,"",IF($K14>0,+$K14*O14*8.34,$AQ14*O14*8.34))) | T14: =+A14 -> 1 | Y14: =IF(W14*X14=0,"",IF(W14<100,W14*10000/X14,W14*1000/X14)) | AI14: =IF(CELL("type",AJ14)="b","",IF(AJ14="tntc",63200,IF(AJ14=0,1,AJ14))) | AO14: =+A14 -> 1 | AP14: =+B14 -> Thu | AU14: =IF(CELL("type",AS14)="L","",IF(AS14*($K14+$AQ14)=0,"",IF($AQ14>0,+$AQ14*AS14*8.34,$K14*AS14*8.34))) | AY14: =IF(CELL("type",AW14)="L","",IF(AW14*($K14+$AQ14)=0,"",IF($AQ14>0,+$AQ14*AW14*8.34,$K14*AW14*8.34))) | BC14: =IF(CELL("type",BA14)="L","",IF(BA14*($K14+$AQ14)=0,"",IF($AQ14>0,+$AQ14*BA14*8.34,$K14*BA14*8.34))) | BF14: =IF(CELL("type",BE14)="L","",IF(BE14*($K14+$AQ14)=0,"",IF($AQ14>0,+$AQ14*BE14*8.34,$K14*BE14*8.34))) | BG14: =+A14 -> 1 | BV14: =+A14 -> 1 | BX14: =IF(CELL("type",BW14)="L","",IF(BW14*($K14+$AQ14)=0,"",IF($AQ14>0,+$AQ14*BW14*8.34,$K14*BW14*8.34))) | BZ14: =IF(CELL("type",BY14)="L","",IF(BY14*($K14+$AQ14)=0,"",IF($AQ14>0,+$AQ14*BY14*8.34,$K14*BY14*8.34))) | CM14: =+T14 -> 1
A15: 2 | B15: =TEXT(J$5 + A15-1,"DDD") -> Fri | N15: =IF(CELL("type",M15)="L","",IF(M15*(K15+AQ15)=0,"",IF(K15>0,+K15*M15*8.34,AQ15*M15*8.34))) | P15: =IF(CELL("type",O15)="L","",IF(O15*($K15+$AQ15)=0,"",IF($K15>0,+$K15*O15*8.34,$AQ15*O15*8.34))) | T15: =+A15 -> 2 | Y15: =IF(W15*X15=0,"",IF(W15<100,W15*10000/X15,W15*1000/X15)) | AI15: =IF(CELL("type",AJ15)="b","",IF(AJ15="tntc",63200,IF(AJ15=0,1,AJ15))) | AO15: =+A15 -> 2 | AP15: =+B15 -> Fri | AU15: =IF(CELL("type",AS15)="L","",IF(AS15*($K15+$AQ15)=0,"",IF($AQ15>0,+$AQ15*AS15*8.34,$K15*AS15*8.34))) | AY15: =IF(CELL("type",AW15)="L","",IF(AW15*($K15+$AQ15)=0,"",IF($AQ15>0,+$AQ15*AW15*8.34,$K15*AW15*8.34))) | BC15: =IF(CELL("type",BA15)="L","",IF(BA15*($K15+$AQ15)=0,"",IF($AQ15>0,+$AQ15*BA15*8.34,$K15*BA15*8.34))) | BF15: =IF(CELL("type",BE15)="L","",IF(BE15*($K15+$AQ15)=0,"",IF($AQ15>0,+$AQ15*BE15*8.34,$K15*BE15*8.34))) | BG15: =+A15 -> 2 | BV15: =+A15 -> 2 | BX15: =IF(CELL("type",BW15)="L","",IF(BW15*($K15+$AQ15)=0,"",IF($AQ15>0,+$AQ15*BW15*8.34,$K15*BW15*8.34))) | BZ15: =IF(CELL("type",BY15)="L","",IF(BY15*($K15+$AQ15)=0,"",IF($AQ15>0,+$AQ15*BY15*8.34,$K15*BY15*8.34))) | CM15: =+T15 -> 2
A16: 3 | B16: =TEXT(J$5 + A16-1,"DDD") -> Sat | N16: =IF(CELL("type",M16)="L","",IF(M16*(K16+AQ16)=0,"",IF(K16>0,+K16*M16*8.34,AQ16*M16*8.34))) | P16: =IF(CELL("type",O16)="L","",IF(O16*($K16+$AQ16)=0,"",IF($K16>0,+$K16*O16*8.34,$AQ16*O16*8.34))) | T16: =+A16 -> 3 | Y16: =IF(W16*X16=0,"",IF(W16<100,W16*10000/X16,W16*1000/X16)) | AI16: =IF(CELL("type",AJ16)="b","",IF(AJ16="tntc",63200,IF(AJ16=0,1,AJ16))) | AO16: =+A16 -> 3 | AP16: =+B16 -> Sat | AU16: =IF(CELL("type",AS16)="L","",IF(AS16*($K16+$AQ16)=0,"",IF($AQ16>0,+$AQ16*AS16*8.34,$K16*AS16*8.34))) | AY16: =IF(CELL("type",AW16)="L","",IF(AW16*($K16+$AQ16)=0,"",IF($AQ16>0,+$AQ16*AW16*8.34,$K16*AW16*8.34))) | BC16: =IF(CELL("type",BA16)="L","",IF(BA16*($K16+$AQ16)=0,"",IF($AQ16>0,+$AQ16*BA16*8.34,$K16*BA16*8.34))) | BF16: =IF(CELL("type",BE16)="L","",IF(BE16*($K16+$AQ16)=0,"",IF($AQ16>0,+$AQ16*BE16*8.34,$K16*BE16*8.34))) | BG16: =+A16 -> 3 | BV16: =+A16 -> 3 | BX16: =IF(CELL("type",BW16)="L","",IF(BW16*($K16+$AQ16)=0,"",IF($AQ16>0,+$AQ16*BW16*8.34,$K16*BW16*8.34))) | BZ16: =IF(CELL("type",BY16)="L","",IF(BY16*($K16+$AQ16)=0,"",IF($AQ16>0,+$AQ16*BY16*8.34,$K16*BY16*8.34))) | CM16: =+T16 -> 3
A17: 4 | B17: =TEXT(J$5 + A17-1,"DDD") -> Sun | N17: =IF(CELL("type",M17)="L","",IF(M17*(K17+AQ17)=0,"",IF(K17>0,+K17*M17*8.34,AQ17*M17*8.34))) | P17: =IF(CELL("type",O17)="L","",IF(O17*($K17+$AQ17)=0,"",IF($K17>0,+$K17*O17*8.34,$AQ17*O17*8.34))) | T17: =+A17 -> 4 | Y17: =IF(W17*X17=0,"",IF(W17<100,W17*10000/X17,W17*1000/X17)) | AI17: =IF(CELL("type",AJ17)="b","",IF(AJ17="tntc",63200,IF(AJ17=0,1,AJ17))) | AO17: =+A17 -> 4 | AP17: =+B17 -> Sun | AR17: =IF(+$B17="Sat",IF(SUM(AQ11:AQ17)>0,AVERAGE(AQ11:AQ17)," "),"") | AT17: =IF(+$B17="Sat",IF(SUM(AS11:AS17)>0,AVERAGE(AS11:AS17)," "),"") | AU17: =IF(CELL("type",AS17)="L","",IF(AS17*($K17+$AQ17)=0,"",IF($AQ17>0,+$AQ17*AS17*8.34,$K17*AS17*8.34))) | AV17: =IF(+$B17="Sat",IF(SUM(AU11:AU17)>0,AVERAGE(AU11:AU17)," "),"") | AX17: =IF(+$B17="Sat",IF(SUM(AW11:AW17)>0,AVERAGE(AW11:AW17)," "),"") | AY17: =IF(CELL("type",AW17)="L","",IF(AW17*($K17+$AQ17)=0,"",IF($AQ17>0,+$AQ17*AW17*8.34,$K17*AW17*8.34))) | AZ17: =IF(+$B17="Sat",IF(SUM(AY11:AY17)>0,AVERAGE(AY11:AY17)," "),"") | BB17: =IF(+$B17="Sat",IF(SUM(BA11:BA17)>0,AVERAGE(BA11:BA17)," "),"") | BC17: =IF(CELL("type",BA17)="L","",IF(BA17*($K17+$AQ17)=0,"",IF($AQ17>0,+$AQ17*BA17*8.34,$K17*BA17*8.34))) | BD17: =IF(+$B17="Sat",IF(SUM(BC11:BC17)>0,AVERAGE(BC11:BC17)," "),"") | BF17: =IF(CELL("type",BE17)="L","",IF(BE17*($K17+$AQ17)=0,"",IF($AQ17>0,+$AQ17*BE17*8.34,$K17*BE17*8.34))) | BG17: =+A17 -> 4 | BV17: =+A17 -> 4 | BX17: =IF(CELL("type",BW17)="L","",IF(BW17*($K17+$AQ17)=0,"",IF($AQ17>0,+$AQ17*BW17*8.34,$K17*BW17*8.34))) | BZ17: =IF(CELL("type",BY17)="L","",IF(BY17*($K17+$AQ17)=0,"",IF($AQ17>0,+$AQ17*BY17*8.34,$K17*BY17*8.34))) | CM17: =+T17 -> 4
A18: 5 | B18: =TEXT(J$5 + A18-1,"DDD") -> Mon | N18: =IF(CELL("type",M18)="L","",IF(M18*(K18+AQ18)=0,"",IF(K18>0,+K18*M18*8.34,AQ18*M18*8.34))) | P18: =IF(CELL("type",O18)="L","",IF(O18*($K18+$AQ18)=0,"",IF($K18>0,+$K18*O18*8.34,$AQ18*O18*8.34))) | T18: =+A18 -> 5 | Y18: =IF(W18*X18=0,"",IF(W18<100,W18*10000/X18,W18*1000/X18)) | AI18: =IF(CELL("type",AJ18)="b","",IF(AJ18="tntc",63200,IF(AJ18=0,1,AJ18))) | AO18: =+A18 -> 5 | AP18: =+B18 -> Mon | AR18: =IF(+$B18="Sat",IF(SUM(AQ12:AQ18)>0,AVERAGE(AQ12:AQ18)," "),"") | AT18: =IF(+$B18="Sat",IF(SUM(AS12:AS18)>0,AVERAGE(AS12:AS18)," "),"") | AU18: =IF(CELL("type",AS18)="L","",IF(AS18*($K18+$AQ18)=0,"",IF($AQ18>0,+$AQ18*AS18*8.34,$K18*AS18*8.34))) | AV18: =IF(+$B18="Sat",IF(SUM(AU12:AU18)>0,AVERAGE(AU12:AU18)," "),"") | AX18: =IF(+$B18="Sat",IF(SUM(AW12:AW18)>0,AVERAGE(AW12:AW18)," "),"") | AY18: =IF(CELL("type",AW18)="L","",IF(AW18*($K18+$AQ18)=0,"",IF($AQ18>0,+$AQ18*AW18*8.34,$K18*AW18*8.34))) | AZ18: =IF(+$B18="Sat",IF(SUM(AY12:AY18)>0,AVERAGE(AY12:AY18)," "),"") | BB18: =IF(+$B18="Sat",IF(SUM(BA12:BA18)>0,AVERAGE(BA12:BA18)," "),"") | BC18: =IF(CELL("type",BA18)="L","",IF(BA18*($K18+$AQ18)=0,"",IF($AQ18>0,+$AQ18*BA18*8.34,$K18*BA18*8.34))) | BD18: =IF(+$B18="Sat",IF(SUM(BC12:BC18)>0,AVERAGE(BC12:BC18)," "),"") | BF18: =IF(CELL("type",BE18)="L","",IF(BE18*($K18+$AQ18)=0,"",IF($AQ18>0,+$AQ18*BE18*8.34,$K18*BE18*8.34))) | BG18: =+A18 -> 5 | BV18: =+A18 -> 5 | BX18: =IF(CELL("type",BW18)="L","",IF(BW18*($K18+$AQ18)=0,"",IF($AQ18>0,+$AQ18*BW18*8.34,$K18*BW18*8.34))) | BZ18: =IF(CELL("type",BY18)="L","",IF(BY18*($K18+$AQ18)=0,"",IF($AQ18>0,+$AQ18*BY18*8.34,$K18*BY18*8.34))) | CM18: =+T18 -> 5
A19: 6 | B19: =TEXT(J$5 + A19-1,"DDD") -> Tue | N19: =IF(CELL("type",M19)="L","",IF(M19*(K19+AQ19)=0,"",IF(K19>0,+K19*M19*8.34,AQ19*M19*8.34))) | P19: =IF(CELL("type",O19)="L","",IF(O19*($K19+$AQ19)=0,"",IF($K19>0,+$K19*O19*8.34,$AQ19*O19*8.34))) | T19: =+A19 -> 6 | Y19: =IF(W19*X19=0,"",IF(W19<100,W19*10000/X19,W19*1000/X19)) | AI19: =IF(CELL("type",AJ19)="b","",IF(AJ19="tntc",63200,IF(AJ19=0,1,AJ19))) | AO19: =+A19 -> 6 | AP19: =+B19 -> Tue | AR19: =IF(+$B19="Sat",IF(SUM(AQ13:AQ19)>0,AVERAGE(AQ13:AQ19)," "),"") | AT19: =IF(+$B19="Sat",IF(SUM(AS13:AS19)>0,AVERAGE(AS13:AS19)," "),"") | AU19: =IF(CELL("type",AS19)="L","",IF(AS19*($K19+$AQ19)=0,"",IF($AQ19>0,+$AQ19*AS19*8.34,$K19*AS19*8.34))) | AV19: =IF(+$B19="Sat",IF(SUM(AU13:AU19)>0,AVERAGE(AU13:AU19)," "),"") | AX19: =IF(+$B19="Sat",IF(SUM(AW13:AW19)>0,AVERAGE(AW13:AW19)," "),"") | AY19: =IF(CELL("type",AW19)="L","",IF(AW19*($K19+$AQ19)=0,"",IF($AQ19>0,+$AQ19*AW19*8.34,$K19*AW19*8.34))) | AZ19: =IF(+$B19="Sat",IF(SUM(AY13:AY19)>0,AVERAGE(AY13:AY19)," "),"") | BB19: =IF(+$B19="Sat",IF(SUM(BA13:BA19)>0,AVERAGE(BA13:BA19)," "),"") | BC19: =IF(CELL("type",BA19)="L","",IF(BA19*($K19+$AQ19)=0,"",IF($AQ19>0,+$AQ19*BA19*8.34,$K19*BA19*8.34))) | BD19: =IF(+$B19="Sat",IF(SUM(BC13:BC19)>0,AVERAGE(BC13:BC19)," "),"") | BF19: =IF(CELL("type",BE19)="L","",IF(BE19*($K19+$AQ19)=0,"",IF($AQ19>0,+$AQ19*BE19*8.34,$K19*BE19*8.34))) | BG19: =+A19 -> 6 | BV19: =+A19 -> 6 | BX19: =IF(CELL("type",BW19)="L","",IF(BW19*($K19+$AQ19)=0,"",IF($AQ19>0,+$AQ19*BW19*8.34,$K19*BW19*8.34))) | BZ19: =IF(CELL("type",BY19)="L","",IF(BY19*($K19+$AQ19)=0,"",IF($AQ19>0,+$AQ19*BY19*8.34,$K19*BY19*8.34))) | CM19: =+T19 -> 6
A20: 7 | B20: =TEXT(J$5 + A20-1,"DDD") -> Wed | N20: =IF(CELL("type",M20)="L","",IF(M20*(K20+AQ20)=0,"",IF(K20>0,+K20*M20*8.34,AQ20*M20*8.34))) | P20: =IF(CELL("type",O20)="L","",IF(O20*($K20+$AQ20)=0,"",IF($K20>0,+$K20*O20*8.34,$AQ20*O20*8.34))) | T20: =+A20 -> 7 | Y20: =IF(W20*X20=0,"",IF(W20<100,W20*10000/X20,W20*1000/X20)) | AI20: =IF(CELL("type",AJ20)="b","",IF(AJ20="tntc",63200,IF(AJ20=0,1,AJ20))) | AO20: =+A20 -> 7 | AP20: =+B20 -> Wed | AR20: =IF(+$B20="Sat",IF(SUM(AQ14:AQ20)>0,AVERAGE(AQ14:AQ20)," "),"") | AT20: =IF(+$B20="Sat",IF(SUM(AS14:AS20)>0,AVERAGE(AS14:AS20)," "),"") | AU20: =IF(CELL("type",AS20)="L","",IF(AS20*($K20+$AQ20)=0,"",IF($AQ20>0,+$AQ20*AS20*8.34,$K20*AS20*8.34))) | AV20: =IF(+$B20="Sat",IF(SUM(AU14:AU20)>0,AVERAGE(AU14:AU20)," "),"") | AX20: =IF(+$B20="Sat",IF(SUM(AW14:AW20)>0,AVERAGE(AW14:AW20)," "),"") | AY20: =IF(CELL("type",AW20)="L","",IF(AW20*($K20+$AQ20)=0,"",IF($AQ20>0,+$AQ20*AW20*8.34,$K20*AW20*8.34))) | AZ20: =IF(+$B20="Sat",IF(SUM(AY14:AY20)>0,AVERAGE(AY14:AY20)," "),"") | BB20: =IF(+$B20="Sat",IF(SUM(BA14:BA20)>0,AVERAGE(BA14:BA20)," "),"") | BC20: =IF(CELL("type",BA20)="L","",IF(BA20*($K20+$AQ20)=0,"",IF($AQ20>0,+$AQ20*BA20*8.34,$K20*BA20*8.34))) | BD20: =IF(+$B20="Sat",IF(SUM(BC14:BC20)>0,AVERAGE(BC14:BC20)," "),"") | BF20: =IF(CELL("type",BE20)="L","",IF(BE20*($K20+$AQ20)=0,"",IF($AQ20>0,+$AQ20*BE20*8.34,$K20*BE20*8.34))) | BG20: =+A20 -> 7 | BV20: =+A20 -> 7 | BX20: =IF(CELL("type",BW20)="L","",IF(BW20*($K20+$AQ20)=0,"",IF($AQ20>0,+$AQ20*BW20*8.34,$K20*BW20*8.34))) | BZ20: =IF(CELL("type",BY20)="L","",IF(BY20*($K20+$AQ20)=0,"",IF($AQ20>0,+$AQ20*BY20*8.34,$K20*BY20*8.34))) | CM20: =+T20 -> 7
A21: 8 | B21: =TEXT(J$5 + A21-1,"DDD") -> Thu | N21: =IF(CELL("type",M21)="L","",IF(M21*(K21+AQ21)=0,"",IF(K21>0,+K21*M21*8.34,AQ21*M21*8.34))) | P21: =IF(CELL("type",O21)="L","",IF(O21*($K21+$AQ21)=0,"",IF($K21>0,+$K21*O21*8.34,$AQ21*O21*8.34))) | T21: =+A21 -> 8 | Y21: =IF(W21*X21=0,"",IF(W21<100,W21*10000/X21,W21*1000/X21)) | AI21: =IF(CELL("type",AJ21)="b","",IF(AJ21="tntc",63200,IF(AJ21=0,1,AJ21))) | AO21: =+A21 -> 8 | AP21: =+B21 -> Thu | AR21: =IF(+$B21="Sat",IF(SUM(AQ15:AQ21)>0,AVERAGE(AQ15:AQ21)," "),"") | AT21: =IF(+$B21="Sat",IF(SUM(AS15:AS21)>0,AVERAGE(AS15:AS21)," "),"") | AU21: =IF(CELL("type",AS21)="L","",IF(AS21*($K21+$AQ21)=0,"",IF($AQ21>0,+$AQ21*AS21*8.34,$K21*AS21*8.34))) | AV21: =IF(+$B21="Sat",IF(SUM(AU15:AU21)>0,AVERAGE(AU15:AU21)," "),"") | AX21: =IF(+$B21="Sat",IF(SUM(AW15:AW21)>0,AVERAGE(AW15:AW21)," "),"") | AY21: =IF(CELL("type",AW21)="L","",IF(AW21*($K21+$AQ21)=0,"",IF($AQ21>0,+$AQ21*AW21*8.34,$K21*AW21*8.34))) | AZ21: =IF(+$B21="Sat",IF(SUM(AY15:AY21)>0,AVERAGE(AY15:AY21)," "),"") | BB21: =IF(+$B21="Sat",IF(SUM(BA15:BA21)>0,AVERAGE(BA15:BA21)," "),"") | BC21: =IF(CELL("type",BA21)="L","",IF(BA21*($K21+$AQ21)=0,"",IF($AQ21>0,+$AQ21*BA21*8.34,$K21*BA21*8.34))) | BD21: =IF(+$B21="Sat",IF(SUM(BC15:BC21)>0,AVERAGE(BC15:BC21)," "),"") | BF21: =IF(CELL("type",BE21)="L","",IF(BE21*($K21+$AQ21)=0,"",IF($AQ21>0,+$AQ21*BE21*8.34,$K21*BE21*8.34))) | BG21: =+A21 -> 8 | BV21: =+A21 -> 8 | BX21: =IF(CELL("type",BW21)="L","",IF(BW21*($K21+$AQ21)=0,"",IF($AQ21>0,+$AQ21*BW21*8.34,$K21*BW21*8.34))) | BZ21: =IF(CELL("type",BY21)="L","",IF(BY21*($K21+$AQ21)=0,"",IF($AQ21>0,+$AQ21*BY21*8.34,$K21*BY21*8.34))) | CM21: =+T21 -> 8
A22: 9 | B22: =TEXT(J$5 + A22-1,"DDD") -> Fri | N22: =IF(CELL("type",M22)="L","",IF(M22*(K22+AQ22)=0,"",IF(K22>0,+K22*M22*8.34,AQ22*M22*8.34))) | P22: =IF(CELL("type",O22)="L","",IF(O22*($K22+$AQ22)=0,"",IF($K22>0,+$K22*O22*8.34,$AQ22*O22*8.34))) | T22: =+A22 -> 9 | Y22: =IF(W22*X22=0,"",IF(W22<100,W22*10000/X22,W22*1000/X22)) | AI22: =IF(CELL("type",AJ22)="b","",IF(AJ22="tntc",63200,IF(AJ22=0,1,AJ22))) | AO22: =+A22 -> 9 | AP22: =+B22 -> Fri | AR22: =IF(+$B22="Sat",IF(SUM(AQ16:AQ22)>0,AVERAGE(AQ16:AQ22)," "),"") | AT22: =IF(+$B22="Sat",IF(SUM(AS16:AS22)>0,AVERAGE(AS16:AS22)," "),"") | AU22: =IF(CELL("type",AS22)="L","",IF(AS22*($K22+$AQ22)=0,"",IF($AQ22>0,+$AQ22*AS22*8.34,$K22*AS22*8.34))) | AV22: =IF(+$B22="Sat",IF(SUM(AU16:AU22)>0,AVERAGE(AU16:AU22)," "),"") | AX22: =IF(+$B22="Sat",IF(SUM(AW16:AW22)>0,AVERAGE(AW16:AW22)," "),"") | AY22: =IF(CELL("type",AW22)="L","",IF(AW22*($K22+$AQ22)=0,"",IF($AQ22>0,+$AQ22*AW22*8.34,$K22*AW22*8.34))) | AZ22: =IF(+$B22="Sat",IF(SUM(AY16:AY22)>0,AVERAGE(AY16:AY22)," "),"") | BB22: =IF(+$B22="Sat",IF(SUM(BA16:BA22)>0,AVERAGE(BA16:BA22)," "),"") | BC22: =IF(CELL("type",BA22)="L","",IF(BA22*($K22+$AQ22)=0,"",IF($AQ22>0,+$AQ22*BA22*8.34,$K22*BA22*8.34))) | BD22: =IF(+$B22="Sat",IF(SUM(BC16:BC22)>0,AVERAGE(BC16:BC22)," "),"") | BF22: =IF(CELL("type",BE22)="L","",IF(BE22*($K22+$AQ22)=0,"",IF($AQ22>0,+$AQ22*BE22*8.34,$K22*BE22*8.34))) | BG22: =+A22 -> 9 | BV22: =+A22 -> 9 | BX22: =IF(CELL("type",BW22)="L","",IF(BW22*($K22+$AQ22)=0,"",IF($AQ22>0,+$AQ22*BW22*8.34,$K22*BW22*8.34))) | BZ22: =IF(CELL("type",BY22)="L","",IF(BY22*($K22+$AQ22)=0,"",IF($AQ22>0,+$AQ22*BY22*8.34,$K22*BY22*8.34))) | CM22: =+T22 -> 9
A23: 10 | B23: =TEXT(J$5 + A23-1,"DDD") -> Sat | N23: =IF(CELL("type",M23)="L","",IF(M23*(K23+AQ23)=0,"",IF(K23>0,+K23*M23*8.34,AQ23*M23*8.34))) | P23: =IF(CELL("type",O23)="L","",IF(O23*($K23+$AQ23)=0,"",IF($K23>0,+$K23*O23*8.34,$AQ23*O23*8.34))) | T23: =+A23 -> 10 | Y23: =IF(W23*X23=0,"",IF(W23<100,W23*10000/X23,W23*1000/X23)) | AI23: =IF(CELL("type",AJ23)="b","",IF(AJ23="tntc",63200,IF(AJ23=0,1,AJ23))) | AO23: =+A23 -> 10 | AP23: =+B23 -> Sat | AR23: =IF(+$B23="Sat",IF(SUM(AQ17:AQ23)>0,AVERAGE(AQ17:AQ23)," "),"") | AT23: =IF(+$B23="Sat",IF(SUM(AS17:AS23)>0,AVERAGE(AS17:AS23)," "),"") | AU23: =IF(CELL("type",AS23)="L","",IF(AS23*($K23+$AQ23)=0,"",IF($AQ23>0,+$AQ23*AS23*8.34,$K23*AS23*8.34))) | AV23: =IF(+$B23="Sat",IF(SUM(AU17:AU23)>0,AVERAGE(AU17:AU23)," "),"") | AX23: =IF(+$B23="Sat",IF(SUM(AW17:AW23)>0,AVERAGE(AW17:AW23)," "),"") | AY23: =IF(CELL("type",AW23)="L","",IF(AW23*($K23+$AQ23)=0,"",IF($AQ23>0,+$AQ23*AW23*8.34,$K23*AW23*8.34))) | AZ23: =IF(+$B23="Sat",IF(SUM(AY17:AY23)>0,AVERAGE(AY17:AY23)," "),"") | BB23: =IF(+$B23="Sat",IF(SUM(BA17:BA23)>0,AVERAGE(BA17:BA23)," "),"") | BC23: =IF(CELL("type",BA23)="L","",IF(BA23*($K23+$AQ23)=0,"",IF($AQ23>0,+$AQ23*BA23*8.34,$K23*BA23*8.34))) | BD23: =IF(+$B23="Sat",IF(SUM(BC17:BC23)>0,AVERAGE(BC17:BC23)," "),"") | BF23: =IF(CELL("type",BE23)="L","",IF(BE23*($K23+$AQ23)=0,"",IF($AQ23>0,+$AQ23*BE23*8.34,$K23*BE23*8.34))) | BG23: =+A23 -> 10 | BV23: =+A23 -> 10 | BX23: =IF(CELL("type",BW23)="L","",IF(BW23*($K23+$AQ23)=0,"",IF($AQ23>0,+$AQ23*BW23*8.34,$K23*BW23*8.34))) | BZ23: =IF(CELL("type",BY23)="L","",IF(BY23*($K23+$AQ23)=0,"",IF($AQ23>0,+$AQ23*BY23*8.34,$K23*BY23*8.34))) | CM23: =+T23 -> 10
A24: 11 | B24: =TEXT(J$5 + A24-1,"DDD") -> Sun | N24: =IF(CELL("type",M24)="L","",IF(M24*(K24+AQ24)=0,"",IF(K24>0,+K24*M24*8.34,AQ24*M24*8.34))) | P24: =IF(CELL("type",O24)="L","",IF(O24*($K24+$AQ24)=0,"",IF($K24>0,+$K24*O24*8.34,$AQ24*O24*8.34))) | T24: =+A24 -> 11 | Y24: =IF(W24*X24=0,"",IF(W24<100,W24*10000/X24,W24*1000/X24)) | AI24: =IF(CELL("type",AJ24)="b","",IF(AJ24="tntc",63200,IF(AJ24=0,1,AJ24))) | AO24: =+A24 -> 11 | AP24: =+B24 -> Sun | AR24: =IF(+$B24="Sat",IF(SUM(AQ18:AQ24)>0,AVERAGE(AQ18:AQ24)," "),"") | AT24: =IF(+$B24="Sat",IF(SUM(AS18:AS24)>0,AVERAGE(AS18:AS24)," "),"") | AU24: =IF(CELL("type",AS24)="L","",IF(AS24*($K24+$AQ24)=0,"",IF($AQ24>0,+$AQ24*AS24*8.34,$K24*AS24*8.34))) | AV24: =IF(+$B24="Sat",IF(SUM(AU18:AU24)>0,AVERAGE(AU18:AU24)," "),"") | AX24: =IF(+$B24="Sat",IF(SUM(AW18:AW24)>0,AVERAGE(AW18:AW24)," "),"") | AY24: =IF(CELL("type",AW24)="L","",IF(AW24*($K24+$AQ24)=0,"",IF($AQ24>0,+$AQ24*AW24*8.34,$K24*AW24*8.34))) | AZ24: =IF(+$B24="Sat",IF(SUM(AY18:AY24)>0,AVERAGE(AY18:AY24)," "),"") | BB24: =IF(+$B24="Sat",IF(SUM(BA18:BA24)>0,AVERAGE(BA18:BA24)," "),"") | BC24: =IF(CELL("type",BA24)="L","",IF(BA24*($K24+$AQ24)=0,"",IF($AQ24>0,+$AQ24*BA24*8.34,$K24*BA24*8.34))) | BD24: =IF(+$B24="Sat",IF(SUM(BC18:BC24)>0,AVERAGE(BC18:BC24)," "),"") | BF24: =IF(CELL("type",BE24)="L","",IF(BE24*($K24+$AQ24)=0,"",IF($AQ24>0,+$AQ24*BE24*8.34,$K24*BE24*8.34))) | BG24: =+A24 -> 11 | BV24: =+A24 -> 11 | BX24: =IF(CELL("type",BW24)="L","",IF(BW24*($K24+$AQ24)=0,"",IF($AQ24>0,+$AQ24*BW24*8.34,$K24*BW24*8.34))) | BZ24: =IF(CELL("type",BY24)="L","",IF(BY24*($K24+$AQ24)=0,"",IF($AQ24>0,+$AQ24*BY24*8.34,$K24*BY24*8.34))) | CM24: =+T24 -> 11
A25: 12 | B25: =TEXT(J$5 + A25-1,"DDD") -> Mon | N25: =IF(CELL("type",M25)="L","",IF(M25*(K25+AQ25)=0,"",IF(K25>0,+K25*M25*8.34,AQ25*M25*8.34))) | P25: =IF(CELL("type",O25)="L","",IF(O25*($K25+$AQ25)=0,"",IF($K25>0,+$K25*O25*8.34,$AQ25*O25*8.34))) | T25: =+A25 -> 12 | Y25: =IF(W25*X25=0,"",IF(W25<100,W25*10000/X25,W25*1000/X25)) | AI25: =IF(CELL("type",AJ25)="b","",IF(AJ25="tntc",63200,IF(AJ25=0,1,AJ25))) | AO25: =+A25 -> 12 | AP25: =+B25 -> Mon | AR25: =IF(+$B25="Sat",IF(SUM(AQ19:AQ25)>0,AVERAGE(AQ19:AQ25)," "),"") | AT25: =IF(+$B25="Sat",IF(SUM(AS19:AS25)>0,AVERAGE(AS19:AS25)," "),"") | AU25: =IF(CELL("type",AS25)="L","",IF(AS25*($K25+$AQ25)=0,"",IF($AQ25>0,+$AQ25*AS25*8.34,$K25*AS25*8.34))) | AV25: =IF(+$B25="Sat",IF(SUM(AU19:AU25)>0,AVERAGE(AU19:AU25)," "),"") | AX25: =IF(+$B25="Sat",IF(SUM(AW19:AW25)>0,AVERAGE(AW19:AW25)," "),"") | AY25: =IF(CELL("type",AW25)="L","",IF(AW25*($K25+$AQ25)=0,"",IF($AQ25>0,+$AQ25*AW25*8.34,$K25*AW25*8.34))) | AZ25: =IF(+$B25="Sat",IF(SUM(AY19:AY25)>0,AVERAGE(AY19:AY25)," "),"") | BB25: =IF(+$B25="Sat",IF(SUM(BA19:BA25)>0,AVERAGE(BA19:BA25)," "),"") | BC25: =IF(CELL("type",BA25)="L","",IF(BA25*($K25+$AQ25)=0,"",IF($AQ25>0,+$AQ25*BA25*8.34,$K25*BA25*8.34))) | BD25: =IF(+$B25="Sat",IF(SUM(BC19:BC25)>0,AVERAGE(BC19:BC25)," "),"") | BF25: =IF(CELL("type",BE25)="L","",IF(BE25*($K25+$AQ25)=0,"",IF($AQ25>0,+$AQ25*BE25*8.34,$K25*BE25*8.34))) | BG25: =+A25 -> 12 | BV25: =+A25 -> 12 | BX25: =IF(CELL("type",BW25)="L","",IF(BW25*($K25+$AQ25)=0,"",IF($AQ25>0,+$AQ25*BW25*8.34,$K25*BW25*8.34))) | BZ25: =IF(CELL("type",BY25)="L","",IF(BY25*($K25+$AQ25)=0,"",IF($AQ25>0,+$AQ25*BY25*8.34,$K25*BY25*8.34))) | CM25: =+T25 -> 12
A26: 13 | B26: =TEXT(J$5 + A26-1,"DDD") -> Tue | N26: =IF(CELL("type",M26)="L","",IF(M26*(K26+AQ26)=0,"",IF(K26>0,+K26*M26*8.34,AQ26*M26*8.34))) | P26: =IF(CELL("type",O26)="L","",IF(O26*($K26+$AQ26)=0,"",IF($K26>0,+$K26*O26*8.34,$AQ26*O26*8.34))) | T26: =+A26 -> 13 | Y26: =IF(W26*X26=0,"",IF(W26<100,W26*10000/X26,W26*1000/X26)) | AI26: =IF(CELL("type",AJ26)="b","",IF(AJ26="tntc",63200,IF(AJ26=0,1,AJ26))) | AO26: =+A26 -> 13 | AP26: =+B26 -> Tue | AR26: =IF(+$B26="Sat",IF(SUM(AQ20:AQ26)>0,AVERAGE(AQ20:AQ26)," "),"") | AT26: =IF(+$B26="Sat",IF(SUM(AS20:AS26)>0,AVERAGE(AS20:AS26)," "),"") | AU26: =IF(CELL("type",AS26)="L","",IF(AS26*($K26+$AQ26)=0,"",IF($AQ26>0,+$AQ26*AS26*8.34,$K26*AS26*8.34))) | AV26: =IF(+$B26="Sat",IF(SUM(AU20:AU26)>0,AVERAGE(AU20:AU26)," "),"") | AX26: =IF(+$B26="Sat",IF(SUM(AW20:AW26)>0,AVERAGE(AW20:AW26)," "),"") | AY26: =IF(CELL("type",AW26)="L","",IF(AW26*($K26+$AQ26)=0,"",IF($AQ26>0,+$AQ26*AW26*8.34,$K26*AW26*8.34))) | AZ26: =IF(+$B26="Sat",IF(SUM(AY20:AY26)>0,AVERAGE(AY20:AY26)," "),"") | BB26: =IF(+$B26="Sat",IF(SUM(BA20:BA26)>0,AVERAGE(BA20:BA26)," "),"") | BC26: =IF(CELL("type",BA26)="L","",IF(BA26*($K26+$AQ26)=0,"",IF($AQ26>0,+$AQ26*BA26*8.34,$K26*BA26*8.34))) | BD26: =IF(+$B26="Sat",IF(SUM(BC20:BC26)>0,AVERAGE(BC20:BC26)," "),"") | BF26: =IF(CELL("type",BE26)="L","",IF(BE26*($K26+$AQ26)=0,"",IF($AQ26>0,+$AQ26*BE26*8.34,$K26*BE26*8.34))) | BG26: =+A26 -> 13 | BV26: =+A26 -> 13 | BX26: =IF(CELL("type",BW26)="L","",IF(BW26*($K26+$AQ26)=0,"",IF($AQ26>0,+$AQ26*BW26*8.34,$K26*BW26*8.34))) | BZ26: =IF(CELL("type",BY26)="L","",IF(BY26*($K26+$AQ26)=0,"",IF($AQ26>0,+$AQ26*BY26*8.34,$K26*BY26*8.34))) | CM26: =+T26 -> 13
A27: 14 | B27: =TEXT(J$5 + A27-1,"DDD") -> Wed | N27: =IF(CELL("type",M27)="L","",IF(M27*(K27+AQ27)=0,"",IF(K27>0,+K27*M27*8.34,AQ27*M27*8.34))) | P27: =IF(CELL("type",O27)="L","",IF(O27*($K27+$AQ27)=0,"",IF($K27>0,+$K27*O27*8.34,$AQ27*O27*8.34))) | T27: =+A27 -> 14 | Y27: =IF(W27*X27=0,"",IF(W27<100,W27*10000/X27,W27*1000/X27)) | AI27: =IF(CELL("type",AJ27)="b","",IF(AJ27="tntc",63200,IF(AJ27=0,1,AJ27))) | AO27: =+A27 -> 14 | AP27: =+B27 -> Wed | AR27: =IF(+$B27="Sat",IF(SUM(AQ21:AQ27)>0,AVERAGE(AQ21:AQ27)," "),"") | AT27: =IF(+$B27="Sat",IF(SUM(AS21:AS27)>0,AVERAGE(AS21:AS27)," "),"") | AU27: =IF(CELL("type",AS27)="L","",IF(AS27*($K27+$AQ27)=0,"",IF($AQ27>0,+$AQ27*AS27*8.34,$K27*AS27*8.34))) | AV27: =IF(+$B27="Sat",IF(SUM(AU21:AU27)>0,AVERAGE(AU21:AU27)," "),"") | AX27: =IF(+$B27="Sat",IF(SUM(AW21:AW27)>0,AVERAGE(AW21:AW27)," "),"") | AY27: =IF(CELL("type",AW27)="L","",IF(AW27*($K27+$AQ27)=0,"",IF($AQ27>0,+$AQ27*AW27*8.34,$K27*AW27*8.34))) | AZ27: =IF(+$B27="Sat",IF(SUM(AY21:AY27)>0,AVERAGE(AY21:AY27)," "),"") | BB27: =IF(+$B27="Sat",IF(SUM(BA21:BA27)>0,AVERAGE(BA21:BA27)," "),"") | BC27: =IF(CELL("type",BA27)="L","",IF(BA27*($K27+$AQ27)=0,"",IF($AQ27>0,+$AQ27*BA27*8.34,$K27*BA27*8.34))) | BD27: =IF(+$B27="Sat",IF(SUM(BC21:BC27)>0,AVERAGE(BC21:BC27)," "),"") | BF27: =IF(CELL("type",BE27)="L","",IF(BE27*($K27+$AQ27)=0,"",IF($AQ27>0,+$AQ27*BE27*8.34,$K27*BE27*8.34))) | BG27: =+A27 -> 14 | BV27: =+A27 -> 14 | BX27: =IF(CELL("type",BW27)="L","",IF(BW27*($K27+$AQ27)=0,"",IF($AQ27>0,+$AQ27*BW27*8.34,$K27*BW27*8.34))) | BZ27: =IF(CELL("type",BY27)="L","",IF(BY27*($K27+$AQ27)=0,"",IF($AQ27>0,+$AQ27*BY27*8.34,$K27*BY27*8.34))) | CM27: =+T27 -> 14
A28: 15 | B28: =TEXT(J$5 + A28-1,"DDD") -> Thu | N28: =IF(CELL("type",M28)="L","",IF(M28*(K28+AQ28)=0,"",IF(K28>0,+K28*M28*8.34,AQ28*M28*8.34))) | P28: =IF(CELL("type",O28)="L","",IF(O28*($K28+$AQ28)=0,"",IF($K28>0,+$K28*O28*8.34,$AQ28*O28*8.34))) | T28: =+A28 -> 15 | Y28: =IF(W28*X28=0,"",IF(W28<100,W28*10000/X28,W28*1000/X28)) | AI28: =IF(CELL("type",AJ28)="b","",IF(AJ28="tntc",63200,IF(AJ28=0,1,AJ28))) | AO28: =+A28 -> 15 | AP28: =+B28 -> Thu | AR28: =IF(+$B28="Sat",IF(SUM(AQ22:AQ28)>0,AVERAGE(AQ22:AQ28)," "),"") | AT28: =IF(+$B28="Sat",IF(SUM(AS22:AS28)>0,AVERAGE(AS22:AS28)," "),"") | AU28: =IF(CELL("type",AS28)="L","",IF(AS28*($K28+$AQ28)=0,"",IF($AQ28>0,+$AQ28*AS28*8.34,$K28*AS28*8.34))) | AV28: =IF(+$B28="Sat",IF(SUM(AU22:AU28)>0,AVERAGE(AU22:AU28)," "),"") | AX28: =IF(+$B28="Sat",IF(SUM(AW22:AW28)>0,AVERAGE(AW22:AW28)," "),"") | AY28: =IF(CELL("type",AW28)="L","",IF(AW28*($K28+$AQ28)=0,"",IF($AQ28>0,+$AQ28*AW28*8.34,$K28*AW28*8.34))) | AZ28: =IF(+$B28="Sat",IF(SUM(AY22:AY28)>0,AVERAGE(AY22:AY28)," "),"") | BB28: =IF(+$B28="Sat",IF(SUM(BA22:BA28)>0,AVERAGE(BA22:BA28)," "),"") | BC28: =IF(CELL("type",BA28)="L","",IF(BA28*($K28+$AQ28)=0,"",IF($AQ28>0,+$AQ28*BA28*8.34,$K28*BA28*8.34))) | BD28: =IF(+$B28="Sat",IF(SUM(BC22:BC28)>0,AVERAGE(BC22:BC28)," "),"") | BF28: =IF(CELL("type",BE28)="L","",IF(BE28*($K28+$AQ28)=0,"",IF($AQ28>0,+$AQ28*BE28*8.34,$K28*BE28*8.34))) | BG28: =+A28 -> 15 | BV28: =+A28 -> 15 | BX28: =IF(CELL("type",BW28)="L","",IF(BW28*($K28+$AQ28)=0,"",IF($AQ28>0,+$AQ28*BW28*8.34,$K28*BW28*8.34))) | BZ28: =IF(CELL("type",BY28)="L","",IF(BY28*($K28+$AQ28)=0,"",IF($AQ28>0,+$AQ28*BY28*8.34,$K28*BY28*8.34))) | CM28: =+T28 -> 15
... A43: 30 | B43: =TEXT(J$5 + A43-1,"DDD") -> Fri | N43: =IF(CELL("type",M43)="L","",IF(M43*(K43+AQ43)=0,"",IF(K43>0,+K43*M43*8.34,AQ43*M43*8.34))) | P43: =IF(CELL("type",O43)="L","",IF(O43*($K43+$AQ43)=0,"",IF($K43>0,+$K43*O43*8.34,$AQ43*O43*8.34))) | T43: =+A43 -> 30 | Y43: =IF(W43*X43=0,"",IF(W43<100,W43*10000/X43,W43*1000/X43)) | AI43: =IF(CELL("type",AJ43)="b","",IF(AJ43="tntc",63200,IF(AJ43=0,1,AJ43))) | AO43: =+A43 -> 30 | AP43: =+B43 -> Fri | AR43: =IF(+$B43="Sat",IF(SUM(AQ37:AQ43)>0,AVERAGE(AQ37:AQ43)," "),"") | AT43: =IF(+$B43="Sat",IF(SUM(AS37:AS43)>0,AVERAGE(AS37:AS43)," "),"") | AU43: =IF(CELL("type",AS43)="L","",IF(AS43*($K43+$AQ43)=0,"",IF($AQ43>0,+$AQ43*AS43*8.34,$K43*AS43*8.34))) | AV43: =IF(+$B43="Sat",IF(SUM(AU37:AU43)>0,AVERAGE(AU37:AU43)," "),"") | AX43: =IF(+$B43="Sat",IF(SUM(AW37:AW43)>0,AVERAGE(AW37:AW43)," "),"") | AY43: =IF(CELL("type",AW43)="L","",IF(AW43*($K43+$AQ43)=0,"",IF($AQ43>0,+$AQ43*AW43*8.34,$K43*AW43*8.34))) | AZ43: =IF(+$B43="Sat",IF(SUM(AY37:AY43)>0,AVERAGE(AY37:AY43)," "),"") | BB43: =IF(+$B43="Sat",IF(SUM(BA37:BA43)>0,AVERAGE(BA37:BA43)," "),"") | BC43: =IF(CELL("type",BA43)="L","",IF(BA43*($K43+$AQ43)=0,"",IF($AQ43>0,+$AQ43*BA43*8.34,$K43*BA43*8.34))) | BD43: =IF(+$B43="Sat",IF(SUM(BC37:BC43)>0,AVERAGE(BC37:BC43)," "),"") | BF43: =IF(CELL("type",BE43)="L","",IF(BE43*($K43+$AQ43)=0,"",IF($AQ43>0,+$AQ43*BE43*8.34,$K43*BE43*8.34))) | BG43: =+A43 -> 30 | BV43: =+A43 -> 30 | BX43: =IF(CELL("type",BW43)="L","",IF(BW43*($K43+$AQ43)=0,"",IF($AQ43>0,+$AQ43*BW43*8.34,$K43*BW43*8.34))) | BZ43: =IF(CELL("type",BY43)="L","",IF(BY43*($K43+$AQ43)=0,"",IF($AQ43>0,+$AQ43*BY43*8.34,$K43*BY43*8.34))) | CM43: =+T43 -> 30
A44: 31 | B44: =TEXT(J$5 + A44-1,"DDD") -> Sat | N44: =IF(CELL("type",M44)="L","",IF(M44*(K44+AQ44)=0,"",IF(K44>0,+K44*M44*8.34,AQ44*M44*8.34))) | P44: =IF(CELL("type",O44)="L","",IF(O44*($K44+$AQ44)=0,"",IF($K44>0,+$K44*O44*8.34,$AQ44*O44*8.34))) | T44: =+A44 -> 31 | Y44: =IF(W44*X44=0,"",IF(W44<100,W44*10000/X44,W44*1000/X44)) | AI44: =IF(CELL("type",AJ44)="b","",IF(AJ44="tntc",63200,IF(AJ44=0,1,AJ44))) | AO44: =+A44 -> 31 | AP44: =+B44 -> Sat | AR44: =IF(SUM(AQ38:AQ44)=0,"",IF(+$B44="Sat",AVERAGE(AQ38:AQ44),IF(+$B44="Fri",AVERAGE(AQ39:AQ44,Feb!AQ$11),IF(+$B44="Thu",AVERAGE(AQ40:AQ44,Feb!AQ$11:AQ$12),IF(+$B44="Wed",AVERAGE(AQ41:AQ44,Feb!AQ$11:AQ$13)," "))))) | AT44: =IF(AND(+$B44="Sat",SUM(AS38:AS44)>0),AVERAGE(AS38:AS44),IF(AND(+$B44="Fri",SUM(AS39:AS44,Feb!AS$11)>0),AVERAGE(AS39:AS44,Feb!AS$11),IF(AND(+$B44="Thu",SUM(AS40:AS44,Feb!AS$11:AS$12)>0),AVERAGE(AS40:AS44,Feb!AS$11:AS$12),IF(AND($B44="Wed",SUM(AS41:AS44,Feb!AS$11:AS$13)>0),AVERAGE(AS41:AS44,Feb!AS$11:AS$13),"")))) | AU44: =IF(CELL("type",AS44)="L","",IF(AS44*($K44+$AQ44)=0,"",IF($AQ44>0,+$AQ44*AS44*8.34,$K44*AS44*8.34))) | AV44: =IF(AND(+$B44="Sat",SUM(AU38:AU44)>0),AVERAGE(AU38:AU44),IF(AND(+$B44="Fri",SUM(AU39:AU44,Feb!AU$11)>0),AVERAGE(AU39:AU44,Feb!AU$11),IF(AND(+$B44="Thu",SUM(AU40:AU44,Feb!AU$11:AU$12)>0),AVERAGE(AU40:AU44,Feb!AU$11:AU$12),IF(AND($B44="Wed",SUM(AU41:AU44,Feb!AU$11:AU$13)>0),AVERAGE(AU41:AU44,Feb!AU$11:AU$13),"")))) | AX44: =IF(AND(+$B44="Sat",SUM(AW38:AW44)>0),AVERAGE(AW38:AW44),IF(AND(+$B44="Fri",SUM(AW39:AW44,Feb!AW$11)>0),AVERAGE(AW39:AW44,Feb!AW$11),IF(AND(+$B44="Thu",SUM(AW40:AW44,Feb!AW$11:AW$12)>0),AVERAGE(AW40:AW44,Feb!AW$11:AW$12),IF(AND($B44="Wed",SUM(AW41:AW44,Feb!AW$11:AW$13)>0),AVERAGE(AW41:AW44,Feb!AW$11:AW$13),"")))) | AY44: =IF(CELL("type",AW44)="L","",IF(AW44*($K44+$AQ44)=0,"",IF($AQ44>0,+$AQ44*AW44*8.34,$K44*AW44*8.34))) | AZ44: =IF(AND(+$B44="Sat",SUM(AY38:AY44)>0),AVERAGE(AY38:AY44),IF(AND(+$B44="Fri",SUM(AY39:AY44,Feb!AY$11)>0),AVERAGE(AY39:AY44,Feb!AY$11),IF(AND(+$B44="Thu",SUM(AY40:AY44,Feb!AY$11:AY$12)>0),AVERAGE(AY40:AY44,Feb!AY$11:AY$12),IF(AND($B44="Wed",SUM(AY41:AY44,Feb!AY$11:AY$13)>0),AVERAGE(AY41:AY44,Feb!AY$11:AY$13),"")))) | BB44: =IF(AND(+$B44="Sat",SUM(BA38:BA44)>0),AVERAGE(BA38:BA44),IF(AND(+$B44="Fri",SUM(BA39:BA44,Feb!BA$11)>0),AVERAGE(BA39:BA44,Feb!BA$11),IF(AND(+$B44="Thu",SUM(BA40:BA44,Feb!BA$11:BA$12)>0),AVERAGE(BA40:BA44,Feb!BA$11:BA$12),IF(AND($B44="Wed",SUM(BA41:BA44,Feb!BA$11:BA$13)>0),AVERAGE(BA41:BA44,Feb!BA$11:BA$13),"")))) | BC44: =IF(CELL("type",BA44)="L","",IF(BA44*($K44+$AQ44)=0,"",IF($AQ44>0,+$AQ44*BA44*8.34,$K44*BA44*8.34))) | BD44: =IF(AND(+$B44="Sat",SUM(BC38:BC44)>0),AVERAGE(BC38:BC44),IF(AND(+$B44="Fri",SUM(BC39:BC44,Feb!BC$11)>0),AVERAGE(BC39:BC44,Feb!BC$11),IF(AND(+$B44="Thu",SUM(BC40:BC44,Feb!BC$11:BC$12)>0),AVERAGE(BC40:BC44,Feb!BC$11:BC$12),IF(AND($B44="Wed",SUM(BC41:BC44,Feb!BC$11:BC$13)>0),AVERAGE(BC41:BC44,Feb!BC$11:BC$13),"")))) | BF44: =IF(CELL("type",BE44)="L","",IF(BE44*($K44+$AQ44)=0,"",IF($AQ44>0,+$AQ44*BE44*8.34,$K44*BE44*8.34))) | BG44: =+A44 -> 31 | BV44: =+A44 -> 31 | BX44: =IF(CELL("type",BW44)="L","",IF(BW44*($K44+$AQ44)=0,"",IF($AQ44>0,+$AQ44*BW44*8.34,$K44*BW44*8.34))) | BZ44: =IF(CELL("type",BY44)="L","",IF(BY44*($K44+$AQ44)=0,"",IF($AQ44>0,+$AQ44*BY44*8.34,$K44*BY44*8.34))) | CM44: =+T44 -> 31
A45: Average | H45: =IF(SUM(H14:H44)>0,AVERAGE(H14:H44)," ") | I45: =IF(SUM(I14:I44)>0,AVERAGE(I14:I44)," ") | J45: =IF(SUM(J14:J44)>0,AVERAGE(J14:J44)," ") | K45: =IF(SUM(K14:K44)>0,AVERAGE(K14:K44)," ") | M45: =IF(SUM(M14:M44)>0,AVERAGE(M14:M44)," ") | N45: =IF(SUM(N14:N44)>0,AVERAGE(N14:N44)," ") | O45: =IF(SUM(O14:O44)>0,AVERAGE(O14:O44)," ") | P45: =IF(SUM(P14:P44)>0,AVERAGE(P14:P44)," ") | Q45: =IF(SUM(Q14:Q44)>0,AVERAGE(Q14:Q44)," ") | R45: =IF(SUM(R14:R44)>0,AVERAGE(R14:R44)," ") | S45: =IF(SUM(S14:S44)>0,AVERAGE(S14:S44)," ") | T45: Avg. | U45: =IF(SUM(U14:U44)>0,AVERAGE(U14:U44)," ") | V45: =IF(SUM(V14:V44)>0,AVERAGE(V14:V44)," ") | W45: =IF(SUM(W14:W44)>0,AVERAGE(W14:W44)," ") | X45: =IF(SUM(X14:X44)>0,AVERAGE(X14:X44)," ") | Y45: =IF(SUM(Y14:Y44)>0,AVERAGE(Y14:Y44)," ") | Z45: =IF(SUM(Z14:Z44)>0,AVERAGE(Z14:Z44)," ") | AA45: =IF(SUM(AA14:AA44)>0,AVERAGE(AA14:AA44)," ") | AB45: =IF(SUM(AB14:AB44)>0,AVERAGE(AB14:AB44)," ") | ... AE45: =IF(SUM(AE14:AE44)>0,AVERAGE(AE14:AE44)," ") | AG45: =IF(SUM(AG14:AG44)>0,AVERAGE(AG14:AG44)," ") | AH45: =IF(SUM(AH14:AH44)>0,AVERAGE(AH14:AH44)," ") | AJ45: =IF(SUM(AI14:AI44)>0,GEOMEAN(AI14:AI44),"") | AM45: =IF(SUM(AM14:AM44)>0,AVERAGE(AM14:AM44)," ") | AN45: =IF(SUM(AN14:AN44)>0,AVERAGE(AN14:AN44)," ") | AO45: Avg | AQ45: =IF(SUM(AQ14:AQ44)>0,AVERAGE(AQ14:AQ44)," ") | AS45: =IF(SUM(AS14:AS44)>0,AVERAGE(AS14:AS44)," ") | AU45: =IF(SUM(AU14:AU44)>0,AVERAGE(AU14:AU44)," ") | AW45: =IF(SUM(AW14:AW44)>0,AVERAGE(AW14:AW44)," ") | AY45: =IF(SUM(AY14:AY44)>0,AVERAGE(AY14:AY44)," ") | BA45: =IF(SUM(BA14:BA44)>0,AVERAGE(BA14:BA44)," ") | BC45: =IF(SUM(BC14:BC44)>0,AVERAGE(BC14:BC44)," ") | BE45: =IF(SUM(BE14:BE44)>0,AVERAGE(BE14:BE44)," ") | BF45: =IF(SUM(BF14:BF44)>0,AVERAGE(BF14:BF44)," ") | BG45: Avg. | BH45: =IF(SUM(BH14:BH44)>0,AVERAGE(BH14:BH44)," ") | BI45: =IF(SUM(BI14:BI44)>0,AVERAGE(BI14:BI44)," ") | BK45: =IF(SUM(BK14:BK44)>0,AVERAGE(BK14:BK44)," ") | BL45: =IF(SUM(BL14:BL44)>0,AVERAGE(BL14:BL44)," ") | BM45: =IF(SUM(BM14:BM44)>0,AVERAGE(BM14:BM44)," ") | BN45: =IF(SUM(BN14:BN44)>0,AVERAGE(BN14:BN44)," ") | BO45: =IF(SUM(BO14:BO44)>0,AVERAGE(BO14:BO44)," ") | BP45: =IF(SUM(BP14:BP44)>0,AVERAGE(BP14:BP44)," ") | BQ45: =IF(SUM(BQ14:BQ44)>0,AVERAGE(BQ14:BQ44)," ") | BR45: =IF(SUM(BR14:BR44)>0,AVERAGE(BR14:BR44)," ") | ... BU45: =IF(SUM(BU14:BU44)>0,AVERAGE(BU14:BU44)," ") | BV45: Avg | BW45: =IF(SUM(BW14:BW44)>0,AVERAGE(BW14:BW44)," ") | BX45: =IF(SUM(BX14:BX44)>0,AVERAGE(BX14:BX44)," ") | BY45: =IF(SUM(BY14:BY44)>0,AVERAGE(BY14:BY44)," ") | BZ45: =IF(SUM(BZ14:BZ44)>0,AVERAGE(BZ14:BZ44)," ") | CA45: =IF(SUM(CA14:CA44)>0,AVERAGE(CA14:CA44)," ") | CB45: =IF(SUM(CB14:CB44)>0,AVERAGE(CB14:CB44)," ") | CC45: =IF(SUM(CC14:CC44)>0,AVERAGE(CC14:CC44)," ") | CD45: =IF(SUM(CD14:CD44)>0,AVERAGE(CD14:CD44)," ") | ... CL45: =IF(SUM(CL14:CL44)>0,AVERAGE(CL14:CL44)," ") | CM45: Avg | CN45: =IF(SUM(CN14:CN44)>0,AVERAGE(CN14:CN44)," ") | CO45: =IF(SUM(CO14:CO44)>0,AVERAGE(CO14:CO44)," ") | CP45: =IF(SUM(CP14:CP44)>0,AVERAGE(CP14:CP44)," ") | CQ45: =IF(SUM(CQ14:CQ44)>0,AVERAGE(CQ14:CQ44)," ") | CR45: =IF(SUM(CR14:CR44)>0,AVERAGE(CR14:CR44)," ") | CS45: =IF(SUM(CS14:CS44)>0,AVERAGE(CS14:CS44)," ") | CT45: =IF(SUM(CT14:CT44)>0,AVERAGE(CT14:CT44)," ") | CU45: =IF(SUM(CU14:CU44)>0,AVERAGE(CU14:CU44)," ") | ... DC45: =IF(SUM(DC14:DC44)>0,AVERAGE(DC14:DC44)," ")
A46: Maximum | E46: =IF(SUM(E14:E44)>0,MAX(E14:E44)," ") | H46: =IF(SUM(H14:H44)>0,MAX(H14:H44)," ") | I46: =IF(SUM(I14:I44)>0,MAX(I14:I44)," ") | J46: =IF(SUM(J14:J44)>0,MAX(J14:J44)," ") | K46: =IF(SUM(K14:K44)>0,MAX(K14:K44)," ") | L46: =IF(SUM(L14:L44)>0,MAX(L14:L44)," ") | M46: =IF(SUM(M14:M44)>0,MAX(M14:M44)," ") | N46: =IF(SUM(N14:N44)>0,MAX(N14:N44)," ") | O46: =IF(SUM(O14:O44)>0,MAX(O14:O44)," ") | ... S46: =IF(SUM(S14:S44)>0,MAX(S14:S44)," ") | T46: Max. | U46: =IF(SUM(U14:U44)>0,MAX(U14:U44)," ") | V46: =IF(SUM(V14:V44)>0,MAX(V14:V44)," ") | W46: =IF(SUM(W14:W44)>0,MAX(W14:W44)," ") | X46: =IF(SUM(X14:X44)>0,MAX(X14:X44)," ") | Y46: =IF(SUM(Y14:Y44)>0,MAX(Y14:Y44)," ") | Z46: =IF(SUM(Z14:Z44)>0,MAX(Z14:Z44)," ") | AA46: =IF(SUM(AA14:AA44)>0,MAX(AA14:AA44)," ") | AB46: =IF(SUM(AB14:AB44)>0,MAX(AB14:AB44)," ") | ... AE46: =IF(SUM(AE14:AE44)>0,MAX(AE14:AE44)," ") | AG46: =IF(SUM(AG14:AG44)>0,MAX(AG14:AG44)," ") | AH46: =IF(SUM(AH14:AH44)>0,MAX(AH14:AH44)," ") | AI46: =IF(AJ45<>"",MAX(AI14:AI44),"") | AJ46: =IF(AI46=63200,"TNTC",AI46) | AK46: =IF(SUM(AK14:AL44)>0,MAX(AK14:AL44)," ") | AM46: =IF(SUM(AM14:AM44)>0,MAX(AM14:AM44)," ") | AN46: =IF(SUM(AN14:AN44)>0,MAX(AN14:AN44)," ") | AO46: Max | AQ46: =IF(SUM(AQ14:AQ44)>0,MAX(AQ14:AQ44)," ") | AR46: =IF(SUM(AR14:AR44)>0,MAX(AR14:AR44)," ") | AS46: =IF(SUM(AS14:AS44)>0,MAX(AS14:AS44)," ") | AT46: =IF(SUM(AT14:AT44)>0,MAX(AT14:AT44)," ") | AU46: =IF(SUM(AU14:AU44)>0,MAX(AU14:AU44)," ") | AV46: =IF(SUM(AV14:AV44)>0,MAX(AV14:AV44)," ") | AW46: =IF(SUM(AW14:AW44)>0,MAX(AW14:AW44)," ") | AX46: =IF(SUM(AX14:AX44)>0,MAX(AX14:AX44)," ") | ... BF46: =IF(SUM(BF14:BF44)>0,MAX(BF14:BF44)," ") | BG46: Max. | BH46: =IF(SUM(BH14:BH44)>0,MAX(BH14:BH44)," ") | BI46: =IF(SUM(BI14:BI44)>0,MAX(BI14:BI44)," ") | BJ46: =IF(SUM(BJ14:BJ44)>0,MAX(BJ14:BJ44)," ") | BK46: =IF(SUM(BK14:BK44)>0,MAX(BK14:BK44)," ") | BL46: =IF(SUM(BL14:BL44)>0,MAX(BL14:BL44)," ") | BM46: =IF(SUM(BM14:BM44)>0,MAX(BM14:BM44)," ") | BN46: =IF(SUM(BN14:BN44)>0,MAX(BN14:BN44)," ") | BO46: =IF(SUM(BO14:BO44)>0,MAX(BO14:BO44)," ") | ... BU46: =IF(SUM(BU14:BU44)>0,MAX(BU14:BU44)," ") | BV46: Max | BW46: =IF(SUM(BW14:BW44)>0,MAX(BW14:BW44)," ") | BX46: =IF(SUM(BX14:BX44)>0,MAX(BX14:BX44)," ") | BY46: =IF(SUM(BY14:BY44)>0,MAX(BY14:BY44)," ") | BZ46: =IF(SUM(BZ14:BZ44)>0,MAX(BZ14:BZ44)," ") | CA46: =IF(SUM(CA14:CA44)>0,MAX(CA14:CA44)," ") | CB46: =IF(SUM(CB14:CB44)>0,MAX(CB14:CB44)," ") | CC46: =IF(SUM(CC14:CC44)>0,MAX(CC14:CC44)," ") | CD46: =IF(SUM(CD14:CD44)>0,MAX(CD14:CD44)," ") | ... CL46: =IF(SUM(CL14:CL44)>0,MAX(CL14:CL44)," ") | CM46: Max | CN46: =IF(SUM(CN14:CN44)>0,MAX(CN14:CN44)," ") | CO46: =IF(SUM(CO14:CO44)>0,MAX(CO14:CO44)," ") | CP46: =IF(SUM(CP14:CP44)>0,MAX(CP14:CP44)," ") | CQ46: =IF(SUM(CQ14:CQ44)>0,MAX(CQ14:CQ44)," ") | CR46: =IF(SUM(CR14:CR44)>0,MAX(CR14:CR44)," ") | CS46: =IF(SUM(CS14:CS44)>0,MAX(CS14:CS44)," ") | CT46: =IF(SUM(CT14:CT44)>0,MAX(CT14:CT44)," ") | CU46: =IF(SUM(CU14:CU44)>0,MAX(CU14:CU44)," ") | ... DC46: =IF(SUM(DC14:DC44)>0,MAX(DC14:DC44)," ")
A47: Minimum | H47: =IF(SUM(H14:H44)>0,MIN(H14:H44),"") | I47: =IF(SUM(I14:I44)>0,MIN(I14:I44),"") | J47: =IF(SUM(J14:J44)>0,MIN(J14:J44),"") | K47: =IF(SUM(K14:K44)>0,MIN(K14:K44),"") | L47: =IF(SUM(L14:L44)>0,MIN(L14:L44),"") | M47: =IF(SUM(M14:M44)>0,MIN(M14:M44),"") | N47: =IF(SUM(N14:N44)>0,MIN(N14:N44),"") | O47: =IF(SUM(O14:O44)>0,MIN(O14:O44),"") | ... S47: =IF(SUM(S14:S44)>0,MIN(S14:S44),"") | T47: Min. | U47: =IF(SUM(U14:U44)>0,MIN(U14:U44),"") | V47: =IF(SUM(V14:V44)>0,MIN(V14:V44),"") | W47: =IF(SUM(W14:W44)>0,MIN(W14:W44),"") | X47: =IF(SUM(X14:X44)>0,MIN(X14:X44),"") | Y47: =IF(SUM(Y14:Y44)>0,MIN(Y14:Y44),"") | Z47: =IF(SUM(Z14:Z44)>0,MIN(Z14:Z44),"") | AA47: =IF(SUM(AA14:AA44)>0,MIN(AA14:AA44),"") | AB47: =IF(SUM(AB14:AB44)>0,MIN(AB14:AB44),"") | ... AE47: =IF(SUM(AE14:AE44)>0,MIN(AE14:AE44),"") | AG47: =IF(SUM(AG14:AG44)>0,MIN(AG14:AG44),"") | AH47: =IF(SUM(AH14:AH44)>0,MIN(AH14:AH44),"") | AJ47: =IF(SUM(AJ14:AJ44)>0,MIN(AJ14:AJ44),"") | AK47: =IF(SUM(AK14:AL44)>0,MIN(AK14:AL44),"") | AM47: =IF(SUM(AM14:AM44)>0,MIN(AM14:AM44),"") | AN47: =IF(SUM(AN14:AN44)>0,MIN(AN14:AN44),"") | AO47: Min | AQ47: =IF(SUM(AQ14:AQ44)>0,MIN(AQ14:AQ44),"") | AR47: =IF(SUM(AR14:AR44)>0,MIN(AR14:AR44),"") | AS47: =IF(SUM(AS14:AS44)>0,MIN(AS14:AS44),"") | AT47: =IF(SUM(AT14:AT44)>0,MIN(AT14:AT44),"") | AU47: =IF(SUM(AU14:AU44)>0,MIN(AU14:AU44),"") | AV47: =IF(SUM(AV14:AV44)>0,MIN(AV14:AV44),"") | AW47: =IF(SUM(AW14:AW44)>0,MIN(AW14:AW44),"") | AX47: =IF(SUM(AX14:AX44)>0,MIN(AX14:AX44),"") | ... BF47: =IF(SUM(BF14:BF44)>0,MIN(BF14:BF44),"") | BG47: Min. | BH47: =IF(SUM(BH14:BH44)>0,MIN(BH14:BH44),"") | BI47: =IF(SUM(BI14:BI44)>0,MIN(BI14:BI44),"") | BJ47: =IF(SUM(BJ14:BJ44)>0,MIN(BJ14:BJ44),"") | BK47: =IF(SUM(BK14:BK44)>0,MIN(BK14:BK44),"") | BL47: =IF(SUM(BL14:BL44)>0,MIN(BL14:BL44),"") | BM47: =IF(SUM(BM14:BM44)>0,MIN(BM14:BM44),"") | BN47: =IF(SUM(BN14:BN44)>0,MIN(BN14:BN44),"") | BO47: =IF(SUM(BO14:BO44)>0,MIN(BO14:BO44),"") | ... BU47: =IF(SUM(BU14:BU44)>0,MIN(BU14:BU44),"") | BV47: Min | BW47: =IF(SUM(BW14:BW44)>0,MIN(BW14:BW44),"") | BX47: =IF(SUM(BX14:BX44)>0,MIN(BX14:BX44),"") | BY47: =IF(SUM(BY14:BY44)>0,MIN(BY14:BY44),"") | BZ47: =IF(SUM(BZ14:BZ44)>0,MIN(BZ14:BZ44),"") | CA47: =IF(SUM(CA14:CA44)>0,MIN(CA14:CA44),"") | CB47: =IF(SUM(CB14:CB44)>0,MIN(CB14:CB44),"") | CC47: =IF(SUM(CC14:CC44)>0,MIN(CC14:CC44),"") | CD47: =IF(SUM(CD14:CD44)>0,MIN(CD14:CD44),"") | ... CL47: =IF(SUM(CL14:CL44)>0,MIN(CL14:CL44),"") | CM47: Min | CN47: =IF(SUM(CN14:CN44)>0,MIN(CN14:CN44),"") | CO47: =IF(SUM(CO14:CO44)>0,MIN(CO14:CO44),"") | CP47: =IF(SUM(CP14:CP44)>0,MIN(CP14:CP44),"") | CQ47: =IF(SUM(CQ14:CQ44)>0,MIN(CQ14:CQ44),"") | CR47: =IF(SUM(CR14:CR44)>0,MIN(CR14:CR44),"") | CS47: =IF(SUM(CS14:CS44)>0,MIN(CS14:CS44),"") | CT47: =IF(SUM(CT14:CT44)>0,MIN(CT14:CT44),"") | CU47: =IF(SUM(CU14:CU44)>0,MIN(CU14:CU44),"") | ... DC47: =IF(SUM(DC14:DC44)>0,MIN(DC14:DC44),"")
T48: Daily Max | AJ48: ='E.coli Standalone Calculation'!H38
T49: # of Days above 235 | AJ49: ='E.coli Standalone Calculation'!H41
A50: # of Data | E50: =COUNT(E14:E44) -> 0 | F50: =COUNTA(F14:F44) -> 0 | G50: =COUNTA(G14:G44) -> 0 | H50: =COUNT(H14:H44) -> 0 | I50: =COUNT(I14:I44) -> 0 | J50: =COUNT(J14:J44) -> 0 | K50: =COUNT(K14:K44) -> 0 | L50: =COUNT(L14:L44) -> 0 | M50: =COUNT(M14:M44) -> 0 | N50: =COUNT(N14:N44) -> 0 | O50: =COUNT(O14:O44) -> 0 | ... S50: =COUNT(S14:S44) -> 0 | T50: Data | U50: =COUNT(U14:U44) -> 0 | V50: =COUNT(V14:V44) -> 0 | W50: =COUNT(W14:W44) -> 0 | X50: =COUNT(X14:X44) -> 0 | Y50: =COUNT(Y14:Y44) -> 0 | Z50: =COUNT(Z14:Z44) -> 0 | AA50: =COUNT(AA14:AA44) -> 0 | AB50: =COUNT(AB14:AB44) -> 0 | ... AE50: =COUNT(AE14:AE44) -> 0 | AG50: =COUNT(AG14:AG44) -> 0 | AH50: =COUNT(AH14:AH44) -> 0 | AJ50: =COUNT(AI14:AI44) -> 0 | AK50: =COUNT(AK14:AL44) -> 0 | AM50: =COUNT(AM14:AM44) -> 0 | AN50: =COUNT(AN14:AN44) -> 0 | AO50: Data | AQ50: =COUNT(AQ14:AQ44) -> 0 | AR50: =COUNT(AR14:AR44) -> 0 | AS50: =COUNT(AS14:AS44) -> 0 | AT50: =COUNT(AT14:AT44) -> 0 | AU50: =COUNT(AU14:AU44) -> 0 | AV50: =COUNT(AV14:AV44) -> 0 | AW50: =COUNT(AW14:AW44) -> 0 | AX50: =COUNT(AX14:AX44) -> 0 | ... BF50: =COUNT(BF14:BF44) -> 0 | BG50: Data | BH50: =COUNT(BH14:BH44) -> 0 | BI50: =COUNT(BI14:BI44) -> 0 | BJ50: =COUNT(BJ14:BJ44) -> 0 | BK50: =COUNT(BK14:BK44) -> 0 | BL50: =COUNT(BL14:BL44) -> 0 | BM50: =COUNT(BM14:BM44) -> 0 | BN50: =COUNT(BN14:BN44) -> 0 | BO50: =COUNT(BO14:BO44) -> 0 | ... BU50: =COUNT(BU14:BU44) -> 0 | BV50: Data | BW50: =COUNT(BW14:BW44) -> 0 | BX50: =COUNT(BX14:BX44) -> 0 | BY50: =COUNT(BY14:BY44) -> 0 | BZ50: =COUNT(BZ14:BZ44) -> 0 | CA50: =COUNT(CA14:CA44) -> 0 | CB50: =COUNT(CB14:CB44) -> 0 | CC50: =COUNT(CC14:CC44) -> 0 | CD50: =COUNT(CD14:CD44) -> 0 | ... CL50: =COUNT(CL14:CL44) -> 0 | CM50: Data | CN50: =COUNT(CN14:CN44) -> 0 | CO50: =COUNT(CO14:CO44) -> 0 | CP50: =COUNT(CP14:CP44) -> 0 | CQ50: =COUNT(CQ14:CQ44) -> 0 | CR50: =COUNT(CR14:CR44) -> 0 | CS50: =COUNT(CS14:CS44) -> 0 | CT50: =COUNT(CT14:CT44) -> 0 | CU50: =COUNT(CU14:CU44) -> 0 | ... DC50: =COUNT(DC14:DC44) -> 0
A51: I certify under penalty of law that this document and all attachments were prepared under my direction or supervision in accordance with a system designed to assure that qualified personnel properly gather and evaluate the information submitted. Based on my inquiry of the persons who manage the system, or those persons directly responsible for gathering the information, the information submitted is, to the best of my knowledge and belief, true, accurate, and complete. I am aware that there are significant penalties for submitting false information, including the possibility of fine and imprisonment for knowing violations. | K51: Prepared by or under the direction of (Certified Operator): | Q51: Date (month, day, year) | T51: Comments for the Month (major repairs, breakdowns, process upsets and their causes, inplant treatment process bypass, etc.):
AQ52: MONTHLY REMOVAL SUMMARY | BB52: Total Monthly Flow: | BH52: Once completed, this form should be converted to a pdf document, named appropriately & attached to the corresponding netDMR for submittal
AQ53: Percent Removal | AT53: BOD5 | AV53: S.S. | AX53: Ammonia | AZ53: Phosphorus | BB53: (million gallons) | BD53: =IF(SUM(AQ14:AQ44)>0,SUM(AQ14:AQ44),SUM(K14:K44)) -> 0
AQ54: Primary Treatment | AT54: =IF(U50=0," NA",(+M45-U45)/M45*100) -> NA | AV54: =IF(V50=0," NA",(+O45-V45)/O45*100) -> NA
K55: Signature of principal executive officer or authorized agent | Q55: Date (month, day, year) | AQ55: =IF(+AQ56="Tertiary Treatment","Secondary Treatment"," ") -> Secondary Treatment | AT55: =IF(AD50=0," NA",IF(U50=0,(+M45-AD45)/M45*100,(+U45-AD45)/U45*100)) -> NA | AV55: =IF(AE50=0," NA",IF(V50=0,(+O45-AE45)/O45*100,(+V45-AE45)/V45*100)) -> NA | BB55: Percent Capacity
K56: (or attested by NetDMR subscriber agreement) | AQ56: =IF(AND(+U50+V50>0,+AD50+AE50=0),"Secondary Treatment","Tertiary Treatment") -> Tertiary Treatment | AT56: =IF(U50+AD50=0," NA",IF(AD50>0,(+AD45-AS45)/AD45*100,(+U45-AS45)/U45*100)) -> NA | AV56: =IF(V50+AE50=0," NA",IF(AE50>0,(+AE45-AW45)/AE45*100,(+V45-AW45)/V45*100)) -> NA | BB56: (actual flow/design) | BD56: =IF(AQ50+K50=0,"",IF(AQ50>0,+AQ45/O4,K45/O4))
AQ57: Overall Treatment | AT57: =IF(M45=" "," NA",(+M45-AS45)/M45*100) -> NA | AV57: =IF(O45=" "," NA",(+O45-AW45)/O45*100) -> NA | AX57: =IF(OR(R45=" ",BA45=" ")," NA",(+R45-BA45)/R45*100) -> NA | AZ57: =IF(OR(Q45=" ",BE45=" ")," NA",(+Q45-BE45)/Q45*100) -> NA
AQ58: =IF(OR(Q45=" ",BE45=" ",LEFT(Q10,4)<>"Phos",LEFT(BE10,4)<>"Phos"),"","Phosphorus limit would be") | AU58: =IF(OR(Q45=" ",+BE45=" ",LEFT(Q10,4)<>"Phos",LEFT(BE10,4)<>"Phos"),"",IF(+Q45>=5,1,IF(+Q45>=4,80,IF(+Q45>=3,75,IF(Q45>=2,70,IF(Q45>=1,65,60)))))) | AV58: =IF(OR(Q45=" ",+BE45=" ",LEFT(Q10,4)<>"Phos",LEFT(BE10,4)<>"Phos"),"",IF(+Q45>=5,"mg/l.","% removal.")) | AX58: =IF(OR(Q45=" ",+BE45=" ",LEFT(Q10,4)<>"Phos",LEFT(BE10,4)<>"Phos"),"",IF(OR(AND(+Q45>=5,BE45>1),AND(+Q45>=4,+Q45<5,AZ57<80),AND(+Q45>=3,+Q45<4,AZ57<75),AND(+Q45>=2,+Q45<3,AZ57<70),AND(+Q45>=1,+Q45<2,AZ57<65),AND(+Q45<1,AZ57<60)),"(compliance not achieved)","(compliance achieved)"))
A59: Page 1 of 6 | T59: Page 2 of 6 | AO59: Page 3 of 6 | BG59: Page 4 of 6 | BV59: Page 5 of 6 | CM59: Page 6 of 6

Sheet Feb
K1: Name of Facility | P1: Permit Number | T1: MONTHLY REPORT OF OPERATION | AO1: MONTHLY REPORT OF OPERATION | BG1: MONTHLY REPORT OF OPERATION | BV1: MONTHLY REPORT OF OPERATION
D2: MONTHLY REPORT OF OPERATION | K2: =+Jan!K2 -> Exampleville | P2: =+Jan!P2 -> IN0000000 | T2: ACTIVATED SLUDGE TYPE | AO2: ACTIVATED SLUDGE TYPE | BG2: ACTIVATED SLUDGE TYPE | BV2: ACTIVATED SLUDGE TYPE
D3: ACTIVATED SLUDGE TYPE | K3: Month | M3: Year | O3: Plant Design Flow | Q3: Telephone Number | T3: WASTEWATER TREATMENT PLANT | AO3: WASTEWATER TREATMENT PLANT | BG3: WASTEWATER TREATMENT PLANT | BV3: WASTEWATER TREATMENT PLANT | CM3: WASTEWATER TREATMENT PLANT
D4: WASTEWATER TREATMENT PLANT | K4: February | M4: =+Jan!M4 -> 2026 | O4: =+Jan!O4 -> 0.001 | P4: mgd | Q4: =+Jan!Q4 -> 555/555-5555 | T4: =+Jan!T4 -> State Form 10829 (R11 / 3-26) | AG4: < | AO4: =+Jan!AO4 -> State Form 10829 (R11 / 3-26) | BG4: =+Jan!BG4 -> State Form 10829 (R11 / 3-26) | BV4: =+Jan!BV4 -> State Form 10829 (R11 / 3-26) | CM4: =+$D$5 -> State Form 10829 (R11 / 3-26)
D5: =+Jan!D5 -> State Form 10829 (R11 / 3-26) | J5: =CONCATENATE("2/1/",M4) -> 2/1/2026 | K5: E-mail address: | M5: =+Jan!M5 -> wwtp@city.org | R5: =+Jan!R2 -> 001 | S5: =+Jan!S2 -> A | T5: Name of Facility | X5: Permit Number | Z5: For Month Of: | AB5: Year | AO5: Name of Facility | AS5: Permit Number | AU5: For Month Of: | AW5: Year | BG5: Name of Facility | BI5: Permit Number | BK5: For Month Of: | BM5: Year | BV5: Name of Facility | BX5: Permit Number | BZ5: For Month Of: | CB5: Year | CM5: Name of Facility | CO5: Permit Number | CQ5: For Month Of: | CS5: Year
K6: Certified Operator: Name | O6: Class | P6: Certificate Number | R6: Expiration Date | T6: =+K2 -> Exampleville | X6: =+P2 -> IN0000000 | Z6: =+K4 -> February | AB6: =+M4 -> 2026 | AO6: =+K2 -> Exampleville | AS6: =+P2 -> IN0000000 | AU6: =+K4 -> February | AW6: =+M4 -> 2026 | BG6: =+K2 -> Exampleville | BI6: =+P2 -> IN0000000 | BK6: =+K4 -> February | BM6: =+M4 -> 2026 | BV6: =+K2 -> Exampleville | BX6: =+P2 -> IN0000000 | BZ6: =+K4 -> February | CB6: =+M4 -> 2026 | CM6: =+K2 -> Exampleville | CO6: =+P2 -> IN0000000 | CQ6: =+K4 -> February | CS6: =+M4 -> 2026
K7: =+Jan!K7 -> Chris A. Operator | O7: =+Jan!O7 -> V | P7: =+Jan!P7 -> 9999 | R7: =+Jan!R7 -> 41820 | BX7: =+Jan!BX7 -> Substitute for State Form 30530 | CO7: Substitute for State Form 30530
C8: =+Jan!C8 -> Man-Hours at Plant (Plants less than 1 MGD only) | D8: =+Jan!D8 -> Air Temperature (optional) | E8: Total= | F8: =+Jan!F8 -> Bypass At Plant Site ("x" If Occurred) | G8: =+Jan!G8 -> Sanitary Sewer Overflow ("x" If Occurred) | H8: CHEMICALS | K8: RAW SEWAGE | U8: PRIMARY | W8: AERATION | AD8: SECONDARY | AF8: FINAL EFFLUENT | AQ8: FINAL EFFLUENT | BH8: =+Jan!BH8 -> SLUDGE TO | BJ8: =+Jan!BJ8 -> DIGESTER OPERATION | BW8: =Jan!BW8 -> Final Effluent | CA8: =+Jan!CA8 | CB8: =+Jan!CB8 | CC8: =+Jan!CC8 | CD8: =+Jan!CD8 | CE8: =+Jan!CE8 | CF8: =+Jan!CF8 | CG8: =+Jan!CG8 | CH8: =+Jan!CH8 | ... CL8: =+Jan!CL8 | CN8: =Jan!CN8 -> 0 | CO8: =Jan!CO8 | CP8: =Jan!CP8 | CQ8: =Jan!CQ8 | CR8: =Jan!CR8 | CS8: =Jan!CS8 | CT8: =Jan!CT8 | CU8: =Jan!CU8 | ... DC8: =Jan!DC8
C9: =+Jan!C9 -> 0 | E9: =SUM(E11:E39) -> 0 | F9: =+Jan!F9 -> 0 | G9: =+Jan!G9 -> 0 | H9: USED | U9: EFFLUENT | W9: MIXED LIQUOR | AB9: RETURN SLUDGE | AD9: EFFLUENT | AQ9: Flow | AS9: BOD | AW9: Total Suspended Solids | BA9: Ammonia | BE9: =IF(+Jan!BE9<>"",+Jan!BE9,"") -> Phosphorus | BH9: =+Jan!BH9 -> DIGESTER | BJ9: =+Jan!BJ9 -> Anaerobic Only | BM9: =+Jan!BM9 -> Supernatant Withdrawn hrs. or Gal. x 1000 | BN9: =+Jan!BN9 -> Supernatant BOD5 mg/l or NH3-N mg/l | BO9: =+Jan!BO9 -> Total Solids in Incoming Sludge - % | BP9: =+Jan!BP9 -> Total Solids in Digested Sludge - % | BQ9: =+Jan!BQ9 -> Volatile Solids in Incoming Sludge - % | BR9: =+Jan!BR9 -> Volatile Solids in Digested Sludge - % | BS9: =+Jan!BS9 -> Digested Sludge Withdrawn hrs. or Gal. x 1000 | BT9: =+Jan!BT9 -> 0 | BU9: =+Jan!BU9 | BW9: Chloride | BY9: =Jan!BY9 -> Total Nitrogen | CA9: =+Jan!CA9 -> 0 | CB9: =+Jan!CB9 -> 0 | CC9: =+Jan!CC9 -> 0 | CD9: =+Jan!CD9 -> 0 | CE9: =+Jan!CE9 -> 0 | CF9: =+Jan!CF9 -> 0 | CG9: =+Jan!CG9 -> 0 | CH9: =+Jan!CH9 -> 0 | ... CL9: =+Jan!CL9 -> 0
A10: Day Of Month | B10: Day of Week | C10: =+Jan!C10 -> 0 | E10: =+Jan!E10 -> Precipitation - Inches | F10: =+Jan!F10 -> 0 | G10: =+Jan!G10 -> 0 | H10: =+Jan!H10 -> Chlorine - Lbs/day | I10: =+Jan!I10 -> Lbs/Day or Gal./Day | J10: =+Jan!J10 -> Lbs/Day or Gal./Day | K10: =+Jan!K10 -> Influent Flow Rate (if metered) MGD | L10: =+Jan!L10 -> pH | ... R10: =+Jan!R10 -> Ammonia - mg/l | S10: =IF(+Jan!S10<>"",+Jan!S10,"") | T10: Day Of Month | U10: =+Jan!U10 -> CBOD5 - mg/l | V10: =+Jan!V10 -> Susp. Solids - mg/l | W10: =+Jan!W10 -> Settleable Solids % in 30 minutes | X10: =+Jan!X10 -> Susp. Solids - mg/l | Y10: =+Jan!Y10 -> Sludge Vol. Index - ml/gm | Z10: =+Jan!Z10 -> Dissolved Oxygen - mg/l | AA10: =+Jan!AA10 -> Temperature - F | AB10: =+Jan!AB10 -> Volume - MG | ... AE10: =+Jan!AE10 -> Susp. Solids - mg/l | AG10: =+Jan!AG10 -> Residual Chlorine - Final | AH10: =+Jan!AH10 -> Residual Chlorine - Contact Tank | AJ10: =+Jan!AJ10 -> E. Coli - colony/100 ml | AK10: =+Jan!AK10 -> pH - daily low (or single sample) | AL10: =+Jan!AL10 -> pH - daily high (if multiple samples) | AM10: =+Jan!AM10 -> Dissolved Oxygen - mg/l | AN10: =+Jan!AN10 -> Oil & Grease (mg/l) | AO10: Day Of Month | AP10: Day of Week | AQ10: =+Jan!AQ10 -> Effluent Flow Rate (MGD) | AR10: =+Jan!AR10 -> Effluent Flow Weekly Average | AS10: =+Jan!AS10 -> CBOD5 - mg/l | AT10: =+Jan!AT10 -> CBOD5 - mg/l Weekly Average | AU10: =+Jan!AU10 -> CBOD5 - lbs/day | AV10: =+Jan!AV10 -> CBOD5 - lbs/day Weekly Average | AW10: =+Jan!AW10 -> Susp. Solids - mg/l | AX10: =+Jan!AX10 -> Susp. Solids - mg/l Weekly Average | ... BD10: =+Jan!BD10 -> Ammonia - lbs/day Weekly Average | BE10: =IF(+Jan!BE10<>"",+Jan!BE10,"") -> Phosphorus - mg/l | BF10: =IF(+Jan!BF10<>"",+Jan!BF10,"") -> Phosphorus - lbs/day | BG10: Day Of Month | BH10: =+Jan!BH10 -> Primary Sludge Gal. x 1000 | BI10: =+Jan!BI10 -> Waste Act. Sludge Gal. x 1000 | BJ10: =+Jan!BJ10 -> pH | BK10: =+Jan!BK10 -> Gas Production Cubic Ft. x 1000 | BL10: =+Jan!BL10 -> Temperature - F | BV10: Day Of Month | BW10: =+Jan!BW10 -> Chloride - mg/l | BX10: =+Jan!BX10 -> Chloride - lbs/day | BY10: =+Jan!BY10 -> Total Nitrogen- mg/l | BZ10: =+Jan!BZ10 -> Total Nitrogen- lbs/day | CA10: =+Jan!CA10 -> 0 | CB10: =+Jan!CB10 -> 0 | CC10: =+Jan!CC10 -> 0 | CD10: =+Jan!CD10 -> 0 | ... CL10: =+Jan!CL10 -> 0 | CM10: Day Of Month
A11: 1 | B11: =TEXT(J$5 + A11-1,"DDD") -> Sun | N11: =IF(CELL("type",M11)="L","",IF(M11*($K11+$AQ11)=0,"",IF($K11>0,+$K11*M11*8.34,$AQ11*M11*8.34))) | P11: =IF(CELL("type",O11)="L","",IF(O11*($K11+$AQ11)=0,"",IF($K11>0,+$K11*O11*8.34,$AQ11*O11*8.34))) | T11: =+A11 -> 1 | Y11: =IF(W11*X11=0,"",IF(W11<100,W11*10000/X11,W11*1000/X11)) | AI11: =IF(CELL("type",AJ11)="b","",IF(AJ11="tntc",63200,IF(AJ11=0,1,AJ11))) | AO11: =+A11 -> 1 | AP11: =+B11 -> Sun | AU11: =IF(CELL("type",AS11)="l","",IF(AS11*($K11+$AQ11)=0,"",IF($AQ11>0,+$AQ11*AS11*8.34,$K11*AS11*8.34))) | AY11: =IF(CELL("type",AW11)="l","",IF(AW11*($K11+$AQ11)=0,"",IF($AQ11>0,+$AQ11*AW11*8.34,$K11*AW11*8.34))) | BC11: =IF(CELL("type",BA11)="l","",IF(BA11*($K11+$AQ11)=0,"",IF($AQ11>0,+$AQ11*BA11*8.34,$K11*BA11*8.34))) | BF11: =IF(CELL("type",BE11)="l","",IF(BE11*($K11+$AQ11)=0,"",IF($AQ11>0,+$AQ11*BE11*8.34,$K11*BE11*8.34))) | BG11: =+A11 -> 1 | BV11: =+A11 -> 1 | BX11: =IF(CELL("type",BW11)="l","",IF(BW11*($K11+$AQ11)=0,"",IF($AQ11>0,+$AQ11*BW11*8.34,$K11*BW11*8.34))) | BZ11: =IF(CELL("type",BY11)="l","",IF(BY11*($K11+$AQ11)=0,"",IF($AQ11>0,+$AQ11*BY11*8.34,$K11*BY11*8.34))) | CM11: =+T11 -> 1
A12: 2 | B12: =TEXT(J$5 + A12-1,"DDD") -> Mon | N12: =IF(CELL("type",M12)="L","",IF(M12*(K12+AQ12)=0,"",IF(K12>0,+K12*M12*8.34,AQ12*M12*8.34))) | P12: =IF(CELL("type",O12)="L","",IF(O12*($K12+$AQ12)=0,"",IF($K12>0,+$K12*O12*8.34,$AQ12*O12*8.34))) | T12: =+A12 -> 2 | Y12: =IF(W12*X12=0,"",IF(W12<100,W12*10000/X12,W12*1000/X12)) | AI12: =IF(CELL("type",AJ12)="b","",IF(AJ12="tntc",63200,IF(AJ12=0,1,AJ12))) | AO12: =+A12 -> 2 | AP12: =+B12 -> Mon | AU12: =IF(CELL("type",AS12)="l","",IF(AS12*($K12+$AQ12)=0,"",IF($AQ12>0,+$AQ12*AS12*8.34,$K12*AS12*8.34))) | AY12: =IF(CELL("type",AW12)="l","",IF(AW12*($K12+$AQ12)=0,"",IF($AQ12>0,+$AQ12*AW12*8.34,$K12*AW12*8.34))) | BC12: =IF(CELL("type",BA12)="l","",IF(BA12*($K12+$AQ12)=0,"",IF($AQ12>0,+$AQ12*BA12*8.34,$K12*BA12*8.34))) | BF12: =IF(CELL("type",BE12)="l","",IF(BE12*($K12+$AQ12)=0,"",IF($AQ12>0,+$AQ12*BE12*8.34,$K12*BE12*8.34))) | BG12: =+A12 -> 2 | BV12: =+A12 -> 2 | BX12: =IF(CELL("type",BW12)="l","",IF(BW12*($K12+$AQ12)=0,"",IF($AQ12>0,+$AQ12*BW12*8.34,$K12*BW12*8.34))) | BZ12: =IF(CELL("type",BY12)="l","",IF(BY12*($K12+$AQ12)=0,"",IF($AQ12>0,+$AQ12*BY12*8.34,$K12*BY12*8.34))) | CM12: =+T12 -> 2
A13: 3 | B13: =TEXT(J$5 + A13-1,"DDD") -> Tue | N13: =IF(CELL("type",M13)="L","",IF(M13*(K13+AQ13)=0,"",IF(K13>0,+K13*M13*8.34,AQ13*M13*8.34))) | P13: =IF(CELL("type",O13)="L","",IF(O13*($K13+$AQ13)=0,"",IF($K13>0,+$K13*O13*8.34,$AQ13*O13*8.34))) | T13: =+A13 -> 3 | Y13: =IF(W13*X13=0,"",IF(W13<100,W13*10000/X13,W13*1000/X13)) | AI13: =IF(CELL("type",AJ13)="b","",IF(AJ13="tntc",63200,IF(AJ13=0,1,AJ13))) | AO13: =+A13 -> 3 | AP13: =+B13 -> Tue | AU13: =IF(CELL("type",AS13)="l","",IF(AS13*($K13+$AQ13)=0,"",IF($AQ13>0,+$AQ13*AS13*8.34,$K13*AS13*8.34))) | AY13: =IF(CELL("type",AW13)="l","",IF(AW13*($K13+$AQ13)=0,"",IF($AQ13>0,+$AQ13*AW13*8.34,$K13*AW13*8.34))) | BC13: =IF(CELL("type",BA13)="l","",IF(BA13*($K13+$AQ13)=0,"",IF($AQ13>0,+$AQ13*BA13*8.34,$K13*BA13*8.34))) | BF13: =IF(CELL("type",BE13)="l","",IF(BE13*($K13+$AQ13)=0,"",IF($AQ13>0,+$AQ13*BE13*8.34,$K13*BE13*8.34))) | BG13: =+A13 -> 3 | BV13: =+A13 -> 3 | BX13: =IF(CELL("type",BW13)="l","",IF(BW13*($K13+$AQ13)=0,"",IF($AQ13>0,+$AQ13*BW13*8.34,$K13*BW13*8.34))) | BZ13: =IF(CELL("type",BY13)="l","",IF(BY13*($K13+$AQ13)=0,"",IF($AQ13>0,+$AQ13*BY13*8.34,$K13*BY13*8.34))) | CM13: =+T13 -> 3
A14: 4 | B14: =TEXT(J$5 + A14-1,"DDD") -> Wed | N14: =IF(CELL("type",M14)="L","",IF(M14*(K14+AQ14)=0,"",IF(K14>0,+K14*M14*8.34,AQ14*M14*8.34))) | P14: =IF(CELL("type",O14)="L","",IF(O14*($K14+$AQ14)=0,"",IF($K14>0,+$K14*O14*8.34,$AQ14*O14*8.34))) | T14: =+A14 -> 4 | Y14: =IF(W14*X14=0,"",IF(W14<100,W14*10000/X14,W14*1000/X14)) | AI14: =IF(CELL("type",AJ14)="b","",IF(AJ14="tntc",63200,IF(AJ14=0,1,AJ14))) | AO14: =+A14 -> 4 | AP14: =+B14 -> Wed | AR14: =IF(+$B14="Sat",IF(SUM(AQ$11:AQ14)>0,AVERAGE(AQ$11:AQ14,Jan!AQ42:AQ$44)," "),"") | AT14: =IF(+$B14="Sat",IF(SUM(AS$11:AS14,Jan!AS42:AS$44)>0,AVERAGE(AS$11:AS14,Jan!AS42:AS$44)," "),"") | AU14: =IF(CELL("type",AS14)="l","",IF(AS14*($K14+$AQ14)=0,"",IF($AQ14>0,+$AQ14*AS14*8.34,$K14*AS14*8.34))) | AV14: =IF(+$B14="Sat",IF(SUM(AU$11:AU14,Jan!AU42:AU$44)>0,AVERAGE(AU$11:AU14,Jan!AU42:AU$44)," "),"") | AX14: =IF(+$B14="Sat",IF(SUM(AW$11:AW14,Jan!AW42:AW$44)>0,AVERAGE(AW$11:AW14,Jan!AW42:AW$44)," "),"") | AY14: =IF(CELL("type",AW14)="l","",IF(AW14*($K14+$AQ14)=0,"",IF($AQ14>0,+$AQ14*AW14*8.34,$K14*AW14*8.34))) | AZ14: =IF(+$B14="Sat",IF(SUM(AY$11:AY14,Jan!AY42:AY$44)>0,AVERAGE(AY$11:AY14,Jan!AY42:AY$44)," "),"") | BB14: =IF(+$B14="Sat",IF(SUM(BA$11:BA14,Jan!BA42:BA$44)>0,AVERAGE(BA$11:BA14,Jan!BA42:BA$44)," "),"") | BC14: =IF(CELL("type",BA14)="l","",IF(BA14*($K14+$AQ14)=0,"",IF($AQ14>0,+$AQ14*BA14*8.34,$K14*BA14*8.34))) | BD14: =IF(+$B14="Sat",IF(SUM(BC$11:BC14,Jan!BC42:BC$44)>0,AVERAGE(BC$11:BC14,Jan!BC42:BC$44)," "),"") | BF14: =IF(CELL("type",BE14)="l","",IF(BE14*($K14+$AQ14)=0,"",IF($AQ14>0,+$AQ14*BE14*8.34,$K14*BE14*8.34))) | BG14: =+A14 -> 4 | BV14: =+A14 -> 4 | BX14: =IF(CELL("type",BW14)="l","",IF(BW14*($K14+$AQ14)=0,"",IF($AQ14>0,+$AQ14*BW14*8.34,$K14*BW14*8.34))) | BZ14: =IF(CELL("type",BY14)="l","",IF(BY14*($K14+$AQ14)=0,"",IF($AQ14>0,+$AQ14*BY14*8.34,$K14*BY14*8.34))) | CM14: =+T14 -> 4
A15: 5 | B15: =TEXT(J$5 + A15-1,"DDD") -> Thu | N15: =IF(CELL("type",M15)="L","",IF(M15*(K15+AQ15)=0,"",IF(K15>0,+K15*M15*8.34,AQ15*M15*8.34))) | P15: =IF(CELL("type",O15)="L","",IF(O15*($K15+$AQ15)=0,"",IF($K15>0,+$K15*O15*8.34,$AQ15*O15*8.34))) | T15: =+A15 -> 5 | Y15: =IF(W15*X15=0,"",IF(W15<100,W15*10000/X15,W15*1000/X15)) | AI15: =IF(CELL("type",AJ15)="b","",IF(AJ15="tntc",63200,IF(AJ15=0,1,AJ15))) | AO15: =+A15 -> 5 | AP15: =+B15 -> Thu | AR15: =IF(+$B15="Sat",IF(SUM(AQ$11:AQ15)>0,AVERAGE(AQ$11:AQ15,Jan!AQ43:AQ$44)," "),"") | AT15: =IF(+$B15="Sat",IF(SUM(AS$11:AS15,Jan!AS43:AS$44)>0,AVERAGE(AS$11:AS15,Jan!AS43:AS$44)," "),"") | AU15: =IF(CELL("type",AS15)="l","",IF(AS15*($K15+$AQ15)=0,"",IF($AQ15>0,+$AQ15*AS15*8.34,$K15*AS15*8.34))) | AV15: =IF(+$B15="Sat",IF(SUM(AU$11:AU15,Jan!AU43:AU$44)>0,AVERAGE(AU$11:AU15,Jan!AU43:AU$44)," "),"") | AX15: =IF(+$B15="Sat",IF(SUM(AW$11:AW15,Jan!AW43:AW$44)>0,AVERAGE(AW$11:AW15,Jan!AW43:AW$44)," "),"") | AY15: =IF(CELL("type",AW15)="l","",IF(AW15*($K15+$AQ15)=0,"",IF($AQ15>0,+$AQ15*AW15*8.34,$K15*AW15*8.34))) | AZ15: =IF(+$B15="Sat",IF(SUM(AY$11:AY15,Jan!AY43:AY$44)>0,AVERAGE(AY$11:AY15,Jan!AY43:AY$44)," "),"") | BB15: =IF(+$B15="Sat",IF(SUM(BA$11:BA15,Jan!BA43:BA$44)>0,AVERAGE(BA$11:BA15,Jan!BA43:BA$44)," "),"") | BC15: =IF(CELL("type",BA15)="l","",IF(BA15*($K15+$AQ15)=0,"",IF($AQ15>0,+$AQ15*BA15*8.34,$K15*BA15*8.34))) | BD15: =IF(+$B15="Sat",IF(SUM(BC$11:BC15,Jan!BC43:BC$44)>0,AVERAGE(BC$11:BC15,Jan!BC43:BC$44)," "),"") | BF15: =IF(CELL("type",BE15)="l","",IF(BE15*($K15+$AQ15)=0,"",IF($AQ15>0,+$AQ15*BE15*8.34,$K15*BE15*8.34))) | BG15: =+A15 -> 5 | BV15: =+A15 -> 5 | BX15: =IF(CELL("type",BW15)="l","",IF(BW15*($K15+$AQ15)=0,"",IF($AQ15>0,+$AQ15*BW15*8.34,$K15*BW15*8.34))) | BZ15: =IF(CELL("type",BY15)="l","",IF(BY15*($K15+$AQ15)=0,"",IF($AQ15>0,+$AQ15*BY15*8.34,$K15*BY15*8.34))) | CM15: =+T15 -> 5
A16: 6 | B16: =TEXT(J$5 + A16-1,"DDD") -> Fri | N16: =IF(CELL("type",M16)="L","",IF(M16*(K16+AQ16)=0,"",IF(K16>0,+K16*M16*8.34,AQ16*M16*8.34))) | P16: =IF(CELL("type",O16)="L","",IF(O16*($K16+$AQ16)=0,"",IF($K16>0,+$K16*O16*8.34,$AQ16*O16*8.34))) | T16: =+A16 -> 6 | Y16: =IF(W16*X16=0,"",IF(W16<100,W16*10000/X16,W16*1000/X16)) | AI16: =IF(CELL("type",AJ16)="b","",IF(AJ16="tntc",63200,IF(AJ16=0,1,AJ16))) | AO16: =+A16 -> 6 | AP16: =+B16 -> Fri | AR16: =IF(+$B16="Sat",IF(SUM(AQ$11:AQ16)>0,AVERAGE(AQ$11:AQ16,Jan!AQ44:AQ$44)," "),"") | AT16: =IF(+$B16="Sat",IF(SUM(AS$11:AS16)>0,AVERAGE(AS$11:AS16,Jan!AS44:AS$44)," "),"") | AU16: =IF(CELL("type",AS16)="l","",IF(AS16*($K16+$AQ16)=0,"",IF($AQ16>0,+$AQ16*AS16*8.34,$K16*AS16*8.34))) | AV16: =IF(+$B16="Sat",IF(SUM(AU$11:AU16)>0,AVERAGE(AU$11:AU16,Jan!AU44:AU$44)," "),"") | AX16: =IF(+$B16="Sat",IF(SUM(AW$11:AW16)>0,AVERAGE(AW$11:AW16,Jan!AW44:AW$44)," "),"") | AY16: =IF(CELL("type",AW16)="l","",IF(AW16*($K16+$AQ16)=0,"",IF($AQ16>0,+$AQ16*AW16*8.34,$K16*AW16*8.34))) | AZ16: =IF(+$B16="Sat",IF(SUM(AY$11:AY16)>0,AVERAGE(AY$11:AY16,Jan!AY44:AY$44)," "),"") | BB16: =IF(+$B16="Sat",IF(SUM(BA$11:BA16)>0,AVERAGE(BA$11:BA16,Jan!BA44:BA$44)," "),"") | BC16: =IF(CELL("type",BA16)="l","",IF(BA16*($K16+$AQ16)=0,"",IF($AQ16>0,+$AQ16*BA16*8.34,$K16*BA16*8.34))) | BD16: =IF(+$B16="Sat",IF(SUM(BC$11:BC16)>0,AVERAGE(BC$11:BC16,Jan!BC44:BC$44)," "),"") | BF16: =IF(CELL("type",BE16)="l","",IF(BE16*($K16+$AQ16)=0,"",IF($AQ16>0,+$AQ16*BE16*8.34,$K16*BE16*8.34))) | BG16: =+A16 -> 6 | BV16: =+A16 -> 6 | BX16: =IF(CELL("type",BW16)="l","",IF(BW16*($K16+$AQ16)=0,"",IF($AQ16>0,+$AQ16*BW16*8.34,$K16*BW16*8.34))) | BZ16: =IF(CELL("type",BY16)="l","",IF(BY16*($K16+$AQ16)=0,"",IF($AQ16>0,+$AQ16*BY16*8.34,$K16*BY16*8.34))) | CM16: =+T16 -> 6
A17: 7 | B17: =TEXT(J$5 + A17-1,"DDD") -> Sat | N17: =IF(CELL("type",M17)="L","",IF(M17*(K17+AQ17)=0,"",IF(K17>0,+K17*M17*8.34,AQ17*M17*8.34))) | P17: =IF(CELL("type",O17)="L","",IF(O17*($K17+$AQ17)=0,"",IF($K17>0,+$K17*O17*8.34,$AQ17*O17*8.34))) | T17: =+A17 -> 7 | Y17: =IF(W17*X17=0,"",IF(W17<100,W17*10000/X17,W17*1000/X17)) | AI17: =IF(CELL("type",AJ17)="b","",IF(AJ17="tntc",63200,IF(AJ17=0,1,AJ17))) | AO17: =+A17 -> 7 | AP17: =+B17 -> Sat | AR17: =IF(+$B17="Sat",IF(SUM(AQ11:AQ17)>0,AVERAGE(AQ11:AQ17)," "),"") | AT17: =IF(+$B17="Sat",IF(SUM(AS11:AS17)>0,AVERAGE(AS11:AS17)," "),"") | AU17: =IF(CELL("type",AS17)="l","",IF(AS17*($K17+$AQ17)=0,"",IF($AQ17>0,+$AQ17*AS17*8.34,$K17*AS17*8.34))) | AV17: =IF(+$B17="Sat",IF(SUM(AU11:AU17)>0,AVERAGE(AU11:AU17)," "),"") | AX17: =IF(+$B17="Sat",IF(SUM(AW11:AW17)>0,AVERAGE(AW11:AW17)," "),"") | AY17: =IF(CELL("type",AW17)="l","",IF(AW17*($K17+$AQ17)=0,"",IF($AQ17>0,+$AQ17*AW17*8.34,$K17*AW17*8.34))) | AZ17: =IF(+$B17="Sat",IF(SUM(AY11:AY17)>0,AVERAGE(AY11:AY17)," "),"") | BB17: =IF(+$B17="Sat",IF(SUM(BA11:BA17)>0,AVERAGE(BA11:BA17)," "),"") | BC17: =IF(CELL("type",BA17)="l","",IF(BA17*($K17+$AQ17)=0,"",IF($AQ17>0,+$AQ17*BA17*8.34,$K17*BA17*8.34))) | BD17: =IF(+$B17="Sat",IF(SUM(BC11:BC17)>0,AVERAGE(BC11:BC17)," "),"") | BF17: =IF(CELL("type",BE17)="l","",IF(BE17*($K17+$AQ17)=0,"",IF($AQ17>0,+$AQ17*BE17*8.34,$K17*BE17*8.34))) | BG17: =+A17 -> 7 | BV17: =+A17 -> 7 | BX17: =IF(CELL("type",BW17)="l","",IF(BW17*($K17+$AQ17)=0,"",IF($AQ17>0,+$AQ17*BW17*8.34,$K17*BW17*8.34))) | BZ17: =IF(CELL("type",BY17)="l","",IF(BY17*($K17+$AQ17)=0,"",IF($AQ17>0,+$AQ17*BY17*8.34,$K17*BY17*8.34))) | CM17: =+T17 -> 7
A18: 8 | B18: =TEXT(J$5 + A18-1,"DDD") -> Sun | N18: =IF(CELL("type",M18)="L","",IF(M18*(K18+AQ18)=0,"",IF(K18>0,+K18*M18*8.34,AQ18*M18*8.34))) | P18: =IF(CELL("type",O18)="L","",IF(O18*($K18+$AQ18)=0,"",IF($K18>0,+$K18*O18*8.34,$AQ18*O18*8.34))) | T18: =+A18 -> 8 | Y18: =IF(W18*X18=0,"",IF(W18<100,W18*10000/X18,W18*1000/X18)) | AI18: =IF(CELL("type",AJ18)="b","",IF(AJ18="tntc",63200,IF(AJ18=0,1,AJ18))) | AO18: =+A18 -> 8 | AP18: =+B18 -> Sun | AR18: =IF(+$B18="Sat",IF(SUM(AQ12:AQ18)>0,AVERAGE(AQ12:AQ18)," "),"") | AT18: =IF(+$B18="Sat",IF(SUM(AS12:AS18)>0,AVERAGE(AS12:AS18)," "),"") | AU18: =IF(CELL("type",AS18)="l","",IF(AS18*($K18+$AQ18)=0,"",IF($AQ18>0,+$AQ18*AS18*8.34,$K18*AS18*8.34))) | AV18: =IF(+$B18="Sat",IF(SUM(AU12:AU18)>0,AVERAGE(AU12:AU18)," "),"") | AX18: =IF(+$B18="Sat",IF(SUM(AW12:AW18)>0,AVERAGE(AW12:AW18)," "),"") | AY18: =IF(CELL("type",AW18)="l","",IF(AW18*($K18+$AQ18)=0,"",IF($AQ18>0,+$AQ18*AW18*8.34,$K18*AW18*8.34))) | AZ18: =IF(+$B18="Sat",IF(SUM(AY12:AY18)>0,AVERAGE(AY12:AY18)," "),"") | BB18: =IF(+$B18="Sat",IF(SUM(BA12:BA18)>0,AVERAGE(BA12:BA18)," "),"") | BC18: =IF(CELL("type",BA18)="l","",IF(BA18*($K18+$AQ18)=0,"",IF($AQ18>0,+$AQ18*BA18*8.34,$K18*BA18*8.34))) | BD18: =IF(+$B18="Sat",IF(SUM(BC12:BC18)>0,AVERAGE(BC12:BC18)," "),"") | BF18: =IF(CELL("type",BE18)="l","",IF(BE18*($K18+$AQ18)=0,"",IF($AQ18>0,+$AQ18*BE18*8.34,$K18*BE18*8.34))) | BG18: =+A18 -> 8 | BV18: =+A18 -> 8 | BX18: =IF(CELL("type",BW18)="l","",IF(BW18*($K18+$AQ18)=0,"",IF($AQ18>0,+$AQ18*BW18*8.34,$K18*BW18*8.34))) | BZ18: =IF(CELL("type",BY18)="l","",IF(BY18*($K18+$AQ18)=0,"",IF($AQ18>0,+$AQ18*BY18*8.34,$K18*BY18*8.34))) | CM18: =+T18 -> 8
A19: 9 | B19: =TEXT(J$5 + A19-1,"DDD") -> Mon | N19: =IF(CELL("type",M19)="L","",IF(M19*(K19+AQ19)=0,"",IF(K19>0,+K19*M19*8.34,AQ19*M19*8.34))) | P19: =IF(CELL("type",O19)="L","",IF(O19*($K19+$AQ19)=0,"",IF($K19>0,+$K19*O19*8.34,$AQ19*O19*8.34))) | T19: =+A19 -> 9 | Y19: =IF(W19*X19=0,"",IF(W19<100,W19*10000/X19,W19*1000/X19)) | AI19: =IF(CELL("type",AJ19)="b","",IF(AJ19="tntc",63200,IF(AJ19=0,1,AJ19))) | AO19: =+A19 -> 9 | AP19: =+B19 -> Mon | AR19: =IF(+$B19="Sat",IF(SUM(AQ13:AQ19)>0,AVERAGE(AQ13:AQ19)," "),"") | AT19: =IF(+$B19="Sat",IF(SUM(AS13:AS19)>0,AVERAGE(AS13:AS19)," "),"") | AU19: =IF(CELL("type",AS19)="l","",IF(AS19*($K19+$AQ19)=0,"",IF($AQ19>0,+$AQ19*AS19*8.34,$K19*AS19*8.34))) | AV19: =IF(+$B19="Sat",IF(SUM(AU13:AU19)>0,AVERAGE(AU13:AU19)," "),"") | AX19: =IF(+$B19="Sat",IF(SUM(AW13:AW19)>0,AVERAGE(AW13:AW19)," "),"") | AY19: =IF(CELL("type",AW19)="l","",IF(AW19*($K19+$AQ19)=0,"",IF($AQ19>0,+$AQ19*AW19*8.34,$K19*AW19*8.34))) | AZ19: =IF(+$B19="Sat",IF(SUM(AY13:AY19)>0,AVERAGE(AY13:AY19)," "),"") | BB19: =IF(+$B19="Sat",IF(SUM(BA13:BA19)>0,AVERAGE(BA13:BA19)," "),"") | BC19: =IF(CELL("type",BA19)="l","",IF(BA19*($K19+$AQ19)=0,"",IF($AQ19>0,+$AQ19*BA19*8.34,$K19*BA19*8.34))) | BD19: =IF(+$B19="Sat",IF(SUM(BC13:BC19)>0,AVERAGE(BC13:BC19)," "),"") | BF19: =IF(CELL("type",BE19)="l","",IF(BE19*($K19+$AQ19)=0,"",IF($AQ19>0,+$AQ19*BE19*8.34,$K19*BE19*8.34))) | BG19: =+A19 -> 9 | BV19: =+A19 -> 9 | BX19: =IF(CELL("type",BW19)="l","",IF(BW19*($K19+$AQ19)=0,"",IF($AQ19>0,+$AQ19*BW19*8.34,$K19*BW19*8.34))) | BZ19: =IF(CELL("type",BY19)="l","",IF(BY19*($K19+$AQ19)=0,"",IF($AQ19>0,+$AQ19*BY19*8.34,$K19*BY19*8.34))) | CM19: =+T19 -> 9
A20: 10 | B20: =TEXT(J$5 + A20-1,"DDD") -> Tue | N20: =IF(CELL("type",M20)="L","",IF(M20*(K20+AQ20)=0,"",IF(K20>0,+K20*M20*8.34,AQ20*M20*8.34))) | P20: =IF(CELL("type",O20)="L","",IF(O20*($K20+$AQ20)=0,"",IF($K20>0,+$K20*O20*8.34,$AQ20*O20*8.34))) | T20: =+A20 -> 10 | Y20: =IF(W20*X20=0,"",IF(W20<100,W20*10000/X20,W20*1000/X20)) | AI20: =IF(CELL("type",AJ20)="b","",IF(AJ20="tntc",63200,IF(AJ20=0,1,AJ20))) | AO20: =+A20 -> 10 | AP20: =+B20 -> Tue | AR20: =IF(+$B20="Sat",IF(SUM(AQ14:AQ20)>0,AVERAGE(AQ14:AQ20)," "),"") | AT20: =IF(+$B20="Sat",IF(SUM(AS14:AS20)>0,AVERAGE(AS14:AS20)," "),"") | AU20: =IF(CELL("type",AS20)="l","",IF(AS20*($K20+$AQ20)=0,"",IF($AQ20>0,+$AQ20*AS20*8.34,$K20*AS20*8.34))) | AV20: =IF(+$B20="Sat",IF(SUM(AU14:AU20)>0,AVERAGE(AU14:AU20)," "),"") | AX20: =IF(+$B20="Sat",IF(SUM(AW14:AW20)>0,AVERAGE(AW14:AW20)," "),"") | AY20: =IF(CELL("type",AW20)="l","",IF(AW20*($K20+$AQ20)=0,"",IF($AQ20>0,+$AQ20*AW20*8.34,$K20*AW20*8.34))) | AZ20: =IF(+$B20="Sat",IF(SUM(AY14:AY20)>0,AVERAGE(AY14:AY20)," "),"") | BB20: =IF(+$B20="Sat",IF(SUM(BA14:BA20)>0,AVERAGE(BA14:BA20)," "),"") | BC20: =IF(CELL("type",BA20)="l","",IF(BA20*($K20+$AQ20)=0,"",IF($AQ20>0,+$AQ20*BA20*8.34,$K20*BA20*8.34))) | BD20: =IF(+$B20="Sat",IF(SUM(BC14:BC20)>0,AVERAGE(BC14:BC20)," "),"") | BF20: =IF(CELL("type",BE20)="l","",IF(BE20*($K20+$AQ20)=0,"",IF($AQ20>0,+$AQ20*BE20*8.34,$K20*BE20*8.34))) | BG20: =+A20 -> 10 | BV20: =+A20 -> 10 | BX20: =IF(CELL("type",BW20)="l","",IF(BW20*($K20+$AQ20)=0,"",IF($AQ20>0,+$AQ20*BW20*8.34,$K20*BW20*8.34))) | BZ20: =IF(CELL("type",BY20)="l","",IF(BY20*($K20+$AQ20)=0,"",IF($AQ20>0,+$AQ20*BY20*8.34,$K20*BY20*8.34))) | CM20: =+T20 -> 10
A21: 11 | B21: =TEXT(J$5 + A21-1,"DDD") -> Wed | N21: =IF(CELL("type",M21)="L","",IF(M21*(K21+AQ21)=0,"",IF(K21>0,+K21*M21*8.34,AQ21*M21*8.34))) | P21: =IF(CELL("type",O21)="L","",IF(O21*($K21+$AQ21)=0,"",IF($K21>0,+$K21*O21*8.34,$AQ21*O21*8.34))) | T21: =+A21 -> 11 | Y21: =IF(W21*X21=0,"",IF(W21<100,W21*10000/X21,W21*1000/X21)) | AI21: =IF(CELL("type",AJ21)="b","",IF(AJ21="tntc",63200,IF(AJ21=0,1,AJ21))) | AO21: =+A21 -> 11 | AP21: =+B21 -> Wed | AR21: =IF(+$B21="Sat",IF(SUM(AQ15:AQ21)>0,AVERAGE(AQ15:AQ21)," "),"") | AT21: =IF(+$B21="Sat",IF(SUM(AS15:AS21)>0,AVERAGE(AS15:AS21)," "),"") | AU21: =IF(CELL("type",AS21)="l","",IF(AS21*($K21+$AQ21)=0,"",IF($AQ21>0,+$AQ21*AS21*8.34,$K21*AS21*8.34))) | AV21: =IF(+$B21="Sat",IF(SUM(AU15:AU21)>0,AVERAGE(AU15:AU21)," "),"") | AX21: =IF(+$B21="Sat",IF(SUM(AW15:AW21)>0,AVERAGE(AW15:AW21)," "),"") | AY21: =IF(CELL("type",AW21)="l","",IF(AW21*($K21+$AQ21)=0,"",IF($AQ21>0,+$AQ21*AW21*8.34,$K21*AW21*8.34))) | AZ21: =IF(+$B21="Sat",IF(SUM(AY15:AY21)>0,AVERAGE(AY15:AY21)," "),"") | BB21: =IF(+$B21="Sat",IF(SUM(BA15:BA21)>0,AVERAGE(BA15:BA21)," "),"") | BC21: =IF(CELL("type",BA21)="l","",IF(BA21*($K21+$AQ21)=0,"",IF($AQ21>0,+$AQ21*BA21*8.34,$K21*BA21*8.34))) | BD21: =IF(+$B21="Sat",IF(SUM(BC15:BC21)>0,AVERAGE(BC15:BC21)," "),"") | BF21: =IF(CELL("type",BE21)="l","",IF(BE21*($K21+$AQ21)=0,"",IF($AQ21>0,+$AQ21*BE21*8.34,$K21*BE21*8.34))) | BG21: =+A21 -> 11 | BV21: =+A21 -> 11 | BX21: =IF(CELL("type",BW21)="l","",IF(BW21*($K21+$AQ21)=0,"",IF($AQ21>0,+$AQ21*BW21*8.34,$K21*BW21*8.34))) | BZ21: =IF(CELL("type",BY21)="l","",IF(BY21*($K21+$AQ21)=0,"",IF($AQ21>0,+$AQ21*BY21*8.34,$K21*BY21*8.34))) | CM21: =+T21 -> 11
A22: 12 | B22: =TEXT(J$5 + A22-1,"DDD") -> Thu | N22: =IF(CELL("type",M22)="L","",IF(M22*(K22+AQ22)=0,"",IF(K22>0,+K22*M22*8.34,AQ22*M22*8.34))) | P22: =IF(CELL("type",O22)="L","",IF(O22*($K22+$AQ22)=0,"",IF($K22>0,+$K22*O22*8.34,$AQ22*O22*8.34))) | T22: =+A22 -> 12 | Y22: =IF(W22*X22=0,"",IF(W22<100,W22*10000/X22,W22*1000/X22)) | AI22: =IF(CELL("type",AJ22)="b","",IF(AJ22="tntc",63200,IF(AJ22=0,1,AJ22))) | AO22: =+A22 -> 12 | AP22: =+B22 -> Thu | AR22: =IF(+$B22="Sat",IF(SUM(AQ16:AQ22)>0,AVERAGE(AQ16:AQ22)," "),"") | AT22: =IF(+$B22="Sat",IF(SUM(AS16:AS22)>0,AVERAGE(AS16:AS22)," "),"") | AU22: =IF(CELL("type",AS22)="l","",IF(AS22*($K22+$AQ22)=0,"",IF($AQ22>0,+$AQ22*AS22*8.34,$K22*AS22*8.34))) | AV22: =IF(+$B22="Sat",IF(SUM(AU16:AU22)>0,AVERAGE(AU16:AU22)," "),"") | AX22: =IF(+$B22="Sat",IF(SUM(AW16:AW22)>0,AVERAGE(AW16:AW22)," "),"") | AY22: =IF(CELL("type",AW22)="l","",IF(AW22*($K22+$AQ22)=0,"",IF($AQ22>0,+$AQ22*AW22*8.34,$K22*AW22*8.34))) | AZ22: =IF(+$B22="Sat",IF(SUM(AY16:AY22)>0,AVERAGE(AY16:AY22)," "),"") | BB22: =IF(+$B22="Sat",IF(SUM(BA16:BA22)>0,AVERAGE(BA16:BA22)," "),"") | BC22: =IF(CELL("type",BA22)="l","",IF(BA22*($K22+$AQ22)=0,"",IF($AQ22>0,+$AQ22*BA22*8.34,$K22*BA22*8.34))) | BD22: =IF(+$B22="Sat",IF(SUM(BC16:BC22)>0,AVERAGE(BC16:BC22)," "),"") | BF22: =IF(CELL("type",BE22)="l","",IF(BE22*($K22+$AQ22)=0,"",IF($AQ22>0,+$AQ22*BE22*8.34,$K22*BE22*8.34))) | BG22: =+A22 -> 12 | BV22: =+A22 -> 12 | BX22: =IF(CELL("type",BW22)="l","",IF(BW22*($K22+$AQ22)=0,"",IF($AQ22>0,+$AQ22*BW22*8.34,$K22*BW22*8.34))) | BZ22: =IF(CELL("type",BY22)="l","",IF(BY22*($K22+$AQ22)=0,"",IF($AQ22>0,+$AQ22*BY22*8.34,$K22*BY22*8.34))) | CM22: =+T22 -> 12
A23: 13 | B23: =TEXT(J$5 + A23-1,"DDD") -> Fri | N23: =IF(CELL("type",M23)="L","",IF(M23*(K23+AQ23)=0,"",IF(K23>0,+K23*M23*8.34,AQ23*M23*8.34))) | P23: =IF(CELL("type",O23)="L","",IF(O23*($K23+$AQ23)=0,"",IF($K23>0,+$K23*O23*8.34,$AQ23*O23*8.34))) | T23: =+A23 -> 13 | Y23: =IF(W23*X23=0,"",IF(W23<100,W23*10000/X23,W23*1000/X23)) | AI23: =IF(CELL("type",AJ23)="b","",IF(AJ23="tntc",63200,IF(AJ23=0,1,AJ23))) | AO23: =+A23 -> 13 | AP23: =+B23 -> Fri | AR23: =IF(+$B23="Sat",IF(SUM(AQ17:AQ23)>0,AVERAGE(AQ17:AQ23)," "),"") | AT23: =IF(+$B23="Sat",IF(SUM(AS17:AS23)>0,AVERAGE(AS17:AS23)," "),"") | AU23: =IF(CELL("type",AS23)="l","",IF(AS23*($K23+$AQ23)=0,"",IF($AQ23>0,+$AQ23*AS23*8.34,$K23*AS23*8.34))) | AV23: =IF(+$B23="Sat",IF(SUM(AU17:AU23)>0,AVERAGE(AU17:AU23)," "),"") | AX23: =IF(+$B23="Sat",IF(SUM(AW17:AW23)>0,AVERAGE(AW17:AW23)," "),"") | AY23: =IF(CELL("type",AW23)="l","",IF(AW23*($K23+$AQ23)=0,"",IF($AQ23>0,+$AQ23*AW23*8.34,$K23*AW23*8.34))) | AZ23: =IF(+$B23="Sat",IF(SUM(AY17:AY23)>0,AVERAGE(AY17:AY23)," "),"") | BB23: =IF(+$B23="Sat",IF(SUM(BA17:BA23)>0,AVERAGE(BA17:BA23)," "),"") | BC23: =IF(CELL("type",BA23)="l","",IF(BA23*($K23+$AQ23)=0,"",IF($AQ23>0,+$AQ23*BA23*8.34,$K23*BA23*8.34))) | BD23: =IF(+$B23="Sat",IF(SUM(BC17:BC23)>0,AVERAGE(BC17:BC23)," "),"") | BF23: =IF(CELL("type",BE23)="l","",IF(BE23*($K23+$AQ23)=0,"",IF($AQ23>0,+$AQ23*BE23*8.34,$K23*BE23*8.34))) | BG23: =+A23 -> 13 | BV23: =+A23 -> 13 | BX23: =IF(CELL("type",BW23)="l","",IF(BW23*($K23+$AQ23)=0,"",IF($AQ23>0,+$AQ23*BW23*8.34,$K23*BW23*8.34))) | BZ23: =IF(CELL("type",BY23)="l","",IF(BY23*($K23+$AQ23)=0,"",IF($AQ23>0,+$AQ23*BY23*8.34,$K23*BY23*8.34))) | CM23: =+T23 -> 13
A24: 14 | B24: =TEXT(J$5 + A24-1,"DDD") -> Sat | N24: =IF(CELL("type",M24)="L","",IF(M24*(K24+AQ24)=0,"",IF(K24>0,+K24*M24*8.34,AQ24*M24*8.34))) | P24: =IF(CELL("type",O24)="L","",IF(O24*($K24+$AQ24)=0,"",IF($K24>0,+$K24*O24*8.34,$AQ24*O24*8.34))) | T24: =+A24 -> 14 | Y24: =IF(W24*X24=0,"",IF(W24<100,W24*10000/X24,W24*1000/X24)) | AI24: =IF(CELL("type",AJ24)="b","",IF(AJ24="tntc",63200,IF(AJ24=0,1,AJ24))) | AO24: =+A24 -> 14 | AP24: =+B24 -> Sat | AR24: =IF(+$B24="Sat",IF(SUM(AQ18:AQ24)>0,AVERAGE(AQ18:AQ24)," "),"") | AT24: =IF(+$B24="Sat",IF(SUM(AS18:AS24)>0,AVERAGE(AS18:AS24)," "),"") | AU24: =IF(CELL("type",AS24)="l","",IF(AS24*($K24+$AQ24)=0,"",IF($AQ24>0,+$AQ24*AS24*8.34,$K24*AS24*8.34))) | AV24: =IF(+$B24="Sat",IF(SUM(AU18:AU24)>0,AVERAGE(AU18:AU24)," "),"") | AX24: =IF(+$B24="Sat",IF(SUM(AW18:AW24)>0,AVERAGE(AW18:AW24)," "),"") | AY24: =IF(CELL("type",AW24)="l","",IF(AW24*($K24+$AQ24)=0,"",IF($AQ24>0,+$AQ24*AW24*8.34,$K24*AW24*8.34))) | AZ24: =IF(+$B24="Sat",IF(SUM(AY18:AY24)>0,AVERAGE(AY18:AY24)," "),"") | BB24: =IF(+$B24="Sat",IF(SUM(BA18:BA24)>0,AVERAGE(BA18:BA24)," "),"") | BC24: =IF(CELL("type",BA24)="l","",IF(BA24*($K24+$AQ24)=0,"",IF($AQ24>0,+$AQ24*BA24*8.34,$K24*BA24*8.34))) | BD24: =IF(+$B24="Sat",IF(SUM(BC18:BC24)>0,AVERAGE(BC18:BC24)," "),"") | BF24: =IF(CELL("type",BE24)="l","",IF(BE24*($K24+$AQ24)=0,"",IF($AQ24>0,+$AQ24*BE24*8.34,$K24*BE24*8.34))) | BG24: =+A24 -> 14 | BV24: =+A24 -> 14 | BX24: =IF(CELL("type",BW24)="l","",IF(BW24*($K24+$AQ24)=0,"",IF($AQ24>0,+$AQ24*BW24*8.34,$K24*BW24*8.34))) | BZ24: =IF(CELL("type",BY24)="l","",IF(BY24*($K24+$AQ24)=0,"",IF($AQ24>0,+$AQ24*BY24*8.34,$K24*BY24*8.34))) | CM24: =+T24 -> 14
A25: 15 | B25: =TEXT(J$5 + A25-1,"DDD") -> Sun | N25: =IF(CELL("type",M25)="L","",IF(M25*(K25+AQ25)=0,"",IF(K25>0,+K25*M25*8.34,AQ25*M25*8.34))) | P25: =IF(CELL("type",O25)="L","",IF(O25*($K25+$AQ25)=0,"",IF($K25>0,+$K25*O25*8.34,$AQ25*O25*8.34))) | T25: =+A25 -> 15 | Y25: =IF(W25*X25=0,"",IF(W25<100,W25*10000/X25,W25*1000/X25)) | AI25: =IF(CELL("type",AJ25)="b","",IF(AJ25="tntc",63200,IF(AJ25=0,1,AJ25))) | AO25: =+A25 -> 15 | AP25: =+B25 -> Sun | AR25: =IF(+$B25="Sat",IF(SUM(AQ19:AQ25)>0,AVERAGE(AQ19:AQ25)," "),"") | AT25: =IF(+$B25="Sat",IF(SUM(AS19:AS25)>0,AVERAGE(AS19:AS25)," "),"") | AU25: =IF(CELL("type",AS25)="l","",IF(AS25*($K25+$AQ25)=0,"",IF($AQ25>0,+$AQ25*AS25*8.34,$K25*AS25*8.34))) | AV25: =IF(+$B25="Sat",IF(SUM(AU19:AU25)>0,AVERAGE(AU19:AU25)," "),"") | AX25: =IF(+$B25="Sat",IF(SUM(AW19:AW25)>0,AVERAGE(AW19:AW25)," "),"") | AY25: =IF(CELL("type",AW25)="l","",IF(AW25*($K25+$AQ25)=0,"",IF($AQ25>0,+$AQ25*AW25*8.34,$K25*AW25*8.34))) | AZ25: =IF(+$B25="Sat",IF(SUM(AY19:AY25)>0,AVERAGE(AY19:AY25)," "),"") | BB25: =IF(+$B25="Sat",IF(SUM(BA19:BA25)>0,AVERAGE(BA19:BA25)," "),"") | BC25: =IF(CELL("type",BA25)="l","",IF(BA25*($K25+$AQ25)=0,"",IF($AQ25>0,+$AQ25*BA25*8.34,$K25*BA25*8.34))) | BD25: =IF(+$B25="Sat",IF(SUM(BC19:BC25)>0,AVERAGE(BC19:BC25)," "),"") | BF25: =IF(CELL("type",BE25)="l","",IF(BE25*($K25+$AQ25)=0,"",IF($AQ25>0,+$AQ25*BE25*8.34,$K25*BE25*8.34))) | BG25: =+A25 -> 15 | BV25: =+A25 -> 15 | BX25: =IF(CELL("type",BW25)="l","",IF(BW25*($K25+$AQ25)=0,"",IF($AQ25>0,+$AQ25*BW25*8.34,$K25*BW25*8.34))) | BZ25: =IF(CELL("type",BY25)="l","",IF(BY25*($K25+$AQ25)=0,"",IF($AQ25>0,+$AQ25*BY25*8.34,$K25*BY25*8.34))) | CM25: =+T25 -> 15
A26: 16 | B26: =TEXT(J$5 + A26-1,"DDD") -> Mon | N26: =IF(CELL("type",M26)="L","",IF(M26*(K26+AQ26)=0,"",IF(K26>0,+K26*M26*8.34,AQ26*M26*8.34))) | P26: =IF(CELL("type",O26)="L","",IF(O26*($K26+$AQ26)=0,"",IF($K26>0,+$K26*O26*8.34,$AQ26*O26*8.34))) | T26: =+A26 -> 16 | Y26: =IF(W26*X26=0,"",IF(W26<100,W26*10000/X26,W26*1000/X26)) | AI26: =IF(CELL("type",AJ26)="b","",IF(AJ26="tntc",63200,IF(AJ26=0,1,AJ26))) | AO26: =+A26 -> 16 | AP26: =+B26 -> Mon | AR26: =IF(+$B26="Sat",IF(SUM(AQ20:AQ26)>0,AVERAGE(AQ20:AQ26)," "),"") | AT26: =IF(+$B26="Sat",IF(SUM(AS20:AS26)>0,AVERAGE(AS20:AS26)," "),"") | AU26: =IF(CELL("type",AS26)="l","",IF(AS26*($K26+$AQ26)=0,"",IF($AQ26>0,+$AQ26*AS26*8.34,$K26*AS26*8.34))) | AV26: =IF(+$B26="Sat",IF(SUM(AU20:AU26)>0,AVERAGE(AU20:AU26)," "),"") | AX26: =IF(+$B26="Sat",IF(SUM(AW20:AW26)>0,AVERAGE(AW20:AW26)," "),"") | AY26: =IF(CELL("type",AW26)="l","",IF(AW26*($K26+$AQ26)=0,"",IF($AQ26>0,+$AQ26*AW26*8.34,$K26*AW26*8.34))) | AZ26: =IF(+$B26="Sat",IF(SUM(AY20:AY26)>0,AVERAGE(AY20:AY26)," "),"") | BB26: =IF(+$B26="Sat",IF(SUM(BA20:BA26)>0,AVERAGE(BA20:BA26)," "),"") | BC26: =IF(CELL("type",BA26)="l","",IF(BA26*($K26+$AQ26)=0,"",IF($AQ26>0,+$AQ26*BA26*8.34,$K26*BA26*8.34))) | BD26: =IF(+$B26="Sat",IF(SUM(BC20:BC26)>0,AVERAGE(BC20:BC26)," "),"") | BF26: =IF(CELL("type",BE26)="l","",IF(BE26*($K26+$AQ26)=0,"",IF($AQ26>0,+$AQ26*BE26*8.34,$K26*BE26*8.34))) | BG26: =+A26 -> 16 | BV26: =+A26 -> 16 | BX26: =IF(CELL("type",BW26)="l","",IF(BW26*($K26+$AQ26)=0,"",IF($AQ26>0,+$AQ26*BW26*8.34,$K26*BW26*8.34))) | BZ26: =IF(CELL("type",BY26)="l","",IF(BY26*($K26+$AQ26)=0,"",IF($AQ26>0,+$AQ26*BY26*8.34,$K26*BY26*8.34))) | CM26: =+T26 -> 16
A27: 17 | B27: =TEXT(J$5 + A27-1,"DDD") -> Tue | N27: =IF(CELL("type",M27)="L","",IF(M27*(K27+AQ27)=0,"",IF(K27>0,+K27*M27*8.34,AQ27*M27*8.34))) | P27: =IF(CELL("type",O27)="L","",IF(O27*($K27+$AQ27)=0,"",IF($K27>0,+$K27*O27*8.34,$AQ27*O27*8.34))) | T27: =+A27 -> 17 | Y27: =IF(W27*X27=0,"",IF(W27<100,W27*10000/X27,W27*1000/X27)) | AI27: =IF(CELL("type",AJ27)="b","",IF(AJ27="tntc",63200,IF(AJ27=0,1,AJ27))) | AO27: =+A27 -> 17 | AP27: =+B27 -> Tue | AR27: =IF(+$B27="Sat",IF(SUM(AQ21:AQ27)>0,AVERAGE(AQ21:AQ27)," "),"") | AT27: =IF(+$B27="Sat",IF(SUM(AS21:AS27)>0,AVERAGE(AS21:AS27)," "),"") | AU27: =IF(CELL("type",AS27)="l","",IF(AS27*($K27+$AQ27)=0,"",IF($AQ27>0,+$AQ27*AS27*8.34,$K27*AS27*8.34))) | AV27: =IF(+$B27="Sat",IF(SUM(AU21:AU27)>0,AVERAGE(AU21:AU27)," "),"") | AX27: =IF(+$B27="Sat",IF(SUM(AW21:AW27)>0,AVERAGE(AW21:AW27)," "),"") | AY27: =IF(CELL("type",AW27)="l","",IF(AW27*($K27+$AQ27)=0,"",IF($AQ27>0,+$AQ27*AW27*8.34,$K27*AW27*8.34))) | AZ27: =IF(+$B27="Sat",IF(SUM(AY21:AY27)>0,AVERAGE(AY21:AY27)," "),"") | BB27: =IF(+$B27="Sat",IF(SUM(BA21:BA27)>0,AVERAGE(BA21:BA27)," "),"") | BC27: =IF(CELL("type",BA27)="l","",IF(BA27*($K27+$AQ27)=0,"",IF($AQ27>0,+$AQ27*BA27*8.34,$K27*BA27*8.34))) | BD27: =IF(+$B27="Sat",IF(SUM(BC21:BC27)>0,AVERAGE(BC21:BC27)," "),"") | BF27: =IF(CELL("type",BE27)="l","",IF(BE27*($K27+$AQ27)=0,"",IF($AQ27>0,+$AQ27*BE27*8.34,$K27*BE27*8.34))) | BG27: =+A27 -> 17 | BV27: =+A27 -> 17 | BX27: =IF(CELL("type",BW27)="l","",IF(BW27*($K27+$AQ27)=0,"",IF($AQ27>0,+$AQ27*BW27*8.34,$K27*BW27*8.34))) | BZ27: =IF(CELL("type",BY27)="l","",IF(BY27*($K27+$AQ27)=0,"",IF($AQ27>0,+$AQ27*BY27*8.34,$K27*BY27*8.34))) | CM27: =+T27 -> 17
A28: 18 | B28: =TEXT(J$5 + A28-1,"DDD") -> Wed | N28: =IF(CELL("type",M28)="L","",IF(M28*(K28+AQ28)=0,"",IF(K28>0,+K28*M28*8.34,AQ28*M28*8.34))) | P28: =IF(CELL("type",O28)="L","",IF(O28*($K28+$AQ28)=0,"",IF($K28>0,+$K28*O28*8.34,$AQ28*O28*8.34))) | T28: =+A28 -> 18 | Y28: =IF(W28*X28=0,"",IF(W28<100,W28*10000/X28,W28*1000/X28)) | AI28: =IF(CELL("type",AJ28)="b","",IF(AJ28="tntc",63200,IF(AJ28=0,1,AJ28))) | AO28: =+A28 -> 18 | AP28: =+B28 -> Wed | AR28: =IF(+$B28="Sat",IF(SUM(AQ22:AQ28)>0,AVERAGE(AQ22:AQ28)," "),"") | AT28: =IF(+$B28="Sat",IF(SUM(AS22:AS28)>0,AVERAGE(AS22:AS28)," "),"") | AU28: =IF(CELL("type",AS28)="l","",IF(AS28*($K28+$AQ28)=0,"",IF($AQ28>0,+$AQ28*AS28*8.34,$K28*AS28*8.34))) | AV28: =IF(+$B28="Sat",IF(SUM(AU22:AU28)>0,AVERAGE(AU22:AU28)," "),"") | AX28: =IF(+$B28="Sat",IF(SUM(AW22:AW28)>0,AVERAGE(AW22:AW28)," "),"") | AY28: =IF(CELL("type",AW28)="l","",IF(AW28*($K28+$AQ28)=0,"",IF($AQ28>0,+$AQ28*AW28*8.34,$K28*AW28*8.34))) | AZ28: =IF(+$B28="Sat",IF(SUM(AY22:AY28)>0,AVERAGE(AY22:AY28)," "),"") | BB28: =IF(+$B28="Sat",IF(SUM(BA22:BA28)>0,AVERAGE(BA22:BA28)," "),"") | BC28: =IF(CELL("type",BA28)="l","",IF(BA28*($K28+$AQ28)=0,"",IF($AQ28>0,+$AQ28*BA28*8.34,$K28*BA28*8.34))) | BD28: =IF(+$B28="Sat",IF(SUM(BC22:BC28)>0,AVERAGE(BC22:BC28)," "),"") | BF28: =IF(CELL("type",BE28)="l","",IF(BE28*($K28+$AQ28)=0,"",IF($AQ28>0,+$AQ28*BE28*8.34,$K28*BE28*8.34))) | BG28: =+A28 -> 18 | BV28: =+A28 -> 18 | BX28: =IF(CELL("type",BW28)="l","",IF(BW28*($K28+$AQ28)=0,"",IF($AQ28>0,+$AQ28*BW28*8.34,$K28*BW28*8.34))) | BZ28: =IF(CELL("type",BY28)="l","",IF(BY28*($K28+$AQ28)=0,"",IF($AQ28>0,+$AQ28*BY28*8.34,$K28*BY28*8.34))) | CM28: =+T28 -> 18
... A37: 27 | B37: =TEXT(J$5 + A37-1,"DDD") -> Fri | N37: =IF(CELL("type",M37)="L","",IF(M37*(K37+AQ37)=0,"",IF(K37>0,+K37*M37*8.34,AQ37*M37*8.34))) | P37: =IF(CELL("type",O37)="L","",IF(O37*($K37+$AQ37)=0,"",IF($K37>0,+$K37*O37*8.34,$AQ37*O37*8.34))) | T37: =+A37 -> 27 | Y37: =IF(W37*X37=0,"",IF(W37<100,W37*10000/X37,W37*1000/X37)) | AI37: =IF(CELL("type",AJ37)="b","",IF(AJ37="tntc",63200,IF(AJ37=0,1,AJ37))) | AO37: =+A37 -> 27 | AP37: =+B37 -> Fri | AR37: =IF(+$B37="Sat",IF(SUM(AQ31:AQ37)>0,AVERAGE(AQ31:AQ37)," "),"") | AT37: =IF(+$B37="Sat",IF(SUM(AS31:AS37)>0,AVERAGE(AS31:AS37)," "),"") | AU37: =IF(CELL("type",AS37)="l","",IF(AS37*($K37+$AQ37)=0,"",IF($AQ37>0,+$AQ37*AS37*8.34,$K37*AS37*8.34))) | AV37: =IF(+$B37="Sat",IF(SUM(AU31:AU37)>0,AVERAGE(AU31:AU37)," "),"") | AX37: =IF(+$B37="Sat",IF(SUM(AW31:AW37)>0,AVERAGE(AW31:AW37)," "),"") | AY37: =IF(CELL("type",AW37)="l","",IF(AW37*($K37+$AQ37)=0,"",IF($AQ37>0,+$AQ37*AW37*8.34,$K37*AW37*8.34))) | AZ37: =IF(+$B37="Sat",IF(SUM(AY31:AY37)>0,AVERAGE(AY31:AY37)," "),"") | BB37: =IF(+$B37="Sat",IF(SUM(BA31:BA37)>0,AVERAGE(BA31:BA37)," "),"") | BC37: =IF(CELL("type",BA37)="l","",IF(BA37*($K37+$AQ37)=0,"",IF($AQ37>0,+$AQ37*BA37*8.34,$K37*BA37*8.34))) | BD37: =IF(+$B37="Sat",IF(SUM(BC31:BC37)>0,AVERAGE(BC31:BC37)," "),"") | BF37: =IF(CELL("type",BE37)="l","",IF(BE37*($K37+$AQ37)=0,"",IF($AQ37>0,+$AQ37*BE37*8.34,$K37*BE37*8.34))) | BG37: =+A37 -> 27 | BV37: =+A37 -> 27 | BX37: =IF(CELL("type",BW37)="l","",IF(BW37*($K37+$AQ37)=0,"",IF($AQ37>0,+$AQ37*BW37*8.34,$K37*BW37*8.34))) | BZ37: =IF(CELL("type",BY37)="l","",IF(BY37*($K37+$AQ37)=0,"",IF($AQ37>0,+$AQ37*BY37*8.34,$K37*BY37*8.34))) | CM37: =+T37 -> 27
A38: 28 | B38: =TEXT(J$5 + A38-1,"DDD") -> Sat | N38: =IF(CELL("type",M38)="L","",IF(M38*(K38+AQ38)=0,"",IF(K38>0,+K38*M38*8.34,AQ38*M38*8.34))) | P38: =IF(CELL("type",O38)="L","",IF(O38*($K38+$AQ38)=0,"",IF($K38>0,+$K38*O38*8.34,$AQ38*O38*8.34))) | T38: =+A38 -> 28 | Y38: =IF(W38*X38=0,"",IF(W38<100,W38*10000/X38,W38*1000/X38)) | AI38: =IF(CELL("type",AJ38)="b","",IF(AJ38="tntc",63200,IF(AJ38=0,1,AJ38))) | AO38: =+A38 -> 28 | AP38: =+B38 -> Sat | AR38: =IF(AND(+$B38="Sat",SUM(AQ32:AQ38)>0),AVERAGE(AQ32:AQ38),IF($A$39=29,"",IF(AND(+$B38="Fri",SUM(AQ33:AQ38,Mar!AQ$11)>0),AVERAGE(AQ33:AQ38,Mar!AQ$11),IF(AND(+$B38="Thu",SUM(AQ34:AQ38,Mar!AQ$11:AQ$12)>0),AVERAGE(AQ34:AQ38,Mar!AQ$11:AQ$12),IF(AND(+$B38="Wed",SUM(AQ35:AQ38,Mar!AQ$11:AQ$13)>0),AVERAGE(AQ35:AQ38,Mar!AQ$11:AQ$13),""))))) | AT38: =IF(AND(+$B38="Sat",SUM(AS32:AS38)>0),AVERAGE(AS32:AS38),IF($A$39=29,"",IF(AND(+$B38="Fri",SUM(AS33:AS38,Mar!AS$11)>0),AVERAGE(AS33:AS38,Mar!AS$11),IF(AND(+$B38="Thu",SUM(AS34:AS38,Mar!AS$11:AS$12)>0),AVERAGE(AS34:AS38,Mar!AS$11:AS$12),IF(AND(+$B38="Wed",SUM(AS35:AS38,Mar!AS$11:AS$13)>0),AVERAGE(AS35:AS38,Mar!AS$11:AS$13),""))))) | AU38: =IF(CELL("type",AS38)="l","",IF(AS38*($K38+$AQ38)=0,"",IF($AQ38>0,+$AQ38*AS38*8.34,$K38*AS38*8.34))) | AV38: =IF(AND(+$B38="Sat",SUM(AU32:AU38)>0),AVERAGE(AU32:AU38),IF($A$39=29,"",IF(AND(+$B38="Fri",SUM(AU33:AU38,Mar!AU$11)>0),AVERAGE(AU33:AU38,Mar!AU$11),IF(AND(+$B38="Thu",SUM(AU34:AU38,Mar!AU$11:AU$12)>0),AVERAGE(AU34:AU38,Mar!AU$11:AU$12),IF(AND(+$B38="Wed",SUM(AU35:AU38,Mar!AU$11:AU$13)>0),AVERAGE(AU35:AU38,Mar!AU$11:AU$13),""))))) | AX38: =IF(AND(+$B38="Sat",SUM(AW32:AW38)>0),AVERAGE(AW32:AW38),IF($A$39=29,"",IF(AND(+$B38="Fri",SUM(AW33:AW38,Mar!AW$11)>0),AVERAGE(AW33:AW38,Mar!AW$11),IF(AND(+$B38="Thu",SUM(AW34:AW38,Mar!AW$11:AW$12)>0),AVERAGE(AW34:AW38,Mar!AW$11:AW$12),IF(AND(+$B38="Wed",SUM(AW35:AW38,Mar!AW$11:AW$13)>0),AVERAGE(AW35:AW38,Mar!AW$11:AW$13),""))))) | AY38: =IF(CELL("type",AW38)="l","",IF(AW38*($K38+$AQ38)=0,"",IF($AQ38>0,+$AQ38*AW38*8.34,$K38*AW38*8.34))) | AZ38: =IF(AND(+$B38="Sat",SUM(AY32:AY38)>0),AVERAGE(AY32:AY38),IF($A$39=29,"",IF(AND(+$B38="Fri",SUM(AY33:AY38,Mar!AY$11)>0),AVERAGE(AY33:AY38,Mar!AY$11),IF(AND(+$B38="Thu",SUM(AY34:AY38,Mar!AY$11:AY$12)>0),AVERAGE(AY34:AY38,Mar!AY$11:AY$12),IF(AND(+$B38="Wed",SUM(AY35:AY38,Mar!AY$11:AY$13)>0),AVERAGE(AY35:AY38,Mar!AY$11:AY$13),""))))) | BB38: =IF(AND(+$B38="Sat",SUM(BA32:BA38)>0),AVERAGE(BA32:BA38),IF($A$39=29,"",IF(AND(+$B38="Fri",SUM(BA33:BA38,Mar!BA$11)>0),AVERAGE(BA33:BA38,Mar!BA$11),IF(AND(+$B38="Thu",SUM(BA34:BA38,Mar!BA$11:BA$12)>0),AVERAGE(BA34:BA38,Mar!BA$11:BA$12),IF(AND(+$B38="Wed",SUM(BA35:BA38,Mar!BA$11:BA$13)>0),AVERAGE(BA35:BA38,Mar!BA$11:BA$13),""))))) | BC38: =IF(CELL("type",BA38)="l","",IF(BA38*($K38+$AQ38)=0,"",IF($AQ38>0,+$AQ38*BA38*8.34,$K38*BA38*8.34))) | BD38: =IF(AND(+$B38="Sat",SUM(BC32:BC38)>0),AVERAGE(BC32:BC38),IF($A$39=29,"",IF(AND(+$B38="Fri",SUM(BC33:BC38,Mar!BC$11)>0),AVERAGE(BC33:BC38,Mar!BC$11),IF(AND(+$B38="Thu",SUM(BC34:BC38,Mar!BC$11:BC$12)>0),AVERAGE(BC34:BC38,Mar!BC$11:BC$12),IF(AND(+$B38="Wed",SUM(BC35:BC38,Mar!BC$11:BC$13)>0),AVERAGE(BC35:BC38,Mar!BC$11:BC$13),""))))) | BF38: =IF(CELL("type",BE38)="l","",IF(BE38*($K38+$AQ38)=0,"",IF($AQ38>0,+$AQ38*BE38*8.34,$K38*BE38*8.34))) | BG38: =+A38 -> 28 | BV38: =+A38 -> 28 | BX38: =IF(CELL("type",BW38)="l","",IF(BW38*($K38+$AQ38)=0,"",IF($AQ38>0,+$AQ38*BW38*8.34,$K38*BW38*8.34))) | BZ38: =IF(CELL("type",BY38)="l","",IF(BY38*($K38+$AQ38)=0,"",IF($AQ38>0,+$AQ38*BY38*8.34,$K38*BY38*8.34))) | CM38: =+T38 -> 28
A39: =IF(INT(M4/4)=+M4/4,29,"") | B39: =IF(A39=29,TEXT(J$5 + A39-1,"DDD"),"") | N39: =IF(CELL("type",M39)="L","",IF(M39*(K39+AQ39)=0,"",IF(K39>0,+K39*M39*8.34,AQ39*M39*8.34))) | P39: =IF(CELL("type",O39)="L","",IF(O39*($K39+$AQ39)=0,"",IF($K39>0,+$K39*O39*8.34,$AQ39*O39*8.34))) | T39: =+A39 | Y39: =IF(W39*X39=0,"",IF(W39<100,W39*10000/X39,W39*1000/X39)) | AI39: =IF(CELL("type",AJ39)="b","",IF(AJ39="tntc",63200,IF(AJ39=0,1,AJ39))) | AO39: =+A39 | AP39: =+B39 | AR39: =IF(AND(+$B39="Sat",SUM(AQ33:AQ39)>0),AVERAGE(AQ33:AQ39),IF(AND(+$B39="Fri",SUM(AQ34:AQ39,Mar!AQ$11)>0),AVERAGE(AQ34:AQ39,Mar!AQ$11),IF(AND(+$B39="Thu",SUM(AQ35:AQ39,Mar!AQ$11:AQ$12)>0),AVERAGE(AQ35:AQ39,Mar!AQ$11:AQ$12),IF(AND(+$B39="Wed",SUM(AQ36:AQ39,Mar!AQ$11:AQ$13)>0),AVERAGE(AQ36:AQ39,Mar!AQ$11:AQ$13),"")))) | AT39: =IF(AND(+$B39="Sat",SUM(AS33:AS39)>0),AVERAGE(AS33:AS39),IF(AND(+$B39="Fri",SUM(AS34:AS39,Mar!AS$11)>0),AVERAGE(AS34:AS39,Mar!AS$11),IF(AND(+$B39="Thu",SUM(AS35:AS39,Mar!AS$11:AS$12)>0),AVERAGE(AS35:AS39,Mar!AS$11:AS$12),IF(AND(+$B39="Wed",SUM(AS36:AS39,Mar!AS$11:AS$13)>0),AVERAGE(AS36:AS39,Mar!AS$11:AS$13),"")))) | AU39: =IF(CELL("type",AS39)="l","",IF(AS39*($K39+$AQ39)=0,"",IF($AQ39>0,+$AQ39*AS39*8.34,$K39*AS39*8.34))) | AV39: =IF(AND(+$B39="Sat",SUM(AU33:AU39)>0),AVERAGE(AU33:AU39),IF(AND(+$B39="Fri",SUM(AU34:AU39,Mar!AU$11)>0),AVERAGE(AU34:AU39,Mar!AU$11),IF(AND(+$B39="Thu",SUM(AU35:AU39,Mar!AU$11:AU$12)>0),AVERAGE(AU35:AU39,Mar!AU$11:AU$12),IF(AND(+$B39="Wed",SUM(AU36:AU39,Mar!AU$11:AU$13)>0),AVERAGE(AU36:AU39,Mar!AU$11:AU$13),"")))) | AX39: =IF(AND(+$B39="Sat",SUM(AW33:AW39)>0),AVERAGE(AW33:AW39),IF(AND(+$B39="Fri",SUM(AW34:AW39,Mar!AW$11)>0),AVERAGE(AW34:AW39,Mar!AW$11),IF(AND(+$B39="Thu",SUM(AW35:AW39,Mar!AW$11:AW$12)>0),AVERAGE(AW35:AW39,Mar!AW$11:AW$12),IF(AND(+$B39="Wed",SUM(AW36:AW39,Mar!AW$11:AW$13)>0),AVERAGE(AW36:AW39,Mar!AW$11:AW$13),"")))) | AY39: =IF(CELL("type",AW39)="l","",IF(AW39*($K39+$AQ39)=0,"",IF($AQ39>0,+$AQ39*AW39*8.34,$K39*AW39*8.34))) | AZ39: =IF(AND(+$B39="Sat",SUM(AY33:AY39)>0),AVERAGE(AY33:AY39),IF(AND(+$B39="Fri",SUM(AY34:AY39,Mar!AY$11)>0),AVERAGE(AY34:AY39,Mar!AY$11),IF(AND(+$B39="Thu",SUM(AY35:AY39,Mar!AY$11:AY$12)>0),AVERAGE(AY35:AY39,Mar!AY$11:AY$12),IF(AND(+$B39="Wed",SUM(AY36:AY39,Mar!AY$11:AY$13)>0),AVERAGE(AY36:AY39,Mar!AY$11:AY$13),"")))) | BB39: =IF(AND(+$B39="Sat",SUM(BA33:BA39)>0),AVERAGE(BA33:BA39),IF(AND(+$B39="Fri",SUM(BA34:BA39,Mar!BA$11)>0),AVERAGE(BA34:BA39,Mar!BA$11),IF(AND(+$B39="Thu",SUM(BA35:BA39,Mar!BA$11:BA$12)>0),AVERAGE(BA35:BA39,Mar!BA$11:BA$12),IF(AND(+$B39="Wed",SUM(BA36:BA39,Mar!BA$11:BA$13)>0),AVERAGE(BA36:BA39,Mar!BA$11:BA$13),"")))) | BC39: =IF(CELL("type",BA39)="l","",IF(BA39*($K39+$AQ39)=0,"",IF($AQ39>0,+$AQ39*BA39*8.34,$K39*BA39*8.34))) | BD39: =IF(AND(+$B39="Sat",SUM(BC33:BC39)>0),AVERAGE(BC33:BC39),IF(AND(+$B39="Fri",SUM(BC34:BC39,Mar!BC$11)>0),AVERAGE(BC34:BC39,Mar!BC$11),IF(AND(+$B39="Thu",SUM(BC35:BC39,Mar!BC$11:BC$12)>0),AVERAGE(BC35:BC39,Mar!BC$11:BC$12),IF(AND(+$B39="Wed",SUM(BC36:BC39,Mar!BC$11:BC$13)>0),AVERAGE(BC36:BC39,Mar!BC$11:BC$13),"")))) | BF39: =IF(CELL("type",BE39)="l","",IF(BE39*($K39+$AQ39)=0,"",IF($AQ39>0,+$AQ39*BE39*8.34,$K39*BE39*8.34))) | BG39: =+A39 | BV39: =+A39 | BX39: =IF(CELL("type",BW39)="l","",IF(BW39*($K39+$AQ39)=0,"",IF($AQ39>0,+$AQ39*BW39*8.34,$K39*BW39*8.34))) | BZ39: =IF(CELL("type",BY39)="l","",IF(BY39*($K39+$AQ39)=0,"",IF($AQ39>0,+$AQ39*BY39*8.34,$K39*BY39*8.34))) | CM39: =+A39
A40: Average | H40: =IF($A$39=29,IF(SUM(H11:H39)>0,AVERAGE(H11:H39),""),IF(SUM(H11:H38)>0,AVERAGE(H11:H38),"")) | I40: =IF($A$39=29,IF(SUM(I11:I39)>0,AVERAGE(I11:I39),""),IF(SUM(I11:I38)>0,AVERAGE(I11:I38),"")) | J40: =IF($A$39=29,IF(SUM(J11:J39)>0,AVERAGE(J11:J39),""),IF(SUM(J11:J38)>0,AVERAGE(J11:J38),"")) | K40: =IF($A$39=29,IF(SUM(K11:K39)>0,AVERAGE(K11:K39),""),IF(SUM(K11:K38)>0,AVERAGE(K11:K38),"")) | M40: =IF($A$39=29,IF(SUM(M11:M39)>0,AVERAGE(M11:M39),""),IF(SUM(M11:M38)>0,AVERAGE(M11:M38),"")) | N40: =IF($A$39=29,IF(SUM(N11:N39)>0,AVERAGE(N11:N39),""),IF(SUM(N11:N38)>0,AVERAGE(N11:N38),"")) | O40: =IF($A$39=29,IF(SUM(O11:O39)>0,AVERAGE(O11:O39),""),IF(SUM(O11:O38)>0,AVERAGE(O11:O38),"")) | P40: =IF($A$39=29,IF(SUM(P11:P39)>0,AVERAGE(P11:P39),""),IF(SUM(P11:P38)>0,AVERAGE(P11:P38),"")) | Q40: =IF($A$39=29,IF(SUM(Q11:Q39)>0,AVERAGE(Q11:Q39),""),IF(SUM(Q11:Q38)>0,AVERAGE(Q11:Q38),"")) | R40: =IF($A$39=29,IF(SUM(R11:R39)>0,AVERAGE(R11:R39),""),IF(SUM(R11:R38)>0,AVERAGE(R11:R38),"")) | S40: =IF($A$39=29,IF(SUM(S11:S39)>0,AVERAGE(S11:S39),""),IF(SUM(S11:S38)>0,AVERAGE(S11:S38),"")) | T40: Avg. | U40: =IF($A$39=29,IF(SUM(U11:U39)>0,AVERAGE(U11:U39),""),IF(SUM(U11:U38)>0,AVERAGE(U11:U38),"")) | V40: =IF($A$39=29,IF(SUM(V11:V39)>0,AVERAGE(V11:V39),""),IF(SUM(V11:V38)>0,AVERAGE(V11:V38),"")) | W40: =IF($A$39=29,IF(SUM(W11:W39)>0,AVERAGE(W11:W39),""),IF(SUM(W11:W38)>0,AVERAGE(W11:W38),"")) | X40: =IF($A$39=29,IF(SUM(X11:X39)>0,AVERAGE(X11:X39),""),IF(SUM(X11:X38)>0,AVERAGE(X11:X38),"")) | Y40: =IF($A$39=29,IF(SUM(Y11:Y39)>0,AVERAGE(Y11:Y39),""),IF(SUM(Y11:Y38)>0,AVERAGE(Y11:Y38),"")) | Z40: =IF($A$39=29,IF(SUM(Z11:Z39)>0,AVERAGE(Z11:Z39),""),IF(SUM(Z11:Z38)>0,AVERAGE(Z11:Z38),"")) | AA40: =IF($A$39=29,IF(SUM(AA11:AA39)>0,AVERAGE(AA11:AA39),""),IF(SUM(AA11:AA38)>0,AVERAGE(AA11:AA38),"")) | AB40: =IF($A$39=29,IF(SUM(AB11:AB39)>0,AVERAGE(AB11:AB39),""),IF(SUM(AB11:AB38)>0,AVERAGE(AB11:AB38),"")) | ... AE40: =IF($A$39=29,IF(SUM(AE11:AE39)>0,AVERAGE(AE11:AE39),""),IF(SUM(AE11:AE38)>0,AVERAGE(AE11:AE38),"")) | AG40: =IF($A$39=29,IF(SUM(AG11:AG39)>0,AVERAGE(AG11:AG39),""),IF(SUM(AG11:AG38)>0,AVERAGE(AG11:AG38),"")) | AH40: =IF($A$39=29,IF(SUM(AH11:AH39)>0,AVERAGE(AH11:AH39),""),IF(SUM(AH11:AH38)>0,AVERAGE(AH11:AH38),"")) | AJ40: =IF(SUM(AI11:AI39)>0,GEOMEAN(AI11:AI39),"") | AM40: =IF(SUM(AM11:AM39)>0,AVERAGE(AM11:AM39)," ") | AN40: =IF(SUM(AN11:AN39)>0,AVERAGE(AN11:AN39)," ") | AO40: Avg | AQ40: =IF($A$39=29,IF(SUM(AQ11:AQ39)>0,AVERAGE(AQ11:AQ39),""),IF(SUM(AQ11:AQ38)>0,AVERAGE(AQ11:AQ38),"")) | AR40: =IF($A$39=29,IF(SUM(AR11:AR39)>0,AVERAGE(AR11:AR39),""),IF(SUM(AR11:AR38)>0,AVERAGE(AR11:AR38),"")) | AS40: =IF($A$39=29,IF(SUM(AS11:AS39)>0,AVERAGE(AS11:AS39),""),IF(SUM(AS11:AS38)>0,AVERAGE(AS11:AS38),"")) | AT40: =IF($A$39=29,IF(SUM(AT11:AT39)>0,AVERAGE(AT11:AT39),""),IF(SUM(AT11:AT38)>0,AVERAGE(AT11:AT38),"")) | AU40: =IF($A$39=29,IF(SUM(AU11:AU39)>0,AVERAGE(AU11:AU39),""),IF(SUM(AU11:AU38)>0,AVERAGE(AU11:AU38),"")) | AV40: =IF($A$39=29,IF(SUM(AV11:AV39)>0,AVERAGE(AV11:AV39),""),IF(SUM(AV11:AV38)>0,AVERAGE(AV11:AV38),"")) | AW40: =IF($A$39=29,IF(SUM(AW11:AW39)>0,AVERAGE(AW11:AW39),""),IF(SUM(AW11:AW38)>0,AVERAGE(AW11:AW38),"")) | AX40: =IF($A$39=29,IF(SUM(AX11:AX39)>0,AVERAGE(AX11:AX39),""),IF(SUM(AX11:AX38)>0,AVERAGE(AX11:AX38),"")) | ... BF40: =IF($A$39=29,IF(SUM(BF11:BF39)>0,AVERAGE(BF11:BF39),""),IF(SUM(BF11:BF38)>0,AVERAGE(BF11:BF38),"")) | BG40: Avg. | BH40: =IF($A$39=29,IF(SUM(BH11:BH39)>0,AVERAGE(BH11:BH39),""),IF(SUM(BH11:BH38)>0,AVERAGE(BH11:BH38),"")) | BI40: =IF($A$39=29,IF(SUM(BI11:BI39)>0,AVERAGE(BI11:BI39),""),IF(SUM(BI11:BI38)>0,AVERAGE(BI11:BI38),"")) | BJ40: =IF($A$39=29,IF(SUM(BJ11:BJ39)>0,AVERAGE(BJ11:BJ39),""),IF(SUM(BJ11:BJ38)>0,AVERAGE(BJ11:BJ38),"")) | BK40: =IF($A$39=29,IF(SUM(BK11:BK39)>0,AVERAGE(BK11:BK39),""),IF(SUM(BK11:BK38)>0,AVERAGE(BK11:BK38),"")) | BL40: =IF($A$39=29,IF(SUM(BL11:BL39)>0,AVERAGE(BL11:BL39),""),IF(SUM(BL11:BL38)>0,AVERAGE(BL11:BL38),"")) | BM40: =IF($A$39=29,IF(SUM(BM11:BM39)>0,AVERAGE(BM11:BM39),""),IF(SUM(BM11:BM38)>0,AVERAGE(BM11:BM38),"")) | BN40: =IF($A$39=29,IF(SUM(BN11:BN39)>0,AVERAGE(BN11:BN39),""),IF(SUM(BN11:BN38)>0,AVERAGE(BN11:BN38),"")) | BO40: =IF($A$39=29,IF(SUM(BO11:BO39)>0,AVERAGE(BO11:BO39),""),IF(SUM(BO11:BO38)>0,AVERAGE(BO11:BO38),"")) | ... BU40: =IF($A$39=29,IF(SUM(BU11:BU39)>0,AVERAGE(BU11:BU39),""),IF(SUM(BU11:BU38)>0,AVERAGE(BU11:BU38),"")) | BV40: Avg | BW40: =IF($A$39=29,IF(SUM(BW11:BW39)>0,AVERAGE(BW11:BW39),""),IF(SUM(BW11:BW38)>0,AVERAGE(BW11:BW38),"")) | BX40: =IF($A$39=29,IF(SUM(BX11:BX39)>0,AVERAGE(BX11:BX39),""),IF(SUM(BX11:BX38)>0,AVERAGE(BX11:BX38),"")) | BY40: =IF($A$39=29,IF(SUM(BY11:BY39)>0,AVERAGE(BY11:BY39),""),IF(SUM(BY11:BY38)>0,AVERAGE(BY11:BY38),"")) | BZ40: =IF($A$39=29,IF(SUM(BZ11:BZ39)>0,AVERAGE(BZ11:BZ39),""),IF(SUM(BZ11:BZ38)>0,AVERAGE(BZ11:BZ38),"")) | CA40: =IF($A$39=29,IF(SUM(CA11:CA39)>0,AVERAGE(CA11:CA39),""),IF(SUM(CA11:CA38)>0,AVERAGE(CA11:CA38),"")) | CB40: =IF($A$39=29,IF(SUM(CB11:CB39)>0,AVERAGE(CB11:CB39),""),IF(SUM(CB11:CB38)>0,AVERAGE(CB11:CB38),"")) | CC40: =IF($A$39=29,IF(SUM(CC11:CC39)>0,AVERAGE(CC11:CC39),""),IF(SUM(CC11:CC38)>0,AVERAGE(CC11:CC38),"")) | CD40: =IF($A$39=29,IF(SUM(CD11:CD39)>0,AVERAGE(CD11:CD39),""),IF(SUM(CD11:CD38)>0,AVERAGE(CD11:CD38),"")) | ... CL40: =IF($A$39=29,IF(SUM(CL11:CL39)>0,AVERAGE(CL11:CL39),""),IF(SUM(CL11:CL38)>0,AVERAGE(CL11:CL38),"")) | CM40: Avg | CN40: =IF($A$39=29,IF(SUM(CN11:CN39)>0,AVERAGE(CN11:CN39),""),IF(SUM(CN11:CN38)>0,AVERAGE(CN11:CN38),"")) | CO40: =IF($A$39=29,IF(SUM(CO11:CO39)>0,AVERAGE(CO11:CO39),""),IF(SUM(CO11:CO38)>0,AVERAGE(CO11:CO38),"")) | CP40: =IF($A$39=29,IF(SUM(CP11:CP39)>0,AVERAGE(CP11:CP39),""),IF(SUM(CP11:CP38)>0,AVERAGE(CP11:CP38),"")) | CQ40: =IF($A$39=29,IF(SUM(CQ11:CQ39)>0,AVERAGE(CQ11:CQ39),""),IF(SUM(CQ11:CQ38)>0,AVERAGE(CQ11:CQ38),"")) | CR40: =IF($A$39=29,IF(SUM(CR11:CR39)>0,AVERAGE(CR11:CR39),""),IF(SUM(CR11:CR38)>0,AVERAGE(CR11:CR38),"")) | CS40: =IF($A$39=29,IF(SUM(CS11:CS39)>0,AVERAGE(CS11:CS39),""),IF(SUM(CS11:CS38)>0,AVERAGE(CS11:CS38),"")) | CT40: =IF($A$39=29,IF(SUM(CT11:CT39)>0,AVERAGE(CT11:CT39),""),IF(SUM(CT11:CT38)>0,AVERAGE(CT11:CT38),"")) | CU40: =IF($A$39=29,IF(SUM(CU11:CU39)>0,AVERAGE(CU11:CU39),""),IF(SUM(CU11:CU38)>0,AVERAGE(CU11:CU38),"")) | ... DC40: =IF($A$39=29,IF(SUM(DC11:DC39)>0,AVERAGE(DC11:DC39),""),IF(SUM(DC11:DC38)>0,AVERAGE(DC11:DC38),""))
A41: Maximum | E41: =IF(SUM(E11:E39)>0,MAX(E11:E39)," ") | H41: =IF($A$39=29,IF(SUM(H11:H39)>0,MAX(H11:H39),""),IF(SUM(H11:H38)>0,MAX(H11:H38),"")) | I41: =IF($A$39=29,IF(SUM(I11:I39)>0,MAX(I11:I39),""),IF(SUM(I11:I38)>0,MAX(I11:I38),"")) | J41: =IF($A$39=29,IF(SUM(J11:J39)>0,MAX(J11:J39),""),IF(SUM(J11:J38)>0,MAX(J11:J38),"")) | K41: =IF($A$39=29,IF(SUM(K11:K39)>0,MAX(K11:K39),""),IF(SUM(K11:K38)>0,MAX(K11:K38),"")) | L41: =IF($A$39=29,IF(SUM(L11:L39)>0,MAX(L11:L39),""),IF(SUM(L11:L38)>0,MAX(L11:L38),"")) | M41: =IF($A$39=29,IF(SUM(M11:M39)>0,MAX(M11:M39),""),IF(SUM(M11:M38)>0,MAX(M11:M38),"")) | N41: =IF($A$39=29,IF(SUM(N11:N39)>0,MAX(N11:N39),""),IF(SUM(N11:N38)>0,MAX(N11:N38),"")) | O41: =IF($A$39=29,IF(SUM(O11:O39)>0,MAX(O11:O39),""),IF(SUM(O11:O38)>0,MAX(O11:O38),"")) | ... S41: =IF($A$39=29,IF(SUM(S11:S39)>0,MAX(S11:S39),""),IF(SUM(S11:S38)>0,MAX(S11:S38),"")) | T41: Max. | U41: =IF($A$39=29,IF(SUM(U11:U39)>0,MAX(U11:U39),""),IF(SUM(U11:U38)>0,MAX(U11:U38),"")) | V41: =IF($A$39=29,IF(SUM(V11:V39)>0,MAX(V11:V39),""),IF(SUM(V11:V38)>0,MAX(V11:V38),"")) | W41: =IF($A$39=29,IF(SUM(W11:W39)>0,MAX(W11:W39),""),IF(SUM(W11:W38)>0,MAX(W11:W38),"")) | X41: =IF($A$39=29,IF(SUM(X11:X39)>0,MAX(X11:X39),""),IF(SUM(X11:X38)>0,MAX(X11:X38),"")) | Y41: =IF($A$39=29,IF(SUM(Y11:Y39)>0,MAX(Y11:Y39),""),IF(SUM(Y11:Y38)>0,MAX(Y11:Y38),"")) | Z41: =IF($A$39=29,IF(SUM(Z11:Z39)>0,MAX(Z11:Z39),""),IF(SUM(Z11:Z38)>0,MAX(Z11:Z38),"")) | AA41: =IF($A$39=29,IF(SUM(AA11:AA39)>0,MAX(AA11:AA39),""),IF(SUM(AA11:AA38)>0,MAX(AA11:AA38),"")) | AB41: =IF($A$39=29,IF(SUM(AB11:AB39)>0,MAX(AB11:AB39),""),IF(SUM(AB11:AB38)>0,MAX(AB11:AB38),"")) | ... AE41: =IF($A$39=29,IF(SUM(AE11:AE39)>0,MAX(AE11:AE39),""),IF(SUM(AE11:AE38)>0,MAX(AE11:AE38),"")) | AG41: =IF($A$39=29,IF(SUM(AG11:AG39)>0,MAX(AG11:AG39),""),IF(SUM(AG11:AG38)>0,MAX(AG11:AG38),"")) | AH41: =IF($A$39=29,IF(SUM(AH11:AH39)>0,MAX(AH11:AH39),""),IF(SUM(AH11:AH38)>0,MAX(AH11:AH38),"")) | AI41: =IF(AJ40<>"",MAX(AI11:AI39),"") | AJ41: =IF(AI41=63200,"TNTC",AI41) | AK41: =IF(SUM(AK11:AL39)>0,MAX(AK11:AL39)," ") | AM41: =IF(SUM(AM11:AM39)>0,MAX(AM11:AM39)," ") | AN41: =IF(SUM(AN11:AN39)>0,MAX(AN11:AN39)," ") | AO41: Max | AQ41: =IF($A$39=29,IF(SUM(AQ11:AQ39)>0,MAX(AQ11:AQ39),""),IF(SUM(AQ11:AQ38)>0,MAX(AQ11:AQ38),"")) | AR41: =IF($A$39=29,IF(SUM(AR11:AR39)>0,MAX(AR11:AR39),""),IF(SUM(AR11:AR38)>0,MAX(AR11:AR38),"")) | AS41: =IF($A$39=29,IF(SUM(AS11:AS39)>0,MAX(AS11:AS39),""),IF(SUM(AS11:AS38)>0,MAX(AS11:AS38),"")) | AT41: =IF($A$39=29,IF(SUM(AT11:AT39)>0,MAX(AT11:AT39),""),IF(SUM(AT11:AT38)>0,MAX(AT11:AT38),"")) | AU41: =IF($A$39=29,IF(SUM(AU11:AU39)>0,MAX(AU11:AU39),""),IF(SUM(AU11:AU38)>0,MAX(AU11:AU38),"")) | AV41: =IF($A$39=29,IF(SUM(AV11:AV39)>0,MAX(AV11:AV39),""),IF(SUM(AV11:AV38)>0,MAX(AV11:AV38),"")) | AW41: =IF($A$39=29,IF(SUM(AW11:AW39)>0,MAX(AW11:AW39),""),IF(SUM(AW11:AW38)>0,MAX(AW11:AW38),"")) | AX41: =IF($A$39=29,IF(SUM(AX11:AX39)>0,MAX(AX11:AX39),""),IF(SUM(AX11:AX38)>0,MAX(AX11:AX38),"")) | ... BF41: =IF($A$39=29,IF(SUM(BF11:BF39)>0,MAX(BF11:BF39),""),IF(SUM(BF11:BF38)>0,MAX(BF11:BF38),"")) | BG41: Max. | BH41: =IF($A$39=29,IF(SUM(BH11:BH39)>0,MAX(BH11:BH39),""),IF(SUM(BH11:BH38)>0,MAX(BH11:BH38),"")) | BI41: =IF($A$39=29,IF(SUM(BI11:BI39)>0,MAX(BI11:BI39),""),IF(SUM(BI11:BI38)>0,MAX(BI11:BI38),"")) | BJ41: =IF($A$39=29,IF(SUM(BJ11:BJ39)>0,MAX(BJ11:BJ39),""),IF(SUM(BJ11:BJ38)>0,MAX(BJ11:BJ38),"")) | BK41: =IF($A$39=29,IF(SUM(BK11:BK39)>0,MAX(BK11:BK39),""),IF(SUM(BK11:BK38)>0,MAX(BK11:BK38),"")) | BL41: =IF($A$39=29,IF(SUM(BL11:BL39)>0,MAX(BL11:BL39),""),IF(SUM(BL11:BL38)>0,MAX(BL11:BL38),"")) | BM41: =IF($A$39=29,IF(SUM(BM11:BM39)>0,MAX(BM11:BM39),""),IF(SUM(BM11:BM38)>0,MAX(BM11:BM38),"")) | BN41: =IF($A$39=29,IF(SUM(BN11:BN39)>0,MAX(BN11:BN39),""),IF(SUM(BN11:BN38)>0,MAX(BN11:BN38),"")) | BO41: =IF($A$39=29,IF(SUM(BO11:BO39)>0,MAX(BO11:BO39),""),IF(SUM(BO11:BO38)>0,MAX(BO11:BO38),"")) | ... BU41: =IF($A$39=29,IF(SUM(BU11:BU39)>0,MAX(BU11:BU39),""),IF(SUM(BU11:BU38)>0,MAX(BU11:BU38),"")) | BV41: Max | BW41: =IF($A$39=29,IF(SUM(BW11:BW39)>0,MAX(BW11:BW39),""),IF(SUM(BW11:BW38)>0,MAX(BW11:BW38),"")) | BX41: =IF($A$39=29,IF(SUM(BX11:BX39)>0,MAX(BX11:BX39),""),IF(SUM(BX11:BX38)>0,MAX(BX11:BX38),"")) | BY41: =IF($A$39=29,IF(SUM(BY11:BY39)>0,MAX(BY11:BY39),""),IF(SUM(BY11:BY38)>0,MAX(BY11:BY38),"")) | BZ41: =IF($A$39=29,IF(SUM(BZ11:BZ39)>0,MAX(BZ11:BZ39),""),IF(SUM(BZ11:BZ38)>0,MAX(BZ11:BZ38),"")) | CA41: =IF($A$39=29,IF(SUM(CA11:CA39)>0,MAX(CA11:CA39),""),IF(SUM(CA11:CA38)>0,MAX(CA11:CA38),"")) | CB41: =IF($A$39=29,IF(SUM(CB11:CB39)>0,MAX(CB11:CB39),""),IF(SUM(CB11:CB38)>0,MAX(CB11:CB38),"")) | CC41: =IF($A$39=29,IF(SUM(CC11:CC39)>0,MAX(CC11:CC39),""),IF(SUM(CC11:CC38)>0,MAX(CC11:CC38),"")) | CD41: =IF($A$39=29,IF(SUM(CD11:CD39)>0,MAX(CD11:CD39),""),IF(SUM(CD11:CD38)>0,MAX(CD11:CD38),"")) | ... CL41: =IF($A$39=29,IF(SUM(CL11:CL39)>0,MAX(CL11:CL39),""),IF(SUM(CL11:CL38)>0,MAX(CL11:CL38),"")) | CM41: Max | CN41: =IF($A$39=29,IF(SUM(CN11:CN39)>0,MAX(CN11:CN39),""),IF(SUM(CN11:CN38)>0,MAX(CN11:CN38),"")) | CO41: =IF($A$39=29,IF(SUM(CO11:CO39)>0,MAX(CO11:CO39),""),IF(SUM(CO11:CO38)>0,MAX(CO11:CO38),"")) | CP41: =IF($A$39=29,IF(SUM(CP11:CP39)>0,MAX(CP11:CP39),""),IF(SUM(CP11:CP38)>0,MAX(CP11:CP38),"")) | CQ41: =IF($A$39=29,IF(SUM(CQ11:CQ39)>0,MAX(CQ11:CQ39),""),IF(SUM(CQ11:CQ38)>0,MAX(CQ11:CQ38),"")) | CR41: =IF($A$39=29,IF(SUM(CR11:CR39)>0,MAX(CR11:CR39),""),IF(SUM(CR11:CR38)>0,MAX(CR11:CR38),"")) | CS41: =IF($A$39=29,IF(SUM(CS11:CS39)>0,MAX(CS11:CS39),""),IF(SUM(CS11:CS38)>0,MAX(CS11:CS38),"")) | CT41: =IF($A$39=29,IF(SUM(CT11:CT39)>0,MAX(CT11:CT39),""),IF(SUM(CT11:CT38)>0,MAX(CT11:CT38),"")) | CU41: =IF($A$39=29,IF(SUM(CU11:CU39)>0,MAX(CU11:CU39),""),IF(SUM(CU11:CU38)>0,MAX(CU11:CU38),"")) | ... DC41: =IF($A$39=29,IF(SUM(DC11:DC39)>0,MAX(DC11:DC39),""),IF(SUM(DC11:DC38)>0,MAX(DC11:DC38),""))
A42: Minimum | H42: =IF(A$39=29,IF(SUM(H11:H39)>0,MIN(H11:H39),""),IF(SUM(H11:H38)>0,MIN(H11:H38),"")) | I42: =IF(B$39=29,IF(SUM(I11:I39)>0,MIN(I11:I39),""),IF(SUM(I11:I38)>0,MIN(I11:I38),"")) | J42: =IF(C$39=29,IF(SUM(J11:J39)>0,MIN(J11:J39),""),IF(SUM(J11:J38)>0,MIN(J11:J38),"")) | K42: =IF(D$39=29,IF(SUM(K11:K39)>0,MIN(K11:K39),""),IF(SUM(K11:K38)>0,MIN(K11:K38),"")) | L42: =IF(E$39=29,IF(SUM(L11:L39)>0,MIN(L11:L39),""),IF(SUM(L11:L38)>0,MIN(L11:L38),"")) | M42: =IF(F$39=29,IF(SUM(M11:M39)>0,MIN(M11:M39),""),IF(SUM(M11:M38)>0,MIN(M11:M38),"")) | N42: =IF(G$39=29,IF(SUM(N11:N39)>0,MIN(N11:N39),""),IF(SUM(N11:N38)>0,MIN(N11:N38),"")) | O42: =IF(H$39=29,IF(SUM(O11:O39)>0,MIN(O11:O39),""),IF(SUM(O11:O38)>0,MIN(O11:O38),"")) | ... S42: =IF(L$39=29,IF(SUM(S11:S39)>0,MIN(S11:S39),""),IF(SUM(S11:S38)>0,MIN(S11:S38),"")) | T42: Min. | U42: =IF(N$39=29,IF(SUM(U11:U39)>0,MIN(U11:U39),""),IF(SUM(U11:U38)>0,MIN(U11:U38),"")) | V42: =IF(O$39=29,IF(SUM(V11:V39)>0,MIN(V11:V39),""),IF(SUM(V11:V38)>0,MIN(V11:V38),"")) | W42: =IF(P$39=29,IF(SUM(W11:W39)>0,MIN(W11:W39),""),IF(SUM(W11:W38)>0,MIN(W11:W38),"")) | X42: =IF(Q$39=29,IF(SUM(X11:X39)>0,MIN(X11:X39),""),IF(SUM(X11:X38)>0,MIN(X11:X38),"")) | Y42: =IF(R$39=29,IF(SUM(Y11:Y39)>0,MIN(Y11:Y39),""),IF(SUM(Y11:Y38)>0,MIN(Y11:Y38),"")) | Z42: =IF(S$39=29,IF(SUM(Z11:Z39)>0,MIN(Z11:Z39),""),IF(SUM(Z11:Z38)>0,MIN(Z11:Z38),"")) | AA42: =IF(T$39=29,IF(SUM(AA11:AA39)>0,MIN(AA11:AA39),""),IF(SUM(AA11:AA38)>0,MIN(AA11:AA38),"")) | AB42: =IF(U$39=29,IF(SUM(AB11:AB39)>0,MIN(AB11:AB39),""),IF(SUM(AB11:AB38)>0,MIN(AB11:AB38),"")) | ... AE42: =IF(X$39=29,IF(SUM(AE11:AE39)>0,MIN(AE11:AE39),""),IF(SUM(AE11:AE38)>0,MIN(AE11:AE38),"")) | AG42: =IF(Z$39=29,IF(SUM(AG11:AG39)>0,MIN(AG11:AG39),""),IF(SUM(AG11:AG38)>0,MIN(AG11:AG38),"")) | AH42: =IF(AA$39=29,IF(SUM(AH11:AH39)>0,MIN(AH11:AH39),""),IF(SUM(AH11:AH38)>0,MIN(AH11:AH38),"")) | AJ42: =IF(SUM(AJ11:AJ39)>0,MIN(AJ11:AJ39),"") | AK42: =IF(SUM(AK11:AL39)>0,MIN(AK11:AL39),"") | AM42: =IF(SUM(AM11:AM39)>0,MIN(AM11:AM39),"") | AN42: =IF(SUM(AN11:AN39)>0,MIN(AN11:AN39),"") | AO42: Min | AQ42: =IF(AJ$39=29,IF(SUM(AQ11:AQ39)>0,MIN(AQ11:AQ39),""),IF(SUM(AQ11:AQ38)>0,MIN(AQ11:AQ38),"")) | AR42: =IF(AK$39=29,IF(SUM(AR11:AR39)>0,MIN(AR11:AR39),""),IF(SUM(AR11:AR38)>0,MIN(AR11:AR38),"")) | AS42: =IF(AL$39=29,IF(SUM(AS11:AS39)>0,MIN(AS11:AS39),""),IF(SUM(AS11:AS38)>0,MIN(AS11:AS38),"")) | AT42: =IF(AM$39=29,IF(SUM(AT11:AT39)>0,MIN(AT11:AT39),""),IF(SUM(AT11:AT38)>0,MIN(AT11:AT38),"")) | AU42: =IF(AN$39=29,IF(SUM(AU11:AU39)>0,MIN(AU11:AU39),""),IF(SUM(AU11:AU38)>0,MIN(AU11:AU38),"")) | AV42: =IF(AO$39=29,IF(SUM(AV11:AV39)>0,MIN(AV11:AV39),""),IF(SUM(AV11:AV38)>0,MIN(AV11:AV38),"")) | AW42: =IF(AP$39=29,IF(SUM(AW11:AW39)>0,MIN(AW11:AW39),""),IF(SUM(AW11:AW38)>0,MIN(AW11:AW38),"")) | AX42: =IF(AQ$39=29,IF(SUM(AX11:AX39)>0,MIN(AX11:AX39),""),IF(SUM(AX11:AX38)>0,MIN(AX11:AX38),"")) | ... BF42: =IF(AY$39=29,IF(SUM(BF11:BF39)>0,MIN(BF11:BF39),""),IF(SUM(BF11:BF38)>0,MIN(BF11:BF38),"")) | BG42: Min. | BH42: =IF(BA$39=29,IF(SUM(BH11:BH39)>0,MIN(BH11:BH39),""),IF(SUM(BH11:BH38)>0,MIN(BH11:BH38),"")) | BI42: =IF(BB$39=29,IF(SUM(BI11:BI39)>0,MIN(BI11:BI39),""),IF(SUM(BI11:BI38)>0,MIN(BI11:BI38),"")) | BJ42: =IF(BC$39=29,IF(SUM(BJ11:BJ39)>0,MIN(BJ11:BJ39),""),IF(SUM(BJ11:BJ38)>0,MIN(BJ11:BJ38),"")) | BK42: =IF(BD$39=29,IF(SUM(BK11:BK39)>0,MIN(BK11:BK39),""),IF(SUM(BK11:BK38)>0,MIN(BK11:BK38),"")) | BL42: =IF(BE$39=29,IF(SUM(BL11:BL39)>0,MIN(BL11:BL39),""),IF(SUM(BL11:BL38)>0,MIN(BL11:BL38),"")) | BM42: =IF(BF$39=29,IF(SUM(BM11:BM39)>0,MIN(BM11:BM39),""),IF(SUM(BM11:BM38)>0,MIN(BM11:BM38),"")) | BN42: =IF(BG$39=29,IF(SUM(BN11:BN39)>0,MIN(BN11:BN39),""),IF(SUM(BN11:BN38)>0,MIN(BN11:BN38),"")) | BO42: =IF(BH$39=29,IF(SUM(BO11:BO39)>0,MIN(BO11:BO39),""),IF(SUM(BO11:BO38)>0,MIN(BO11:BO38),"")) | ... BU42: =IF(BN$39=29,IF(SUM(BU11:BU39)>0,MIN(BU11:BU39),""),IF(SUM(BU11:BU38)>0,MIN(BU11:BU38),"")) | BV42: Min | BW42: =IF(BP$39=29,IF(SUM(BW11:BW39)>0,MIN(BW11:BW39),""),IF(SUM(BW11:BW38)>0,MIN(BW11:BW38),"")) | BX42: =IF(BQ$39=29,IF(SUM(BX11:BX39)>0,MIN(BX11:BX39),""),IF(SUM(BX11:BX38)>0,MIN(BX11:BX38),"")) | BY42: =IF(BR$39=29,IF(SUM(BY11:BY39)>0,MIN(BY11:BY39),""),IF(SUM(BY11:BY38)>0,MIN(BY11:BY38),"")) | BZ42: =IF(BS$39=29,IF(SUM(BZ11:BZ39)>0,MIN(BZ11:BZ39),""),IF(SUM(BZ11:BZ38)>0,MIN(BZ11:BZ38),"")) | CA42: =IF(BT$39=29,IF(SUM(CA11:CA39)>0,MIN(CA11:CA39),""),IF(SUM(CA11:CA38)>0,MIN(CA11:CA38),"")) | CB42: =IF(BU$39=29,IF(SUM(CB11:CB39)>0,MIN(CB11:CB39),""),IF(SUM(CB11:CB38)>0,MIN(CB11:CB38),"")) | CC42: =IF(BV$39=29,IF(SUM(CC11:CC39)>0,MIN(CC11:CC39),""),IF(SUM(CC11:CC38)>0,MIN(CC11:CC38),"")) | CD42: =IF(BW$39=29,IF(SUM(CD11:CD39)>0,MIN(CD11:CD39),""),IF(SUM(CD11:CD38)>0,MIN(CD11:CD38),"")) | ... CL42: =IF(CE$39=29,IF(SUM(CL11:CL39)>0,MIN(CL11:CL39),""),IF(SUM(CL11:CL38)>0,MIN(CL11:CL38),"")) | CM42: Min | CN42: =IF(CG$39=29,IF(SUM(CN11:CN39)>0,MIN(CN11:CN39),""),IF(SUM(CN11:CN38)>0,MIN(CN11:CN38),"")) | CO42: =IF(CH$39=29,IF(SUM(CO11:CO39)>0,MIN(CO11:CO39),""),IF(SUM(CO11:CO38)>0,MIN(CO11:CO38),"")) | CP42: =IF(CI$39=29,IF(SUM(CP11:CP39)>0,MIN(CP11:CP39),""),IF(SUM(CP11:CP38)>0,MIN(CP11:CP38),"")) | CQ42: =IF(CJ$39=29,IF(SUM(CQ11:CQ39)>0,MIN(CQ11:CQ39),""),IF(SUM(CQ11:CQ38)>0,MIN(CQ11:CQ38),"")) | CR42: =IF(CK$39=29,IF(SUM(CR11:CR39)>0,MIN(CR11:CR39),""),IF(SUM(CR11:CR38)>0,MIN(CR11:CR38),"")) | CS42: =IF(CL$39=29,IF(SUM(CS11:CS39)>0,MIN(CS11:CS39),""),IF(SUM(CS11:CS38)>0,MIN(CS11:CS38),"")) | CT42: =IF(CM$39=29,IF(SUM(CT11:CT39)>0,MIN(CT11:CT39),""),IF(SUM(CT11:CT38)>0,MIN(CT11:CT38),"")) | CU42: =IF(CN$39=29,IF(SUM(CU11:CU39)>0,MIN(CU11:CU39),""),IF(SUM(CU11:CU38)>0,MIN(CU11:CU38),"")) | ... DC42: =IF(CV$39=29,IF(SUM(DC11:DC39)>0,MIN(DC11:DC39),""),IF(SUM(DC11:DC38)>0,MIN(DC11:DC38),""))
T43: Daily Max | AJ43: ='E.coli Standalone Calculation'!I38
T44: # of Days above 235 | AJ44: ='E.coli Standalone Calculation'!H41
A45: # of Data | E45: =COUNT(E11:E39) -> 0 | F45: =COUNTA(F11:F39) -> 0 | G45: =COUNTA(G11:G39) -> 0 | H45: =COUNT(H11:H39) -> 0 | I45: =COUNT(I11:I39) -> 0 | J45: =COUNT(J11:J39) -> 0 | K45: =COUNT(K11:K39) -> 0 | L45: =COUNT(L11:L39) -> 0 | M45: =COUNT(M11:M39) -> 0 | N45: =COUNT(N11:N39) -> 0 | O45: =COUNT(O11:O39) -> 0 | ... S45: =COUNT(S11:S39) -> 0 | T45: Data | U45: =COUNT(U11:U39) -> 0 | V45: =COUNT(V11:V39) -> 0 | W45: =COUNT(W11:W39) -> 0 | X45: =COUNT(X11:X39) -> 0 | Y45: =COUNT(Y11:Y39) -> 0 | Z45: =COUNT(Z11:Z39) -> 0 | AA45: =COUNT(AA11:AA39) -> 0 | AB45: =COUNT(AB11:AB39) -> 0 | ... AE45: =COUNT(AE11:AE39) -> 0 | AG45: =COUNT(AG11:AG39) -> 0 | AH45: =COUNT(AH11:AH39) -> 0 | AJ45: =COUNT(AI11:AI39) -> 0 | AK45: =COUNT(AK11:AL39) -> 0 | AM45: =COUNT(AM11:AM39) -> 0 | AN45: =COUNT(AN11:AN39) -> 0 | AO45: Data | AQ45: =COUNT(AQ11:AQ39) -> 0 | AR45: =COUNT(AR11:AR39) -> 0 | AS45: =COUNT(AS11:AS39) -> 0 | AT45: =COUNT(AT11:AT39) -> 0 | AU45: =COUNT(AU11:AU39) -> 0 | AV45: =COUNT(AV11:AV39) -> 0 | AW45: =COUNT(AW11:AW39) -> 0 | AX45: =COUNT(AX11:AX39) -> 0 | ... BF45: =COUNT(BF11:BF39) -> 0 | BG45: Data | BH45: =COUNT(BH11:BH39) -> 0 | BI45: =COUNT(BI11:BI39) -> 0 | BJ45: =COUNT(BJ11:BJ39) -> 0 | BK45: =COUNT(BK11:BK39) -> 0 | BL45: =COUNT(BL11:BL39) -> 0 | BM45: =COUNT(BM11:BM39) -> 0 | BN45: =COUNT(BN11:BN39) -> 0 | BO45: =COUNT(BO11:BO39) -> 0 | ... BU45: =COUNT(BU11:BU39) -> 0 | BV45: Data | BW45: =COUNT(BW11:BW39) -> 0 | BX45: =COUNT(BX11:BX39) -> 0 | BY45: =COUNT(BY11:BY39) -> 0 | BZ45: =COUNT(BZ11:BZ39) -> 0 | CA45: =COUNT(CA11:CA39) -> 0 | CB45: =COUNT(CB11:CB39) -> 0 | CC45: =COUNT(CC11:CC39) -> 0 | CD45: =COUNT(CD11:CD39) -> 0 | ... CL45: =COUNT(CL11:CL39) -> 0 | CM45: Data | CN45: =COUNT(CN11:CN39) -> 0 | CO45: =COUNT(CO11:CO39) -> 0 | CP45: =COUNT(CP11:CP39) -> 0 | CQ45: =COUNT(CQ11:CQ39) -> 0 | CR45: =COUNT(CR11:CR39) -> 0 | CS45: =COUNT(CS11:CS39) -> 0 | CT45: =COUNT(CT11:CT39) -> 0 | CU45: =COUNT(CU11:CU39) -> 0 | ... DC45: =COUNT(DC11:DC39) -> 0
A46: I certify under penalty of law that this document and all attachments were prepared under my direction or supervision in accordance with a system designed to assure that qualified personnel properly gather and evaluate the information submitted. Based on my inquiry of the persons who manage the system, or those persons directly responsible for gathering the information, the information submitted is, to the best of my knowledge and belief, true, accurate, and complete. I am aware that there are significant penalties for submitting false information, including the possibility of fine and imprisonment for knowing violations. | K46: Prepared by or under the direction of (Certified Operator): | Q46: Date (month, day, year) | T46: Comments for the Month (major repairs, breakdowns, process upsets and their causes, inplant treatment process bypass, etc.):
AQ47: MONTHLY REMOVAL SUMMARY | BB47: Total Monthly Flow: | BH47: Once completed, this form should be converted to a pdf document, named appropriately & attached to the corresponding netDMR for submittal
AQ48: Percent Removal | AT48: BOD5 | AV48: S.S. | AX48: Ammonia | AZ48: Phosphorus | BB48: (million gallons) | BD48: =IF(SUM(AQ11:AQ39)>0,SUM(AQ11:AQ39),SUM(K11:K39)) -> 0
AQ49: Primary Treatment | AT49: =IF(U45=0," NA",(+M40-U40)/M40*100) -> NA | AV49: =IF(V45=0," NA",(+O40-V40)/O40*100) -> NA
K50: Signature of principal executive officer or authorized agent | Q50: Date (month, day, year) | AQ50: =IF(+AQ51="Tertiary Treatment","Secondary Treatment"," ") -> Secondary Treatment | AT50: =IF(AD45=0," NA",IF(U45=0,(+M40-AD40)/M40*100,(+U40-AD40)/U40*100)) -> NA | AV50: =IF(AE45=0," NA",IF(V45=0,(+O40-AE40)/O40*100,(+V40-AE40)/V40*100)) -> NA | BB50: Percent Capacity
K51: (or attested by NetDMR subscriber agreement) | AQ51: =IF(AND(+U45+V45>0,+AD45+AE45=0),"Secondary Treatment","Tertiary Treatment") -> Tertiary Treatment | AT51: =IF(U45+AD45=0," NA",IF(AD45>0,(+AD40-AS40)/AD40*100,(+U40-AS40)/U40*100)) -> NA | AV51: =IF(V45+AE45=0," NA",IF(AE45>0,(+AE40-AW40)/AE40*100,(+V40-AW40)/V40*100)) -> NA | BB51: (actual flow/design) | BD51: =IF(AQ45+K45=0,"",IF(AQ45>0,+AQ40/O4,K40/O4))
AQ52: Overall Treatment | AT52: =IF(M40=" "," NA",(+M40-AS40)/M40*100) -> #VALUE! | AV52: =IF(O40=" "," NA",(+O40-AW40)/O40*100) -> #VALUE! | AX52: =IF(R40=" "," NA",(+R40-BA40)/R40*100) -> #VALUE! | AZ52: =IF(Q40=" "," NA",(+Q40-BE40)/Q40*100) -> #VALUE!
AQ53: =IF(OR(Q40=" ",BE40=" ",LEFT(Q10,4)<>"Phos",LEFT(BE10,4)<>"Phos"),"","Phosphorus limit would be") -> Phosphorus limit would be | AU53: =IF(OR(Q40=" ",+BE40=" ",LEFT(Q10,4)<>"Phos",LEFT(BE10,4)<>"Phos"),"",IF(+Q40>=5,1,IF(+Q40>=4,80,IF(+Q40>=3,75,IF(Q40>=2,70,IF(Q40>=1,65,60)))))) -> 1 | AV53: =IF(OR(Q40=" ",+BE40=" ",LEFT(Q10,4)<>"Phos",LEFT(BE10,4)<>"Phos"),"",IF(+Q40>=5,"mg/l.","% removal.")) -> mg/l. | AX53: =IF(OR(Q40=" ",+BE40=" ",LEFT(Q10,4)<>"Phos",LEFT(BE10,4)<>"Phos"),"",IF(OR(AND(+Q40>=5,BE40>1),AND(+Q40>=4,+Q40<5,AZ52<80),AND(+Q40>=3,+Q40<4,AZ52<75),AND(+Q40>=2,+Q40<3,AZ52<70),AND(+Q40>=1,+Q40<2,AZ52<65),AND(+Q40<1,AZ52<60)),"(compliance not achieved)","(compliance achieved)")) -> #VALUE!
A54: Page 1 of 6 | T54: Page 2 of 6 | AO54: Page 3 of 6 | BG54: Page 4 of 6 | BV54: Page 5 of 6 | CM54: Page 6 of 6

Sheet Mar
K1: Name of Facility | P1: Permit Number | T1: MONTHLY REPORT OF OPERATION | AO1: MONTHLY REPORT OF OPERATION | BG1: MONTHLY REPORT OF OPERATION | BV1: MONTHLY REPORT OF OPERATION
D2: MONTHLY REPORT OF OPERATION | K2: =Feb!K2 -> Exampleville | P2: =+Feb!P2 -> IN0000000 | T2: ACTIVATED SLUDGE TYPE | AO2: ACTIVATED SLUDGE TYPE | BG2: ACTIVATED SLUDGE TYPE | BV2: ACTIVATED SLUDGE TYPE
D3: ACTIVATED SLUDGE TYPE | K3: Month | M3: Year | O3: Plant Design Flow | Q3: Telephone Number | T3: WASTEWATER TREATMENT PLANT | AO3: WASTEWATER TREATMENT PLANT | BG3: WASTEWATER TREATMENT PLANT | BV3: WASTEWATER TREATMENT PLANT | CM3: WASTEWATER TREATMENT PLANT
D4: WASTEWATER TREATMENT PLANT | K4: March | M4: =+Feb!M4 -> 2026 | O4: =+Feb!O4 -> 0.001 | P4: mgd | Q4: =+Feb!Q4 -> 555/555-5555 | T4: =+Jan!T4 -> State Form 10829 (R11 / 3-26) | AG4: < | AO4: =+Jan!AO4 -> State Form 10829 (R11 / 3-26) | BG4: =+Jan!BG4 -> State Form 10829 (R11 / 3-26) | BV4: =+Jan!BV4 -> State Form 10829 (R11 / 3-26) | CM4: =+$D$5 -> State Form 10829 (R11 / 3-26)
D5: =+Jan!D5 -> State Form 10829 (R11 / 3-26) | J5: =CONCATENATE("3/1/",M4) -> 3/1/2026 | K5: E-mail address: | M5: =+Feb!M5 -> wwtp@city.org | R5: =Feb!R5 -> 001 | S5: =Feb!S5 -> A | T5: Name of Facility | X5: Permit Number | Z5: For Month Of: | AB5: Year | AO5: Name of Facility | AS5: Permit Number | AU5: For Month Of: | AW5: Year | BG5: Name of Facility | BI5: Permit Number | BK5: For Month Of: | BM5: Year | BV5: Name of Facility | BX5: Permit Number | BZ5: For Month Of: | CB5: Year | CM5: Name of Facility | CO5: Permit Number | CQ5: For Month Of: | CS5: Year
K6: Certified Operator: Name | O6: Class | P6: Certificate Number | R6: Expiration Date | T6: =+K2 -> Exampleville | X6: =+P2 -> IN0000000 | Z6: =+K4 -> March | AB6: =+M4 -> 2026 | AO6: =+K2 -> Exampleville | AS6: =+P2 -> IN0000000 | AU6: =+K4 -> March | AW6: =+M4 -> 2026 | BG6: =+K2 -> Exampleville | BI6: =+P2 -> IN0000000 | BK6: =+K4 -> March | BM6: =+M4 -> 2026 | BV6: =+K2 -> Exampleville | BX6: =+P2 -> IN0000000 | BZ6: =+K4 -> March | CB6: =+M4 -> 2026 | CM6: =+K2 -> Exampleville | CO6: =+P2 -> IN0000000 | CQ6: =+K4 -> March | CS6: =+M4 -> 2026
K7: =+Feb!K7 -> Chris A. Operator | O7: =+Feb!O7 -> V | P7: =+Feb!P7 -> 9999 | R7: =+Feb!R7 -> 41820 | BX7: =+Jan!BX7 -> Substitute for State Form 30530 | CO7: Substitute for State Form 30530
C8: =+Feb!C8 -> Man-Hours at Plant (Plants less than 1 MGD only) | D8: =+Feb!D8 -> Air Temperature (optional) | E8: Total= | F8: =+Feb!F8 -> Bypass At Plant Site ("x" If Occurred) | G8: =+Feb!G8 -> Sanitary Sewer Overflow ("x" If Occurred) | H8: CHEMICALS | K8: RAW SEWAGE | U8: PRIMARY | W8: AERATION | AD8: SECONDARY | AF8: FINAL EFFLUENT | AQ8: FINAL EFFLUENT | BH8: =+Feb!BH8 -> SLUDGE TO | BJ8: =+Feb!BJ8 -> DIGESTER OPERATION | BW8: =Jan!BW8 -> Final Effluent | CA8: =+Jan!CA8 | CB8: =+Jan!CB8 | CC8: =+Jan!CC8 | CD8: =+Jan!CD8 | CE8: =+Jan!CE8 | CF8: =+Jan!CF8 | CG8: =+Jan!CG8 | CH8: =+Jan!CH8 | ... CL8: =+Jan!CL8 | CN8: =Jan!CN8 -> 0 | CO8: =Jan!CO8 | CP8: =Jan!CP8 | CQ8: =Jan!CQ8 | CR8: =Jan!CR8 | CS8: =Jan!CS8 | CT8: =Jan!CT8 | CU8: =Jan!CU8 | ... DC8: =Jan!DC8
C9: =+Jan!C9 -> 0 | E9: =SUM(E11:E41) -> 0 | F9: =+Jan!F9 -> 0 | G9: =+Jan!G9 -> 0 | H9: USED | U9: EFFLUENT | W9: MIXED LIQUOR | AB9: RETURN SLUDGE | AD9: EFFLUENT | AQ9: Flow | AS9: BOD | AW9: Total Suspended Solids | BA9: Ammonia | BE9: =IF(+Feb!BE9<>"",+Feb!BE9,"") -> Phosphorus | BH9: =+Feb!BH9 -> DIGESTER | BJ9: =+Feb!BJ9 -> Anaerobic Only | BM9: =+Feb!BM9 -> Supernatant Withdrawn hrs. or Gal. x 1000 | BN9: =+Feb!BN9 -> Supernatant BOD5 mg/l or NH3-N mg/l | BO9: =+Feb!BO9 -> Total Solids in Incoming Sludge - % | BP9: =+Feb!BP9 -> Total Solids in Digested Sludge - % | BQ9: =+Feb!BQ9 -> Volatile Solids in Incoming Sludge - % | BR9: =+Feb!BR9 -> Volatile Solids in Digested Sludge - % | BS9: =+Feb!BS9 -> Digested Sludge Withdrawn hrs. or Gal. x 1000 | BT9: =+Feb!BT9 -> 0 | BU9: =+Feb!BU9 | BW9: Chloride | BY9: =Jan!BY9 -> Total Nitrogen | CA9: =+Jan!CA9 -> 0 | CB9: =+Jan!CB9 -> 0 | CC9: =+Jan!CC9 -> 0 | CD9: =+Jan!CD9 -> 0 | CE9: =+Jan!CE9 -> 0 | CF9: =+Jan!CF9 -> 0 | CG9: =+Jan!CG9 -> 0 | CH9: =+Jan!CH9 -> 0 | ... CL9: =+Jan!CL9 -> 0
A10: Day Of Month | B10: Day of Week | C10: =+Jan!C10 -> 0 | E10: =+Feb!E10 -> Precipitation - Inches | F10: =+Jan!F10 -> 0 | G10: =+Jan!G10 -> 0 | H10: =+Feb!H10 -> Chlorine - Lbs/day | I10: =+Feb!I10 -> Lbs/Day or Gal./Day | J10: =+Feb!J10 -> Lbs/Day or Gal./Day | K10: =+Feb!K10 -> Influent Flow Rate (if metered) MGD | L10: =+Feb!L10 -> pH | M10: =+Feb!M10 -> CBOD5 - mg/l | N10: =+Feb!N10 -> CBOD5 - lbs/day | O10: =+Feb!O10 -> Susp. Solids - mg/l | ... R10: =+Feb!R10 -> Ammonia - mg/l | S10: =IF(+Feb!S10<>"",+Feb!S10,"") | T10: Day Of Month | U10: =+Feb!U10 -> CBOD5 - mg/l | V10: =+Feb!V10 -> Susp. Solids - mg/l | W10: =+Feb!W10 -> Settleable Solids % in 30 minutes | X10: =+Feb!X10 -> Susp. Solids - mg/l | Y10: =+Feb!Y10 -> Sludge Vol. Index - ml/gm | Z10: =+Feb!Z10 -> Dissolved Oxygen - mg/l | AA10: =+Feb!AA10 -> Temperature - F | AB10: =+Feb!AB10 -> Volume - MG | ... AE10: =+Feb!AE10 -> Susp. Solids - mg/l | AG10: =+Feb!AG10 -> Residual Chlorine - Final | AH10: =+Feb!AH10 -> Residual Chlorine - Contact Tank | AJ10: =+Feb!AJ10 -> E. Coli - colony/100 ml | AK10: =+Feb!AK10 -> pH - daily low (or single sample) | AL10: =+Feb!AL10 -> pH - daily high (if multiple samples) | AM10: =+Feb!AM10 -> Dissolved Oxygen - mg/l | AN10: =+Feb!AN10 -> Oil & Grease (mg/l) | AO10: Day Of Month | AP10: Day of Week | AQ10: =+Feb!AQ10 -> Effluent Flow Rate (MGD) | AR10: =+Feb!AR10 -> Effluent Flow Weekly Average | AS10: =+Feb!AS10 -> CBOD5 - mg/l | AT10: =+Feb!AT10 -> CBOD5 - mg/l Weekly Average | AU10: =+Feb!AU10 -> CBOD5 - lbs/day | AV10: =+Feb!AV10 -> CBOD5 - lbs/day Weekly Average | AW10: =+Feb!AW10 -> Susp. Solids - mg/l | AX10: =+Feb!AX10 -> Susp. Solids - mg/l Weekly Average | ... BD10: =+Feb!BD10 -> Ammonia - lbs/day Weekly Average | BE10: =IF(+Feb!BE10<>"",+Feb!BE10,"") -> Phosphorus - mg/l | BF10: =IF(+Feb!BF10<>"",+Feb!BF10,"") -> Phosphorus - lbs/day | BG10: Day Of Month | BH10: =+Feb!BH10 -> Primary Sludge Gal. x 1000 | BI10: =+Feb!BI10 -> Waste Act. Sludge Gal. x 1000 | BJ10: =+Feb!BJ10 -> pH | BK10: =+Feb!BK10 -> Gas Production Cubic Ft. x 1000 | BL10: =+Feb!BL10 -> Temperature - F | BV10: Day Of Month | BW10: =+Jan!BW10 -> Chloride - mg/l | BX10: =+Jan!BX10 -> Chloride - lbs/day | BY10: =+Jan!BY10 -> Total Nitrogen- mg/l | BZ10: =+Jan!BZ10 -> Total Nitrogen- lbs/day | CA10: =+Jan!CA10 -> 0 | CB10: =+Jan!CB10 -> 0 | CC10: =+Jan!CC10 -> 0 | CD10: =+Jan!CD10 -> 0 | ... CL10: =+Jan!CL10 -> 0 | CM10: Day Of Month
A11: 1 | B11: =TEXT(J$5 + A11-1,"DDD") -> Sun | N11: =IF(CELL("type",M11)="L","",IF(M11*($K11+$AQ11)=0,"",IF($K11>0,+$K11*M11*8.34,$AQ11*M11*8.34))) | P11: =IF(CELL("type",O11)="L","",IF(O11*($K11+$AQ11)=0,"",IF($K11>0,+$K11*O11*8.34,$AQ11*O11*8.34))) | T11: =+A11 -> 1 | Y11: =IF(W11*X11=0,"",IF(W11<100,W11*10000/X11,W11*1000/X11)) | AI11: =IF(CELL("type",AJ11)="b","",IF(AJ11="tntc",63200,IF(AJ11=0,1,AJ11))) | AO11: =+A11 -> 1 | AP11: =+B11 -> Sun | AU11: =IF(CELL("type",AS11)="l","",IF(AS11*($K11+$AQ11)=0,"",IF($AQ11>0,+$AQ11*AS11*8.34,$K11*AS11*8.34))) | AY11: =IF(CELL("type",AW11)="l","",IF(AW11*($K11+$AQ11)=0,"",IF($AQ11>0,+$AQ11*AW11*8.34,$K11*AW11*8.34))) | BC11: =IF(CELL("type",BA11)="l","",IF(BA11*($K11+$AQ11)=0,"",IF($AQ11>0,+$AQ11*BA11*8.34,$K11*BA11*8.34))) | BF11: =IF(CELL("type",BE11)="l","",IF(BE11*($K11+$AQ11)=0,"",IF($AQ11>0,+$AQ11*BE11*8.34,$K11*BE11*8.34))) | BG11: =+A11 -> 1 | BV11: =+A11 -> 1 | BX11: =IF(CELL("type",BW11)="l","",IF(BW11*($K11+$AQ11)=0,"",IF($AQ11>0,+$AQ11*BW11*8.34,$K11*BW11*8.34))) | BZ11: =IF(CELL("type",BY11)="l","",IF(BY11*($K11+$AQ11)=0,"",IF($AQ11>0,+$AQ11*BY11*8.34,$K11*BY11*8.34))) | CM11: =+T11 -> 1
A12: 2 | B12: =TEXT(J$5 + A12-1,"DDD") -> Mon | N12: =IF(CELL("type",M12)="L","",IF(M12*(K12+AQ12)=0,"",IF(K12>0,+K12*M12*8.34,AQ12*M12*8.34))) | P12: =IF(CELL("type",O12)="L","",IF(O12*($K12+$AQ12)=0,"",IF($K12>0,+$K12*O12*8.34,$AQ12*O12*8.34))) | T12: =+A12 -> 2 | Y12: =IF(W12*X12=0,"",IF(W12<100,W12*10000/X12,W12*1000/X12)) | AI12: =IF(CELL("type",AJ12)="b","",IF(AJ12="tntc",63200,IF(AJ12=0,1,AJ12))) | AO12: =+A12 -> 2 | AP12: =+B12 -> Mon | AU12: =IF(CELL("type",AS12)="l","",IF(AS12*($K12+$AQ12)=0,"",IF($AQ12>0,+$AQ12*AS12*8.34,$K12*AS12*8.34))) | AY12: =IF(CELL("type",AW12)="l","",IF(AW12*($K12+$AQ12)=0,"",IF($AQ12>0,+$AQ12*AW12*8.34,$K12*AW12*8.34))) | BC12: =IF(CELL("type",BA12)="l","",IF(BA12*($K12+$AQ12)=0,"",IF($AQ12>0,+$AQ12*BA12*8.34,$K12*BA12*8.34))) | BF12: =IF(CELL("type",BE12)="l","",IF(BE12*($K12+$AQ12)=0,"",IF($AQ12>0,+$AQ12*BE12*8.34,$K12*BE12*8.34))) | BG12: =+A12 -> 2 | BV12: =+A12 -> 2 | BX12: =IF(CELL("type",BW12)="l","",IF(BW12*($K12+$AQ12)=0,"",IF($AQ12>0,+$AQ12*BW12*8.34,$K12*BW12*8.34))) | BZ12: =IF(CELL("type",BY12)="l","",IF(BY12*($K12+$AQ12)=0,"",IF($AQ12>0,+$AQ12*BY12*8.34,$K12*BY12*8.34))) | CM12: =+T12 -> 2
A13: 3 | B13: =TEXT(J$5 + A13-1,"DDD") -> Tue | N13: =IF(CELL("type",M13)="L","",IF(M13*(K13+AQ13)=0,"",IF(K13>0,+K13*M13*8.34,AQ13*M13*8.34))) | P13: =IF(CELL("type",O13)="L","",IF(O13*($K13+$AQ13)=0,"",IF($K13>0,+$K13*O13*8.34,$AQ13*O13*8.34))) | T13: =+A13 -> 3 | Y13: =IF(W13*X13=0,"",IF(W13<100,W13*10000/X13,W13*1000/X13)) | AI13: =IF(CELL("type",AJ13)="b","",IF(AJ13="tntc",63200,IF(AJ13=0,1,AJ13))) | AO13: =+A13 -> 3 | AP13: =+B13 -> Tue | AU13: =IF(CELL("type",AS13)="l","",IF(AS13*($K13+$AQ13)=0,"",IF($AQ13>0,+$AQ13*AS13*8.34,$K13*AS13*8.34))) | AY13: =IF(CELL("type",AW13)="l","",IF(AW13*($K13+$AQ13)=0,"",IF($AQ13>0,+$AQ13*AW13*8.34,$K13*AW13*8.34))) | BC13: =IF(CELL("type",BA13)="l","",IF(BA13*($K13+$AQ13)=0,"",IF($AQ13>0,+$AQ13*BA13*8.34,$K13*BA13*8.34))) | BF13: =IF(CELL("type",BE13)="l","",IF(BE13*($K13+$AQ13)=0,"",IF($AQ13>0,+$AQ13*BE13*8.34,$K13*BE13*8.34))) | BG13: =+A13 -> 3 | BV13: =+A13 -> 3 | BX13: =IF(CELL("type",BW13)="l","",IF(BW13*($K13+$AQ13)=0,"",IF($AQ13>0,+$AQ13*BW13*8.34,$K13*BW13*8.34))) | BZ13: =IF(CELL("type",BY13)="l","",IF(BY13*($K13+$AQ13)=0,"",IF($AQ13>0,+$AQ13*BY13*8.34,$K13*BY13*8.34))) | CM13: =+T13 -> 3
A14: 4 | B14: =TEXT(J$5 + A14-1,"DDD") -> Wed | N14: =IF(CELL("type",M14)="L","",IF(M14*(K14+AQ14)=0,"",IF(K14>0,+K14*M14*8.34,AQ14*M14*8.34))) | P14: =IF(CELL("type",O14)="L","",IF(O14*($K14+$AQ14)=0,"",IF($K14>0,+$K14*O14*8.34,$AQ14*O14*8.34))) | T14: =+A14 -> 4 | Y14: =IF(W14*X14=0,"",IF(W14<100,W14*10000/X14,W14*1000/X14)) | AI14: =IF(CELL("type",AJ14)="b","",IF(AJ14="tntc",63200,IF(AJ14=0,1,AJ14))) | AO14: =+A14 -> 4 | AP14: =+B14 -> Wed | AR14: =IF(+$B14<>"Sat","",IF(Feb!$A$39=29,IF(SUM(AQ$11:AQ14,Feb!AQ37:AQ$39)>0,AVERAGE(AQ$11:AQ14,Feb!AQ37:AQ$39)," "),IF(SUM(AQ$11:AQ14,Feb!AQ36:AQ$38)>0,AVERAGE(AQ$11:AQ14,Feb!AQ36:AQ$38),""))) | AT14: =IF(+$B14<>"Sat","",IF(Feb!$A$39=29,IF(SUM(AS$11:AS14,Feb!AS37:AS$39)>0,AVERAGE(AS$11:AS14,Feb!AS37:AS$39)," "),IF(SUM(AS$11:AS14,Feb!AS36:AS$38)>0,AVERAGE(AS$11:AS14,Feb!AS36:AS$38),""))) | AU14: =IF(CELL("type",AS14)="l","",IF(AS14*($K14+$AQ14)=0,"",IF($AQ14>0,+$AQ14*AS14*8.34,$K14*AS14*8.34))) | AV14: =IF(+$B14<>"Sat","",IF(Feb!$A$39=29,IF(SUM(AU$11:AU14,Feb!AU37:AU$39)>0,AVERAGE(AU$11:AU14,Feb!AU37:AU$39)," "),IF(SUM(AU$11:AU14,Feb!AU36:AU$38)>0,AVERAGE(AU$11:AU14,Feb!AU36:AU$38),""))) | AX14: =IF(+$B14<>"Sat","",IF(Feb!$A$39=29,IF(SUM(AW$11:AW14,Feb!AW37:AW$39)>0,AVERAGE(AW$11:AW14,Feb!AW37:AW$39)," "),IF(SUM(AW$11:AW14,Feb!AW36:AW$38)>0,AVERAGE(AW$11:AW14,Feb!AW36:AW$38),""))) | AY14: =IF(CELL("type",AW14)="l","",IF(AW14*($K14+$AQ14)=0,"",IF($AQ14>0,+$AQ14*AW14*8.34,$K14*AW14*8.34))) | AZ14: =IF(+$B14<>"Sat","",IF(Feb!$A$39=29,IF(SUM(AY$11:AY14,Feb!AY37:AY$39)>0,AVERAGE(AY$11:AY14,Feb!AY37:AY$39)," "),IF(SUM(AY$11:AY14,Feb!AY36:AY$38)>0,AVERAGE(AY$11:AY14,Feb!AY36:AY$38),""))) | BB14: =IF(+$B14<>"Sat","",IF(Feb!$A$39=29,IF(SUM(BA$11:BA14,Feb!BA37:BA$39)>0,AVERAGE(BA$11:BA14,Feb!BA37:BA$39)," "),IF(SUM(BA$11:BA14,Feb!BA36:BA$38)>0,AVERAGE(BA$11:BA14,Feb!BA36:BA$38),""))) | BC14: =IF(CELL("type",BA14)="l","",IF(BA14*($K14+$AQ14)=0,"",IF($AQ14>0,+$AQ14*BA14*8.34,$K14*BA14*8.34))) | BD14: =IF(+$B14<>"Sat","",IF(Feb!$A$39=29,IF(SUM(BC$11:BC14,Feb!BC37:BC$39)>0,AVERAGE(BC$11:BC14,Feb!BC37:BC$39)," "),IF(SUM(BC$11:BC14,Feb!BC36:BC$38)>0,AVERAGE(BC$11:BC14,Feb!BC36:BC$38),""))) | BF14: =IF(CELL("type",BE14)="l","",IF(BE14*($K14+$AQ14)=0,"",IF($AQ14>0,+$AQ14*BE14*8.34,$K14*BE14*8.34))) | BG14: =+A14 -> 4 | BV14: =+A14 -> 4 | BX14: =IF(CELL("type",BW14)="l","",IF(BW14*($K14+$AQ14)=0,"",IF($AQ14>0,+$AQ14*BW14*8.34,$K14*BW14*8.34))) | BZ14: =IF(CELL("type",BY14)="l","",IF(BY14*($K14+$AQ14)=0,"",IF($AQ14>0,+$AQ14*BY14*8.34,$K14*BY14*8.34))) | CM14: =+T14 -> 4
A15: 5 | B15: =TEXT(J$5 + A15-1,"DDD") -> Thu | N15: =IF(CELL("type",M15)="L","",IF(M15*(K15+AQ15)=0,"",IF(K15>0,+K15*M15*8.34,AQ15*M15*8.34))) | P15: =IF(CELL("type",O15)="L","",IF(O15*($K15+$AQ15)=0,"",IF($K15>0,+$K15*O15*8.34,$AQ15*O15*8.34))) | T15: =+A15 -> 5 | Y15: =IF(W15*X15=0,"",IF(W15<100,W15*10000/X15,W15*1000/X15)) | AI15: =IF(CELL("type",AJ15)="b","",IF(AJ15="tntc",63200,IF(AJ15=0,1,AJ15))) | AO15: =+A15 -> 5 | AP15: =+B15 -> Thu | AR15: =IF(+$B15<>"Sat","",IF(Feb!$A$39=29,IF(SUM(AQ$11:AQ15,Feb!AQ38:AQ$39)>0,AVERAGE(AQ$11:AQ15,Feb!AQ38:AQ$39)," "),IF(SUM(AQ$11:AQ15,Feb!AQ37:AQ$38)>0,AVERAGE(AQ$11:AQ15,Feb!AQ37:AQ$38),""))) | AT15: =IF(+$B15<>"Sat","",IF(Feb!$A$39=29,IF(SUM(AS$11:AS15,Feb!AS38:AS$39)>0,AVERAGE(AS$11:AS15,Feb!AS38:AS$39)," "),IF(SUM(AS$11:AS15,Feb!AS37:AS$38)>0,AVERAGE(AS$11:AS15,Feb!AS37:AS$38),""))) | AU15: =IF(CELL("type",AS15)="l","",IF(AS15*($K15+$AQ15)=0,"",IF($AQ15>0,+$AQ15*AS15*8.34,$K15*AS15*8.34))) | AV15: =IF(+$B15<>"Sat","",IF(Feb!$A$39=29,IF(SUM(AU$11:AU15,Feb!AU38:AU$39)>0,AVERAGE(AU$11:AU15,Feb!AU38:AU$39)," "),IF(SUM(AU$11:AU15,Feb!AU37:AU$38)>0,AVERAGE(AU$11:AU15,Feb!AU37:AU$38),""))) | AX15: =IF(+$B15<>"Sat","",IF(Feb!$A$39=29,IF(SUM(AW$11:AW15,Feb!AW38:AW$39)>0,AVERAGE(AW$11:AW15,Feb!AW38:AW$39)," "),IF(SUM(AW$11:AW15,Feb!AW37:AW$38)>0,AVERAGE(AW$11:AW15,Feb!AW37:AW$38),""))) | AY15: =IF(CELL("type",AW15)="l","",IF(AW15*($K15+$AQ15)=0,"",IF($AQ15>0,+$AQ15*AW15*8.34,$K15*AW15*8.34))) | AZ15: =IF(+$B15<>"Sat","",IF(Feb!$A$39=29,IF(SUM(AY$11:AY15,Feb!AY38:AY$39)>0,AVERAGE(AY$11:AY15,Feb!AY38:AY$39)," "),IF(SUM(AY$11:AY15,Feb!AY37:AY$38)>0,AVERAGE(AY$11:AY15,Feb!AY37:AY$38),""))) | BB15: =IF(+$B15<>"Sat","",IF(Feb!$A$39=29,IF(SUM(BA$11:BA15,Feb!BA38:BA$39)>0,AVERAGE(BA$11:BA15,Feb!BA38:BA$39)," "),IF(SUM(BA$11:BA15,Feb!BA37:BA$38)>0,AVERAGE(BA$11:BA15,Feb!BA37:BA$38),""))) | BC15: =IF(CELL("type",BA15)="l","",IF(BA15*($K15+$AQ15)=0,"",IF($AQ15>0,+$AQ15*BA15*8.34,$K15*BA15*8.34))) | BD15: =IF(+$B15<>"Sat","",IF(Feb!$A$39=29,IF(SUM(BC$11:BC15,Feb!BC38:BC$39)>0,AVERAGE(BC$11:BC15,Feb!BC38:BC$39)," "),IF(SUM(BC$11:BC15,Feb!BC37:BC$38)>0,AVERAGE(BC$11:BC15,Feb!BC37:BC$38),""))) | BF15: =IF(CELL("type",BE15)="l","",IF(BE15*($K15+$AQ15)=0,"",IF($AQ15>0,+$AQ15*BE15*8.34,$K15*BE15*8.34))) | BG15: =+A15 -> 5 | BV15: =+A15 -> 5 | BX15: =IF(CELL("type",BW15)="l","",IF(BW15*($K15+$AQ15)=0,"",IF($AQ15>0,+$AQ15*BW15*8.34,$K15*BW15*8.34))) | BZ15: =IF(CELL("type",BY15)="l","",IF(BY15*($K15+$AQ15)=0,"",IF($AQ15>0,+$AQ15*BY15*8.34,$K15*BY15*8.34))) | CM15: =+T15 -> 5
A16: 6 | B16: =TEXT(J$5 + A16-1,"DDD") -> Fri | N16: =IF(CELL("type",M16)="L","",IF(M16*(K16+AQ16)=0,"",IF(K16>0,+K16*M16*8.34,AQ16*M16*8.34))) | P16: =IF(CELL("type",O16)="L","",IF(O16*($K16+$AQ16)=0,"",IF($K16>0,+$K16*O16*8.34,$AQ16*O16*8.34))) | T16: =+A16 -> 6 | Y16: =IF(W16*X16=0,"",IF(W16<100,W16*10000/X16,W16*1000/X16)) | AI16: =IF(CELL("type",AJ16)="b","",IF(AJ16="tntc",63200,IF(AJ16=0,1,AJ16))) | AO16: =+A16 -> 6 | AP16: =+B16 -> Fri | AR16: =IF(+$B16<>"Sat","",IF(Feb!$A$39=29,IF(SUM(AQ$11:AQ16,Feb!AQ39:AQ$39)>0,AVERAGE(AQ$11:AQ16,Feb!AQ39:AQ$39)," "),IF(SUM(AQ$11:AQ16,Feb!AQ38:AQ$38)>0,AVERAGE(AQ$11:AQ16,Feb!AQ38:AQ$38),""))) | AT16: =IF(+$B16<>"Sat","",IF(Feb!$A$39=29,IF(SUM(AS$11:AS16,Feb!AS39:AS$39)>0,AVERAGE(AS$11:AS16,Feb!AS39:AS$39)," "),IF(SUM(AS$11:AS16,Feb!AS38:AS$38)>0,AVERAGE(AS$11:AS16,Feb!AS38:AS$38),""))) | AU16: =IF(CELL("type",AS16)="l","",IF(AS16*($K16+$AQ16)=0,"",IF($AQ16>0,+$AQ16*AS16*8.34,$K16*AS16*8.34))) | AV16: =IF(+$B16<>"Sat","",IF(Feb!$A$39=29,IF(SUM(AU$11:AU16,Feb!AU39:AU$39)>0,AVERAGE(AU$11:AU16,Feb!AU39:AU$39)," "),IF(SUM(AU$11:AU16,Feb!AU38:AU$38)>0,AVERAGE(AU$11:AU16,Feb!AU38:AU$38),""))) | AX16: =IF(+$B16<>"Sat","",IF(Feb!$A$39=29,IF(SUM(AW$11:AW16,Feb!AW39:AW$39)>0,AVERAGE(AW$11:AW16,Feb!AW39:AW$39)," "),IF(SUM(AW$11:AW16,Feb!AW38:AW$38)>0,AVERAGE(AW$11:AW16,Feb!AW38:AW$38),""))) | AY16: =IF(CELL("type",AW16)="l","",IF(AW16*($K16+$AQ16)=0,"",IF($AQ16>0,+$AQ16*AW16*8.34,$K16*AW16*8.34))) | AZ16: =IF(+$B16<>"Sat","",IF(Feb!$A$39=29,IF(SUM(AY$11:AY16,Feb!AY39:AY$39)>0,AVERAGE(AY$11:AY16,Feb!AY39:AY$39)," "),IF(SUM(AY$11:AY16,Feb!AY38:AY$38)>0,AVERAGE(AY$11:AY16,Feb!AY38:AY$38),""))) | BB16: =IF(+$B16<>"Sat","",IF(Feb!$A$39=29,IF(SUM(BA$11:BA16,Feb!BA39:BA$39)>0,AVERAGE(BA$11:BA16,Feb!BA39:BA$39)," "),IF(SUM(BA$11:BA16,Feb!BA38:BA$38)>0,AVERAGE(BA$11:BA16,Feb!BA38:BA$38),""))) | BC16: =IF(CELL("type",BA16)="l","",IF(BA16*($K16+$AQ16)=0,"",IF($AQ16>0,+$AQ16*BA16*8.34,$K16*BA16*8.34))) | BD16: =IF(+$B16<>"Sat","",IF(Feb!$A$39=29,IF(SUM(BC$11:BC16,Feb!BC39:BC$39)>0,AVERAGE(BC$11:BC16,Feb!BC39:BC$39)," "),IF(SUM(BC$11:BC16,Feb!BC38:BC$38)>0,AVERAGE(BC$11:BC16,Feb!BC38:BC$38),""))) | BF16: =IF(CELL("type",BE16)="l","",IF(BE16*($K16+$AQ16)=0,"",IF($AQ16>0,+$AQ16*BE16*8.34,$K16*BE16*8.34))) | BG16: =+A16 -> 6 | BV16: =+A16 -> 6 | BX16: =IF(CELL("type",BW16)="l","",IF(BW16*($K16+$AQ16)=0,"",IF($AQ16>0,+$AQ16*BW16*8.34,$K16*BW16*8.34))) | BZ16: =IF(CELL("type",BY16)="l","",IF(BY16*($K16+$AQ16)=0,"",IF($AQ16>0,+$AQ16*BY16*8.34,$K16*BY16*8.34))) | CM16: =+T16 -> 6
A17: 7 | B17: =TEXT(J$5 + A17-1,"DDD") -> Sat | N17: =IF(CELL("type",M17)="L","",IF(M17*(K17+AQ17)=0,"",IF(K17>0,+K17*M17*8.34,AQ17*M17*8.34))) | P17: =IF(CELL("type",O17)="L","",IF(O17*($K17+$AQ17)=0,"",IF($K17>0,+$K17*O17*8.34,$AQ17*O17*8.34))) | T17: =+A17 -> 7 | Y17: =IF(W17*X17=0,"",IF(W17<100,W17*10000/X17,W17*1000/X17)) | AI17: =IF(CELL("type",AJ17)="b","",IF(AJ17="tntc",63200,IF(AJ17=0,1,AJ17))) | AO17: =+A17 -> 7 | AP17: =+B17 -> Sat | AR17: =IF(+$B17="Sat",IF(SUM(AQ11:AQ17)>0,AVERAGE(AQ11:AQ17)," "),"") | AT17: =IF(+$B17="Sat",IF(SUM(AS11:AS17)>0,AVERAGE(AS11:AS17)," "),"") | AU17: =IF(CELL("type",AS17)="l","",IF(AS17*($K17+$AQ17)=0,"",IF($AQ17>0,+$AQ17*AS17*8.34,$K17*AS17*8.34))) | AV17: =IF(+$B17="Sat",IF(SUM(AU11:AU17)>0,AVERAGE(AU11:AU17)," "),"") | AX17: =IF(+$B17="Sat",IF(SUM(AW11:AW17)>0,AVERAGE(AW11:AW17)," "),"") | AY17: =IF(CELL("type",AW17)="l","",IF(AW17*($K17+$AQ17)=0,"",IF($AQ17>0,+$AQ17*AW17*8.34,$K17*AW17*8.34))) | AZ17: =IF(+$B17="Sat",IF(SUM(AY11:AY17)>0,AVERAGE(AY11:AY17)," "),"") | BB17: =IF(+$B17="Sat",IF(SUM(BA11:BA17)>0,AVERAGE(BA11:BA17)," "),"") | BC17: =IF(CELL("type",BA17)="l","",IF(BA17*($K17+$AQ17)=0,"",IF($AQ17>0,+$AQ17*BA17*8.34,$K17*BA17*8.34))) | BD17: =IF(+$B17="Sat",IF(SUM(BC11:BC17)>0,AVERAGE(BC11:BC17)," "),"") | BF17: =IF(CELL("type",BE17)="l","",IF(BE17*($K17+$AQ17)=0,"",IF($AQ17>0,+$AQ17*BE17*8.34,$K17*BE17*8.34))) | BG17: =+A17 -> 7 | BV17: =+A17 -> 7 | BX17: =IF(CELL("type",BW17)="l","",IF(BW17*($K17+$AQ17)=0,"",IF($AQ17>0,+$AQ17*BW17*8.34,$K17*BW17*8.34))) | BZ17: =IF(CELL("type",BY17)="l","",IF(BY17*($K17+$AQ17)=0,"",IF($AQ17>0,+$AQ17*BY17*8.34,$K17*BY17*8.34))) | CM17: =+T17 -> 7
A18: 8 | B18: =TEXT(J$5 + A18-1,"DDD") -> Sun | N18: =IF(CELL("type",M18)="L","",IF(M18*(K18+AQ18)=0,"",IF(K18>0,+K18*M18*8.34,AQ18*M18*8.34))) | P18: =IF(CELL("type",O18)="L","",IF(O18*($K18+$AQ18)=0,"",IF($K18>0,+$K18*O18*8.34,$AQ18*O18*8.34))) | T18: =+A18 -> 8 | Y18: =IF(W18*X18=0,"",IF(W18<100,W18*10000/X18,W18*1000/X18)) | AI18: =IF(CELL("type",AJ18)="b","",IF(AJ18="tntc",63200,IF(AJ18=0,1,AJ18))) | AO18: =+A18 -> 8 | AP18: =+B18 -> Sun | AR18: =IF(+$B18="Sat",IF(SUM(AQ12:AQ18)>0,AVERAGE(AQ12:AQ18)," "),"") | AT18: =IF(+$B18="Sat",IF(SUM(AS12:AS18)>0,AVERAGE(AS12:AS18)," "),"") | AU18: =IF(CELL("type",AS18)="l","",IF(AS18*($K18+$AQ18)=0,"",IF($AQ18>0,+$AQ18*AS18*8.34,$K18*AS18*8.34))) | AV18: =IF(+$B18="Sat",IF(SUM(AU12:AU18)>0,AVERAGE(AU12:AU18)," "),"") | AX18: =IF(+$B18="Sat",IF(SUM(AW12:AW18)>0,AVERAGE(AW12:AW18)," "),"") | AY18: =IF(CELL("type",AW18)="l","",IF(AW18*($K18+$AQ18)=0,"",IF($AQ18>0,+$AQ18*AW18*8.34,$K18*AW18*8.34))) | AZ18: =IF(+$B18="Sat",IF(SUM(AY12:AY18)>0,AVERAGE(AY12:AY18)," "),"") | BB18: =IF(+$B18="Sat",IF(SUM(BA12:BA18)>0,AVERAGE(BA12:BA18)," "),"") | BC18: =IF(CELL("type",BA18)="l","",IF(BA18*($K18+$AQ18)=0,"",IF($AQ18>0,+$AQ18*BA18*8.34,$K18*BA18*8.34))) | BD18: =IF(+$B18="Sat",IF(SUM(BC12:BC18)>0,AVERAGE(BC12:BC18)," "),"") | BF18: =IF(CELL("type",BE18)="l","",IF(BE18*($K18+$AQ18)=0,"",IF($AQ18>0,+$AQ18*BE18*8.34,$K18*BE18*8.34))) | BG18: =+A18 -> 8 | BV18: =+A18 -> 8 | BX18: =IF(CELL("type",BW18)="l","",IF(BW18*($K18+$AQ18)=0,"",IF($AQ18>0,+$AQ18*BW18*8.34,$K18*BW18*8.34))) | BZ18: =IF(CELL("type",BY18)="l","",IF(BY18*($K18+$AQ18)=0,"",IF($AQ18>0,+$AQ18*BY18*8.34,$K18*BY18*8.34))) | CM18: =+T18 -> 8
A19: 9 | B19: =TEXT(J$5 + A19-1,"DDD") -> Mon | N19: =IF(CELL("type",M19)="L","",IF(M19*(K19+AQ19)=0,"",IF(K19>0,+K19*M19*8.34,AQ19*M19*8.34))) | P19: =IF(CELL("type",O19)="L","",IF(O19*($K19+$AQ19)=0,"",IF($K19>0,+$K19*O19*8.34,$AQ19*O19*8.34))) | T19: =+A19 -> 9 | Y19: =IF(W19*X19=0,"",IF(W19<100,W19*10000/X19,W19*1000/X19)) | AI19: =IF(CELL("type",AJ19)="b","",IF(AJ19="tntc",63200,IF(AJ19=0,1,AJ19))) | AO19: =+A19 -> 9 | AP19: =+B19 -> Mon | AR19: =IF(+$B19="Sat",IF(SUM(AQ13:AQ19)>0,AVERAGE(AQ13:AQ19)," "),"") | AT19: =IF(+$B19="Sat",IF(SUM(AS13:AS19)>0,AVERAGE(AS13:AS19)," "),"") | AU19: =IF(CELL("type",AS19)="l","",IF(AS19*($K19+$AQ19)=0,"",IF($AQ19>0,+$AQ19*AS19*8.34,$K19*AS19*8.34))) | AV19: =IF(+$B19="Sat",IF(SUM(AU13:AU19)>0,AVERAGE(AU13:AU19)," "),"") | AX19: =IF(+$B19="Sat",IF(SUM(AW13:AW19)>0,AVERAGE(AW13:AW19)," "),"") | AY19: =IF(CELL("type",AW19)="l","",IF(AW19*($K19+$AQ19)=0,"",IF($AQ19>0,+$AQ19*AW19*8.34,$K19*AW19*8.34))) | AZ19: =IF(+$B19="Sat",IF(SUM(AY13:AY19)>0,AVERAGE(AY13:AY19)," "),"") | BB19: =IF(+$B19="Sat",IF(SUM(BA13:BA19)>0,AVERAGE(BA13:BA19)," "),"") | BC19: =IF(CELL("type",BA19)="l","",IF(BA19*($K19+$AQ19)=0,"",IF($AQ19>0,+$AQ19*BA19*8.34,$K19*BA19*8.34))) | BD19: =IF(+$B19="Sat",IF(SUM(BC13:BC19)>0,AVERAGE(BC13:BC19)," "),"") | BF19: =IF(CELL("type",BE19)="l","",IF(BE19*($K19+$AQ19)=0,"",IF($AQ19>0,+$AQ19*BE19*8.34,$K19*BE19*8.34))) | BG19: =+A19 -> 9 | BV19: =+A19 -> 9 | BX19: =IF(CELL("type",BW19)="l","",IF(BW19*($K19+$AQ19)=0,"",IF($AQ19>0,+$AQ19*BW19*8.34,$K19*BW19*8.34))) | BZ19: =IF(CELL("type",BY19)="l","",IF(BY19*($K19+$AQ19)=0,"",IF($AQ19>0,+$AQ19*BY19*8.34,$K19*BY19*8.34))) | CM19: =+T19 -> 9
A20: 10 | B20: =TEXT(J$5 + A20-1,"DDD") -> Tue | N20: =IF(CELL("type",M20)="L","",IF(M20*(K20+AQ20)=0,"",IF(K20>0,+K20*M20*8.34,AQ20*M20*8.34))) | P20: =IF(CELL("type",O20)="L","",IF(O20*($K20+$AQ20)=0,"",IF($K20>0,+$K20*O20*8.34,$AQ20*O20*8.34))) | T20: =+A20 -> 10 | Y20: =IF(W20*X20=0,"",IF(W20<100,W20*10000/X20,W20*1000/X20)) | AI20: =IF(CELL("type",AJ20)="b","",IF(AJ20="tntc",63200,IF(AJ20=0,1,AJ20))) | AO20: =+A20 -> 10 | AP20: =+B20 -> Tue | AR20: =IF(+$B20="Sat",IF(SUM(AQ14:AQ20)>0,AVERAGE(AQ14:AQ20)," "),"") | AT20: =IF(+$B20="Sat",IF(SUM(AS14:AS20)>0,AVERAGE(AS14:AS20)," "),"") | AU20: =IF(CELL("type",AS20)="l","",IF(AS20*($K20+$AQ20)=0,"",IF($AQ20>0,+$AQ20*AS20*8.34,$K20*AS20*8.34))) | AV20: =IF(+$B20="Sat",IF(SUM(AU14:AU20)>0,AVERAGE(AU14:AU20)," "),"") | AX20: =IF(+$B20="Sat",IF(SUM(AW14:AW20)>0,AVERAGE(AW14:AW20)," "),"") | AY20: =IF(CELL("type",AW20)="l","",IF(AW20*($K20+$AQ20)=0,"",IF($AQ20>0,+$AQ20*AW20*8.34,$K20*AW20*8.34))) | AZ20: =IF(+$B20="Sat",IF(SUM(AY14:AY20)>0,AVERAGE(AY14:AY20)," "),"") | BB20: =IF(+$B20="Sat",IF(SUM(BA14:BA20)>0,AVERAGE(BA14:BA20)," "),"") | BC20: =IF(CELL("type",BA20)="l","",IF(BA20*($K20+$AQ20)=0,"",IF($AQ20>0,+$AQ20*BA20*8.34,$K20*BA20*8.34))) | BD20: =IF(+$B20="Sat",IF(SUM(BC14:BC20)>0,AVERAGE(BC14:BC20)," "),"") | BF20: =IF(CELL("type",BE20)="l","",IF(BE20*($K20+$AQ20)=0,"",IF($AQ20>0,+$AQ20*BE20*8.34,$K20*BE20*8.34))) | BG20: =+A20 -> 10 | BV20: =+A20 -> 10 | BX20: =IF(CELL("type",BW20)="l","",IF(BW20*($K20+$AQ20)=0,"",IF($AQ20>0,+$AQ20*BW20*8.34,$K20*BW20*8.34))) | BZ20: =IF(CELL("type",BY20)="l","",IF(BY20*($K20+$AQ20)=0,"",IF($AQ20>0,+$AQ20*BY20*8.34,$K20*BY20*8.34))) | CM20: =+T20 -> 10
A21: 11 | B21: =TEXT(J$5 + A21-1,"DDD") -> Wed | N21: =IF(CELL("type",M21)="L","",IF(M21*(K21+AQ21)=0,"",IF(K21>0,+K21*M21*8.34,AQ21*M21*8.34))) | P21: =IF(CELL("type",O21)="L","",IF(O21*($K21+$AQ21)=0,"",IF($K21>0,+$K21*O21*8.34,$AQ21*O21*8.34))) | T21: =+A21 -> 11 | Y21: =IF(W21*X21=0,"",IF(W21<100,W21*10000/X21,W21*1000/X21)) | AI21: =IF(CELL("type",AJ21)="b","",IF(AJ21="tntc",63200,IF(AJ21=0,1,AJ21))) | AO21: =+A21 -> 11 | AP21: =+B21 -> Wed | AR21: =IF(+$B21="Sat",IF(SUM(AQ15:AQ21)>0,AVERAGE(AQ15:AQ21)," "),"") | AT21: =IF(+$B21="Sat",IF(SUM(AS15:AS21)>0,AVERAGE(AS15:AS21)," "),"") | AU21: =IF(CELL("type",AS21)="l","",IF(AS21*($K21+$AQ21)=0,"",IF($AQ21>0,+$AQ21*AS21*8.34,$K21*AS21*8.34))) | AV21: =IF(+$B21="Sat",IF(SUM(AU15:AU21)>0,AVERAGE(AU15:AU21)," "),"") | AX21: =IF(+$B21="Sat",IF(SUM(AW15:AW21)>0,AVERAGE(AW15:AW21)," "),"") | AY21: =IF(CELL("type",AW21)="l","",IF(AW21*($K21+$AQ21)=0,"",IF($AQ21>0,+$AQ21*AW21*8.34,$K21*AW21*8.34))) | AZ21: =IF(+$B21="Sat",IF(SUM(AY15:AY21)>0,AVERAGE(AY15:AY21)," "),"") | BB21: =IF(+$B21="Sat",IF(SUM(BA15:BA21)>0,AVERAGE(BA15:BA21)," "),"") | BC21: =IF(CELL("type",BA21)="l","",IF(BA21*($K21+$AQ21)=0,"",IF($AQ21>0,+$AQ21*BA21*8.34,$K21*BA21*8.34))) | BD21: =IF(+$B21="Sat",IF(SUM(BC15:BC21)>0,AVERAGE(BC15:BC21)," "),"") | BF21: =IF(CELL("type",BE21)="l","",IF(BE21*($K21+$AQ21)=0,"",IF($AQ21>0,+$AQ21*BE21*8.34,$K21*BE21*8.34))) | BG21: =+A21 -> 11 | BV21: =+A21 -> 11 | BX21: =IF(CELL("type",BW21)="l","",IF(BW21*($K21+$AQ21)=0,"",IF($AQ21>0,+$AQ21*BW21*8.34,$K21*BW21*8.34))) | BZ21: =IF(CELL("type",BY21)="l","",IF(BY21*($K21+$AQ21)=0,"",IF($AQ21>0,+$AQ21*BY21*8.34,$K21*BY21*8.34))) | CM21: =+T21 -> 11
A22: 12 | B22: =TEXT(J$5 + A22-1,"DDD") -> Thu | N22: =IF(CELL("type",M22)="L","",IF(M22*(K22+AQ22)=0,"",IF(K22>0,+K22*M22*8.34,AQ22*M22*8.34))) | P22: =IF(CELL("type",O22)="L","",IF(O22*($K22+$AQ22)=0,"",IF($K22>0,+$K22*O22*8.34,$AQ22*O22*8.34))) | T22: =+A22 -> 12 | Y22: =IF(W22*X22=0,"",IF(W22<100,W22*10000/X22,W22*1000/X22)) | AI22: =IF(CELL("type",AJ22)="b","",IF(AJ22="tntc",63200,IF(AJ22=0,1,AJ22))) | AO22: =+A22 -> 12 | AP22: =+B22 -> Thu | AR22: =IF(+$B22="Sat",IF(SUM(AQ16:AQ22)>0,AVERAGE(AQ16:AQ22)," "),"") | AT22: =IF(+$B22="Sat",IF(SUM(AS16:AS22)>0,AVERAGE(AS16:AS22)," "),"") | AU22: =IF(CELL("type",AS22)="l","",IF(AS22*($K22+$AQ22)=0,"",IF($AQ22>0,+$AQ22*AS22*8.34,$K22*AS22*8.34))) | AV22: =IF(+$B22="Sat",IF(SUM(AU16:AU22)>0,AVERAGE(AU16:AU22)," "),"") | AX22: =IF(+$B22="Sat",IF(SUM(AW16:AW22)>0,AVERAGE(AW16:AW22)," "),"") | AY22: =IF(CELL("type",AW22)="l","",IF(AW22*($K22+$AQ22)=0,"",IF($AQ22>0,+$AQ22*AW22*8.34,$K22*AW22*8.34))) | AZ22: =IF(+$B22="Sat",IF(SUM(AY16:AY22)>0,AVERAGE(AY16:AY22)," "),"") | BB22: =IF(+$B22="Sat",IF(SUM(BA16:BA22)>0,AVERAGE(BA16:BA22)," "),"") | BC22: =IF(CELL("type",BA22)="l","",IF(BA22*($K22+$AQ22)=0,"",IF($AQ22>0,+$AQ22*BA22*8.34,$K22*BA22*8.34))) | BD22: =IF(+$B22="Sat",IF(SUM(BC16:BC22)>0,AVERAGE(BC16:BC22)," "),"") | BF22: =IF(CELL("type",BE22)="l","",IF(BE22*($K22+$AQ22)=0,"",IF($AQ22>0,+$AQ22*BE22*8.34,$K22*BE22*8.34))) | BG22: =+A22 -> 12 | BV22: =+A22 -> 12 | BX22: =IF(CELL("type",BW22)="l","",IF(BW22*($K22+$AQ22)=0,"",IF($AQ22>0,+$AQ22*BW22*8.34,$K22*BW22*8.34))) | BZ22: =IF(CELL("type",BY22)="l","",IF(BY22*($K22+$AQ22)=0,"",IF($AQ22>0,+$AQ22*BY22*8.34,$K22*BY22*8.34))) | CM22: =+T22 -> 12
A23: 13 | B23: =TEXT(J$5 + A23-1,"DDD") -> Fri | N23: =IF(CELL("type",M23)="L","",IF(M23*(K23+AQ23)=0,"",IF(K23>0,+K23*M23*8.34,AQ23*M23*8.34))) | P23: =IF(CELL("type",O23)="L","",IF(O23*($K23+$AQ23)=0,"",IF($K23>0,+$K23*O23*8.34,$AQ23*O23*8.34))) | T23: =+A23 -> 13 | Y23: =IF(W23*X23=0,"",IF(W23<100,W23*10000/X23,W23*1000/X23)) | AI23: =IF(CELL("type",AJ23)="b","",IF(AJ23="tntc",63200,IF(AJ23=0,1,AJ23))) | AO23: =+A23 -> 13 | AP23: =+B23 -> Fri | AR23: =IF(+$B23="Sat",IF(SUM(AQ17:AQ23)>0,AVERAGE(AQ17:AQ23)," "),"") | AT23: =IF(+$B23="Sat",IF(SUM(AS17:AS23)>0,AVERAGE(AS17:AS23)," "),"") | AU23: =IF(CELL("type",AS23)="l","",IF(AS23*($K23+$AQ23)=0,"",IF($AQ23>0,+$AQ23*AS23*8.34,$K23*AS23*8.34))) | AV23: =IF(+$B23="Sat",IF(SUM(AU17:AU23)>0,AVERAGE(AU17:AU23)," "),"") | AX23: =IF(+$B23="Sat",IF(SUM(AW17:AW23)>0,AVERAGE(AW17:AW23)," "),"") | AY23: =IF(CELL("type",AW23)="l","",IF(AW23*($K23+$AQ23)=0,"",IF($AQ23>0,+$AQ23*AW23*8.34,$K23*AW23*8.34))) | AZ23: =IF(+$B23="Sat",IF(SUM(AY17:AY23)>0,AVERAGE(AY17:AY23)," "),"") | BB23: =IF(+$B23="Sat",IF(SUM(BA17:BA23)>0,AVERAGE(BA17:BA23)," "),"") | BC23: =IF(CELL("type",BA23)="l","",IF(BA23*($K23+$AQ23)=0,"",IF($AQ23>0,+$AQ23*BA23*8.34,$K23*BA23*8.34))) | BD23: =IF(+$B23="Sat",IF(SUM(BC17:BC23)>0,AVERAGE(BC17:BC23)," "),"") | BF23: =IF(CELL("type",BE23)="l","",IF(BE23*($K23+$AQ23)=0,"",IF($AQ23>0,+$AQ23*BE23*8.34,$K23*BE23*8.34))) | BG23: =+A23 -> 13 | BV23: =+A23 -> 13 | BX23: =IF(CELL("type",BW23)="l","",IF(BW23*($K23+$AQ23)=0,"",IF($AQ23>0,+$AQ23*BW23*8.34,$K23*BW23*8.34))) | BZ23: =IF(CELL("type",BY23)="l","",IF(BY23*($K23+$AQ23)=0,"",IF($AQ23>0,+$AQ23*BY23*8.34,$K23*BY23*8.34))) | CM23: =+T23 -> 13
A24: 14 | B24: =TEXT(J$5 + A24-1,"DDD") -> Sat | N24: =IF(CELL("type",M24)="L","",IF(M24*(K24+AQ24)=0,"",IF(K24>0,+K24*M24*8.34,AQ24*M24*8.34))) | P24: =IF(CELL("type",O24)="L","",IF(O24*($K24+$AQ24)=0,"",IF($K24>0,+$K24*O24*8.34,$AQ24*O24*8.34))) | T24: =+A24 -> 14 | Y24: =IF(W24*X24=0,"",IF(W24<100,W24*10000/X24,W24*1000/X24)) | AI24: =IF(CELL("type",AJ24)="b","",IF(AJ24="tntc",63200,IF(AJ24=0,1,AJ24))) | AO24: =+A24 -> 14 | AP24: =+B24 -> Sat | AR24: =IF(+$B24="Sat",IF(SUM(AQ18:AQ24)>0,AVERAGE(AQ18:AQ24)," "),"") | AT24: =IF(+$B24="Sat",IF(SUM(AS18:AS24)>0,AVERAGE(AS18:AS24)," "),"") | AU24: =IF(CELL("type",AS24)="l","",IF(AS24*($K24+$AQ24)=0,"",IF($AQ24>0,+$AQ24*AS24*8.34,$K24*AS24*8.34))) | AV24: =IF(+$B24="Sat",IF(SUM(AU18:AU24)>0,AVERAGE(AU18:AU24)," "),"") | AX24: =IF(+$B24="Sat",IF(SUM(AW18:AW24)>0,AVERAGE(AW18:AW24)," "),"") | AY24: =IF(CELL("type",AW24)="l","",IF(AW24*($K24+$AQ24)=0,"",IF($AQ24>0,+$AQ24*AW24*8.34,$K24*AW24*8.34))) | AZ24: =IF(+$B24="Sat",IF(SUM(AY18:AY24)>0,AVERAGE(AY18:AY24)," "),"") | BB24: =IF(+$B24="Sat",IF(SUM(BA18:BA24)>0,AVERAGE(BA18:BA24)," "),"") | BC24: =IF(CELL("type",BA24)="l","",IF(BA24*($K24+$AQ24)=0,"",IF($AQ24>0,+$AQ24*BA24*8.34,$K24*BA24*8.34))) | BD24: =IF(+$B24="Sat",IF(SUM(BC18:BC24)>0,AVERAGE(BC18:BC24)," "),"") | BF24: =IF(CELL("type",BE24)="l","",IF(BE24*($K24+$AQ24)=0,"",IF($AQ24>0,+$AQ24*BE24*8.34,$K24*BE24*8.34))) | BG24: =+A24 -> 14 | BV24: =+A24 -> 14 | BX24: =IF(CELL("type",BW24)="l","",IF(BW24*($K24+$AQ24)=0,"",IF($AQ24>0,+$AQ24*BW24*8.34,$K24*BW24*8.34))) | BZ24: =IF(CELL("type",BY24)="l","",IF(BY24*($K24+$AQ24)=0,"",IF($AQ24>0,+$AQ24*BY24*8.34,$K24*BY24*8.34))) | CM24: =+T24 -> 14
A25: 15 | B25: =TEXT(J$5 + A25-1,"DDD") -> Sun | N25: =IF(CELL("type",M25)="L","",IF(M25*(K25+AQ25)=0,"",IF(K25>0,+K25*M25*8.34,AQ25*M25*8.34))) | P25: =IF(CELL("type",O25)="L","",IF(O25*($K25+$AQ25)=0,"",IF($K25>0,+$K25*O25*8.34,$AQ25*O25*8.34))) | T25: =+A25 -> 15 | Y25: =IF(W25*X25=0,"",IF(W25<100,W25*10000/X25,W25*1000/X25)) | AI25: =IF(CELL("type",AJ25)="b","",IF(AJ25="tntc",63200,IF(AJ25=0,1,AJ25))) | AO25: =+A25 -> 15 | AP25: =+B25 -> Sun | AR25: =IF(+$B25="Sat",IF(SUM(AQ19:AQ25)>0,AVERAGE(AQ19:AQ25)," "),"") | AT25: =IF(+$B25="Sat",IF(SUM(AS19:AS25)>0,AVERAGE(AS19:AS25)," "),"") | AU25: =IF(CELL("type",AS25)="l","",IF(AS25*($K25+$AQ25)=0,"",IF($AQ25>0,+$AQ25*AS25*8.34,$K25*AS25*8.34))) | AV25: =IF(+$B25="Sat",IF(SUM(AU19:AU25)>0,AVERAGE(AU19:AU25)," "),"") | AX25: =IF(+$B25="Sat",IF(SUM(AW19:AW25)>0,AVERAGE(AW19:AW25)," "),"") | AY25: =IF(CELL("type",AW25)="l","",IF(AW25*($K25+$AQ25)=0,"",IF($AQ25>0,+$AQ25*AW25*8.34,$K25*AW25*8.34))) | AZ25: =IF(+$B25="Sat",IF(SUM(AY19:AY25)>0,AVERAGE(AY19:AY25)," "),"") | BB25: =IF(+$B25="Sat",IF(SUM(BA19:BA25)>0,AVERAGE(BA19:BA25)," "),"") | BC25: =IF(CELL("type",BA25)="l","",IF(BA25*($K25+$AQ25)=0,"",IF($AQ25>0,+$AQ25*BA25*8.34,$K25*BA25*8.34))) | BD25: =IF(+$B25="Sat",IF(SUM(BC19:BC25)>0,AVERAGE(BC19:BC25)," "),"") | BF25: =IF(CELL("type",BE25)="l","",IF(BE25*($K25+$AQ25)=0,"",IF($AQ25>0,+$AQ25*BE25*8.34,$K25*BE25*8.34))) | BG25: =+A25 -> 15 | BV25: =+A25 -> 15 | BX25: =IF(CELL("type",BW25)="l","",IF(BW25*($K25+$AQ25)=0,"",IF($AQ25>0,+$AQ25*BW25*8.34,$K25*BW25*8.34))) | BZ25: =IF(CELL("type",BY25)="l","",IF(BY25*($K25+$AQ25)=0,"",IF($AQ25>0,+$AQ25*BY25*8.34,$K25*BY25*8.34))) | CM25: =+T25 -> 15
A26: 16 | B26: =TEXT(J$5 + A26-1,"DDD") -> Mon | N26: =IF(CELL("type",M26)="L","",IF(M26*(K26+AQ26)=0,"",IF(K26>0,+K26*M26*8.34,AQ26*M26*8.34))) | P26: =IF(CELL("type",O26)="L","",IF(O26*($K26+$AQ26)=0,"",IF($K26>0,+$K26*O26*8.34,$AQ26*O26*8.34))) | T26: =+A26 -> 16 | Y26: =IF(W26*X26=0,"",IF(W26<100,W26*10000/X26,W26*1000/X26)) | AI26: =IF(CELL("type",AJ26)="b","",IF(AJ26="tntc",63200,IF(AJ26=0,1,AJ26))) | AO26: =+A26 -> 16 | AP26: =+B26 -> Mon | AR26: =IF(+$B26="Sat",IF(SUM(AQ20:AQ26)>0,AVERAGE(AQ20:AQ26)," "),"") | AT26: =IF(+$B26="Sat",IF(SUM(AS20:AS26)>0,AVERAGE(AS20:AS26)," "),"") | AU26: =IF(CELL("type",AS26)="l","",IF(AS26*($K26+$AQ26)=0,"",IF($AQ26>0,+$AQ26*AS26*8.34,$K26*AS26*8.34))) | AV26: =IF(+$B26="Sat",IF(SUM(AU20:AU26)>0,AVERAGE(AU20:AU26)," "),"") | AX26: =IF(+$B26="Sat",IF(SUM(AW20:AW26)>0,AVERAGE(AW20:AW26)," "),"") | AY26: =IF(CELL("type",AW26)="l","",IF(AW26*($K26+$AQ26)=0,"",IF($AQ26>0,+$AQ26*AW26*8.34,$K26*AW26*8.34))) | AZ26: =IF(+$B26="Sat",IF(SUM(AY20:AY26)>0,AVERAGE(AY20:AY26)," "),"") | BB26: =IF(+$B26="Sat",IF(SUM(BA20:BA26)>0,AVERAGE(BA20:BA26)," "),"") | BC26: =IF(CELL("type",BA26)="l","",IF(BA26*($K26+$AQ26)=0,"",IF($AQ26>0,+$AQ26*BA26*8.34,$K26*BA26*8.34))) | BD26: =IF(+$B26="Sat",IF(SUM(BC20:BC26)>0,AVERAGE(BC20:BC26)," "),"") | BF26: =IF(CELL("type",BE26)="l","",IF(BE26*($K26+$AQ26)=0,"",IF($AQ26>0,+$AQ26*BE26*8.34,$K26*BE26*8.34))) | BG26: =+A26 -> 16 | BV26: =+A26 -> 16 | BX26: =IF(CELL("type",BW26)="l","",IF(BW26*($K26+$AQ26)=0,"",IF($AQ26>0,+$AQ26*BW26*8.34,$K26*BW26*8.34))) | BZ26: =IF(CELL("type",BY26)="l","",IF(BY26*($K26+$AQ26)=0,"",IF($AQ26>0,+$AQ26*BY26*8.34,$K26*BY26*8.34))) | CM26: =+T26 -> 16
A27: 17 | B27: =TEXT(J$5 + A27-1,"DDD") -> Tue | N27: =IF(CELL("type",M27)="L","",IF(M27*(K27+AQ27)=0,"",IF(K27>0,+K27*M27*8.34,AQ27*M27*8.34))) | P27: =IF(CELL("type",O27)="L","",IF(O27*($K27+$AQ27)=0,"",IF($K27>0,+$K27*O27*8.34,$AQ27*O27*8.34))) | T27: =+A27 -> 17 | Y27: =IF(W27*X27=0,"",IF(W27<100,W27*10000/X27,W27*1000/X27)) | AI27: =IF(CELL("type",AJ27)="b","",IF(AJ27="tntc",63200,IF(AJ27=0,1,AJ27))) | AO27: =+A27 -> 17 | AP27: =+B27 -> Tue | AR27: =IF(+$B27="Sat",IF(SUM(AQ21:AQ27)>0,AVERAGE(AQ21:AQ27)," "),"") | AT27: =IF(+$B27="Sat",IF(SUM(AS21:AS27)>0,AVERAGE(AS21:AS27)," "),"") | AU27: =IF(CELL("type",AS27)="l","",IF(AS27*($K27+$AQ27)=0,"",IF($AQ27>0,+$AQ27*AS27*8.34,$K27*AS27*8.34))) | AV27: =IF(+$B27="Sat",IF(SUM(AU21:AU27)>0,AVERAGE(AU21:AU27)," "),"") | AX27: =IF(+$B27="Sat",IF(SUM(AW21:AW27)>0,AVERAGE(AW21:AW27)," "),"") | AY27: =IF(CELL("type",AW27)="l","",IF(AW27*($K27+$AQ27)=0,"",IF($AQ27>0,+$AQ27*AW27*8.34,$K27*AW27*8.34))) | AZ27: =IF(+$B27="Sat",IF(SUM(AY21:AY27)>0,AVERAGE(AY21:AY27)," "),"") | BB27: =IF(+$B27="Sat",IF(SUM(BA21:BA27)>0,AVERAGE(BA21:BA27)," "),"") | BC27: =IF(CELL("type",BA27)="l","",IF(BA27*($K27+$AQ27)=0,"",IF($AQ27>0,+$AQ27*BA27*8.34,$K27*BA27*8.34))) | BD27: =IF(+$B27="Sat",IF(SUM(BC21:BC27)>0,AVERAGE(BC21:BC27)," "),"") | BF27: =IF(CELL("type",BE27)="l","",IF(BE27*($K27+$AQ27)=0,"",IF($AQ27>0,+$AQ27*BE27*8.34,$K27*BE27*8.34))) | BG27: =+A27 -> 17 | BV27: =+A27 -> 17 | BX27: =IF(CELL("type",BW27)="l","",IF(BW27*($K27+$AQ27)=0,"",IF($AQ27>0,+$AQ27*BW27*8.34,$K27*BW27*8.34))) | BZ27: =IF(CELL("type",BY27)="l","",IF(BY27*($K27+$AQ27)=0,"",IF($AQ27>0,+$AQ27*BY27*8.34,$K27*BY27*8.34))) | CM27: =+T27 -> 17
A28: 18 | B28: =TEXT(J$5 + A28-1,"DDD") -> Wed | N28: =IF(CELL("type",M28)="L","",IF(M28*(K28+AQ28)=0,"",IF(K28>0,+K28*M28*8.34,AQ28*M28*8.34))) | P28: =IF(CELL("type",O28)="L","",IF(O28*($K28+$AQ28)=0,"",IF($K28>0,+$K28*O28*8.34,$AQ28*O28*8.34))) | T28: =+A28 -> 18 | Y28: =IF(W28*X28=0,"",IF(W28<100,W28*10000/X28,W28*1000/X28)) | AI28: =IF(CELL("type",AJ28)="b","",IF(AJ28="tntc",63200,IF(AJ28=0,1,AJ28))) | AO28: =+A28 -> 18 | AP28: =+B28 -> Wed | AR28: =IF(+$B28="Sat",IF(SUM(AQ22:AQ28)>0,AVERAGE(AQ22:AQ28)," "),"") | AT28: =IF(+$B28="Sat",IF(SUM(AS22:AS28)>0,AVERAGE(AS22:AS28)," "),"") | AU28: =IF(CELL("type",AS28)="l","",IF(AS28*($K28+$AQ28)=0,"",IF($AQ28>0,+$AQ28*AS28*8.34,$K28*AS28*8.34))) | AV28: =IF(+$B28="Sat",IF(SUM(AU22:AU28)>0,AVERAGE(AU22:AU28)," "),"") | AX28: =IF(+$B28="Sat",IF(SUM(AW22:AW28)>0,AVERAGE(AW22:AW28)," "),"") | AY28: =IF(CELL("type",AW28)="l","",IF(AW28*($K28+$AQ28)=0,"",IF($AQ28>0,+$AQ28*AW28*8.34,$K28*AW28*8.34))) | AZ28: =IF(+$B28="Sat",IF(SUM(AY22:AY28)>0,AVERAGE(AY22:AY28)," "),"") | BB28: =IF(+$B28="Sat",IF(SUM(BA22:BA28)>0,AVERAGE(BA22:BA28)," "),"") | BC28: =IF(CELL("type",BA28)="l","",IF(BA28*($K28+$AQ28)=0,"",IF($AQ28>0,+$AQ28*BA28*8.34,$K28*BA28*8.34))) | BD28: =IF(+$B28="Sat",IF(SUM(BC22:BC28)>0,AVERAGE(BC22:BC28)," "),"") | BF28: =IF(CELL("type",BE28)="l","",IF(BE28*($K28+$AQ28)=0,"",IF($AQ28>0,+$AQ28*BE28*8.34,$K28*BE28*8.34))) | BG28: =+A28 -> 18 | BV28: =+A28 -> 18 | BX28: =IF(CELL("type",BW28)="l","",IF(BW28*($K28+$AQ28)=0,"",IF($AQ28>0,+$AQ28*BW28*8.34,$K28*BW28*8.34))) | BZ28: =IF(CELL("type",BY28)="l","",IF(BY28*($K28+$AQ28)=0,"",IF($AQ28>0,+$AQ28*BY28*8.34,$K28*BY28*8.34))) | CM28: =+T28 -> 18
... A38: 28 | B38: =TEXT(J$5 + A38-1,"DDD") -> Sat | N38: =IF(CELL("type",M38)="L","",IF(M38*(K38+AQ38)=0,"",IF(K38>0,+K38*M38*8.34,AQ38*M38*8.34))) | P38: =IF(CELL("type",O38)="L","",IF(O38*($K38+$AQ38)=0,"",IF($K38>0,+$K38*O38*8.34,$AQ38*O38*8.34))) | T38: =+A38 -> 28 | Y38: =IF(W38*X38=0,"",IF(W38<100,W38*10000/X38,W38*1000/X38)) | AI38: =IF(CELL("type",AJ38)="b","",IF(AJ38="tntc",63200,IF(AJ38=0,1,AJ38))) | AO38: =+A38 -> 28 | AP38: =+B38 -> Sat | AR38: =IF(+$B38="Sat",IF(SUM(AQ32:AQ38)>0,AVERAGE(AQ32:AQ38)," "),"") | AT38: =IF(+$B38="Sat",IF(SUM(AS32:AS38)>0,AVERAGE(AS32:AS38)," "),"") | AU38: =IF(CELL("type",AS38)="l","",IF(AS38*($K38+$AQ38)=0,"",IF($AQ38>0,+$AQ38*AS38*8.34,$K38*AS38*8.34))) | AV38: =IF(+$B38="Sat",IF(SUM(AU32:AU38)>0,AVERAGE(AU32:AU38)," "),"") | AX38: =IF(+$B38="Sat",IF(SUM(AW32:AW38)>0,AVERAGE(AW32:AW38)," "),"") | AY38: =IF(CELL("type",AW38)="l","",IF(AW38*($K38+$AQ38)=0,"",IF($AQ38>0,+$AQ38*AW38*8.34,$K38*AW38*8.34))) | AZ38: =IF(+$B38="Sat",IF(SUM(AY32:AY38)>0,AVERAGE(AY32:AY38)," "),"") | BB38: =IF(+$B38="Sat",IF(SUM(BA32:BA38)>0,AVERAGE(BA32:BA38)," "),"") | BC38: =IF(CELL("type",BA38)="l","",IF(BA38*($K38+$AQ38)=0,"",IF($AQ38>0,+$AQ38*BA38*8.34,$K38*BA38*8.34))) | BD38: =IF(+$B38="Sat",IF(SUM(BC32:BC38)>0,AVERAGE(BC32:BC38)," "),"") | BF38: =IF(CELL("type",BE38)="l","",IF(BE38*($K38+$AQ38)=0,"",IF($AQ38>0,+$AQ38*BE38*8.34,$K38*BE38*8.34))) | BG38: =+A38 -> 28 | BV38: =+A38 -> 28 | BX38: =IF(CELL("type",BW38)="l","",IF(BW38*($K38+$AQ38)=0,"",IF($AQ38>0,+$AQ38*BW38*8.34,$K38*BW38*8.34))) | BZ38: =IF(CELL("type",BY38)="l","",IF(BY38*($K38+$AQ38)=0,"",IF($AQ38>0,+$AQ38*BY38*8.34,$K38*BY38*8.34))) | CM38: =+T38 -> 28
A39: 29 | B39: =TEXT(J$5 + A39-1,"DDD") -> Sun | N39: =IF(CELL("type",M39)="L","",IF(M39*(K39+AQ39)=0,"",IF(K39>0,+K39*M39*8.34,AQ39*M39*8.34))) | P39: =IF(CELL("type",O39)="L","",IF(O39*($K39+$AQ39)=0,"",IF($K39>0,+$K39*O39*8.34,$AQ39*O39*8.34))) | T39: =+A39 -> 29 | Y39: =IF(W39*X39=0,"",IF(W39<100,W39*10000/X39,W39*1000/X39)) | AI39: =IF(CELL("type",AJ39)="b","",IF(AJ39="tntc",63200,IF(AJ39=0,1,AJ39))) | AO39: =+A39 -> 29 | AP39: =+B39 -> Sun | AR39: =IF(+$B39="Sat",IF(SUM(AQ33:AQ39)>0,AVERAGE(AQ33:AQ39)," "),"") | AT39: =IF(+$B39="Sat",IF(SUM(AS33:AS39)>0,AVERAGE(AS33:AS39)," "),"") | AU39: =IF(CELL("type",AS39)="l","",IF(AS39*($K39+$AQ39)=0,"",IF($AQ39>0,+$AQ39*AS39*8.34,$K39*AS39*8.34))) | AV39: =IF(+$B39="Sat",IF(SUM(AU33:AU39)>0,AVERAGE(AU33:AU39)," "),"") | AX39: =IF(+$B39="Sat",IF(SUM(AW33:AW39)>0,AVERAGE(AW33:AW39)," "),"") | AY39: =IF(CELL("type",AW39)="l","",IF(AW39*($K39+$AQ39)=0,"",IF($AQ39>0,+$AQ39*AW39*8.34,$K39*AW39*8.34))) | AZ39: =IF(+$B39="Sat",IF(SUM(AY33:AY39)>0,AVERAGE(AY33:AY39)," "),"") | BB39: =IF(+$B39="Sat",IF(SUM(BA33:BA39)>0,AVERAGE(BA33:BA39)," "),"") | BC39: =IF(CELL("type",BA39)="l","",IF(BA39*($K39+$AQ39)=0,"",IF($AQ39>0,+$AQ39*BA39*8.34,$K39*BA39*8.34))) | BD39: =IF(+$B39="Sat",IF(SUM(BC33:BC39)>0,AVERAGE(BC33:BC39)," "),"") | BF39: =IF(CELL("type",BE39)="l","",IF(BE39*($K39+$AQ39)=0,"",IF($AQ39>0,+$AQ39*BE39*8.34,$K39*BE39*8.34))) | BG39: =+A39 -> 29 | BV39: =+A39 -> 29 | BX39: =IF(CELL("type",BW39)="l","",IF(BW39*($K39+$AQ39)=0,"",IF($AQ39>0,+$AQ39*BW39*8.34,$K39*BW39*8.34))) | BZ39: =IF(CELL("type",BY39)="l","",IF(BY39*($K39+$AQ39)=0,"",IF($AQ39>0,+$AQ39*BY39*8.34,$K39*BY39*8.34))) | CM39: =+A39 -> 29
A40: 30 | B40: =TEXT(J$5 + A40-1,"DDD") -> Mon | N40: =IF(CELL("type",M40)="L","",IF(M40*(K40+AQ40)=0,"",IF(K40>0,+K40*M40*8.34,AQ40*M40*8.34))) | P40: =IF(CELL("type",O40)="L","",IF(O40*($K40+$AQ40)=0,"",IF($K40>0,+$K40*O40*8.34,$AQ40*O40*8.34))) | T40: =+A40 -> 30 | Y40: =IF(W40*X40=0,"",IF(W40<100,W40*10000/X40,W40*1000/X40)) | AI40: =IF(CELL("type",AJ40)="b","",IF(AJ40="tntc",63200,IF(AJ40=0,1,AJ40))) | AO40: =+A40 -> 30 | AP40: =+B40 -> Mon | AR40: =IF(+$B40="Sat",IF(SUM(AQ34:AQ40)>0,AVERAGE(AQ34:AQ40)," "),"") | AT40: =IF(+$B40="Sat",IF(SUM(AS34:AS40)>0,AVERAGE(AS34:AS40)," "),"") | AU40: =IF(CELL("type",AS40)="l","",IF(AS40*($K40+$AQ40)=0,"",IF($AQ40>0,+$AQ40*AS40*8.34,$K40*AS40*8.34))) | AV40: =IF(+$B40="Sat",IF(SUM(AU34:AU40)>0,AVERAGE(AU34:AU40)," "),"") | AX40: =IF(+$B40="Sat",IF(SUM(AW34:AW40)>0,AVERAGE(AW34:AW40)," "),"") | AY40: =IF(CELL("type",AW40)="l","",IF(AW40*($K40+$AQ40)=0,"",IF($AQ40>0,+$AQ40*AW40*8.34,$K40*AW40*8.34))) | AZ40: =IF(+$B40="Sat",IF(SUM(AY34:AY40)>0,AVERAGE(AY34:AY40)," "),"") | BB40: =IF(+$B40="Sat",IF(SUM(BA34:BA40)>0,AVERAGE(BA34:BA40)," "),"") | BC40: =IF(CELL("type",BA40)="l","",IF(BA40*($K40+$AQ40)=0,"",IF($AQ40>0,+$AQ40*BA40*8.34,$K40*BA40*8.34))) | BD40: =IF(+$B40="Sat",IF(SUM(BC34:BC40)>0,AVERAGE(BC34:BC40)," "),"") | BF40: =IF(CELL("type",BE40)="l","",IF(BE40*($K40+$AQ40)=0,"",IF($AQ40>0,+$AQ40*BE40*8.34,$K40*BE40*8.34))) | BG40: =+A40 -> 30 | BV40: =+A40 -> 30 | BX40: =IF(CELL("type",BW40)="l","",IF(BW40*($K40+$AQ40)=0,"",IF($AQ40>0,+$AQ40*BW40*8.34,$K40*BW40*8.34))) | BZ40: =IF(CELL("type",BY40)="l","",IF(BY40*($K40+$AQ40)=0,"",IF($AQ40>0,+$AQ40*BY40*8.34,$K40*BY40*8.34))) | CM40: =+A40 -> 30
A41: 31 | B41: =TEXT(J$5 + A41-1,"DDD") -> Tue | N41: =IF(CELL("type",M41)="L","",IF(M41*(K41+AQ41)=0,"",IF(K41>0,+K41*M41*8.34,AQ41*M41*8.34))) | P41: =IF(CELL("type",O41)="L","",IF(O41*($K41+$AQ41)=0,"",IF($K41>0,+$K41*O41*8.34,$AQ41*O41*8.34))) | T41: =+A41 -> 31 | Y41: =IF(W41*X41=0,"",IF(W41<100,W41*10000/X41,W41*1000/X41)) | AI41: =IF(CELL("type",AJ41)="b","",IF(AJ41="tntc",63200,IF(AJ41=0,1,AJ41))) | AO41: =+A41 -> 31 | AP41: =+B41 -> Tue | AR41: =IF(SUM(AQ35:AQ41)=0,"",IF(+$B41="Sat",AVERAGE(AQ35:AQ41),IF(+$B41="Fri",AVERAGE(AQ36:AQ41,Apr!AQ$11),IF(+$B41="Thu",AVERAGE(AQ37:AQ41,Apr!AQ$11:AQ$12),IF(+$B41="Wed",AVERAGE(AQ38:AQ41,Apr!AQ$11:AQ$13)," "))))) | AT41: =IF(AND(+$B41="Sat",SUM(AS35:AS41)>0),AVERAGE(AS35:AS41),IF(AND(+$B41="Fri",SUM(AS36:AS41,Apr!AS$11)>0),AVERAGE(AS36:AS41,Apr!AS$11),IF(AND(+$B41="Thu",SUM(AS37:AS41,Apr!AS$11:AS$12)>0),AVERAGE(AS37:AS41,Apr!AS$11:AS$12),IF(AND($B41="Wed",SUM(AS38:AS41,Apr!AS$11:AS$13)>0),AVERAGE(AS38:AS41,Apr!AS$11:AS$13),"")))) | AU41: =IF(CELL("type",AS41)="l","",IF(AS41*($K41+$AQ41)=0,"",IF($AQ41>0,+$AQ41*AS41*8.34,$K41*AS41*8.34))) | AV41: =IF(AND(+$B41="Sat",SUM(AU35:AU41)>0),AVERAGE(AU35:AU41),IF(AND(+$B41="Fri",SUM(AU36:AU41,Apr!AU$11)>0),AVERAGE(AU36:AU41,Apr!AU$11),IF(AND(+$B41="Thu",SUM(AU37:AU41,Apr!AU$11:AU$12)>0),AVERAGE(AU37:AU41,Apr!AU$11:AU$12),IF(AND($B41="Wed",SUM(AU38:AU41,Apr!AU$11:AU$13)>0),AVERAGE(AU38:AU41,Apr!AU$11:AU$13),"")))) | AX41: =IF(AND(+$B41="Sat",SUM(AW35:AW41)>0),AVERAGE(AW35:AW41),IF(AND(+$B41="Fri",SUM(AW36:AW41,Apr!AW$11)>0),AVERAGE(AW36:AW41,Apr!AW$11),IF(AND(+$B41="Thu",SUM(AW37:AW41,Apr!AW$11:AW$12)>0),AVERAGE(AW37:AW41,Apr!AW$11:AW$12),IF(AND($B41="Wed",SUM(AW38:AW41,Apr!AW$11:AW$13)>0),AVERAGE(AW38:AW41,Apr!AW$11:AW$13),"")))) | AY41: =IF(CELL("type",AW41)="l","",IF(AW41*($K41+$AQ41)=0,"",IF($AQ41>0,+$AQ41*AW41*8.34,$K41*AW41*8.34))) | AZ41: =IF(AND(+$B41="Sat",SUM(AY35:AY41)>0),AVERAGE(AY35:AY41),IF(AND(+$B41="Fri",SUM(AY36:AY41,Apr!AY$11)>0),AVERAGE(AY36:AY41,Apr!AY$11),IF(AND(+$B41="Thu",SUM(AY37:AY41,Apr!AY$11:AY$12)>0),AVERAGE(AY37:AY41,Apr!AY$11:AY$12),IF(AND($B41="Wed",SUM(AY38:AY41,Apr!AY$11:AY$13)>0),AVERAGE(AY38:AY41,Apr!AY$11:AY$13),"")))) | BB41: =IF(AND(+$B41="Sat",SUM(BA35:BA41)>0),AVERAGE(BA35:BA41),IF(AND(+$B41="Fri",SUM(BA36:BA41,Apr!BA$11)>0),AVERAGE(BA36:BA41,Apr!BA$11),IF(AND(+$B41="Thu",SUM(BA37:BA41,Apr!BA$11:BA$12)>0),AVERAGE(BA37:BA41,Apr!BA$11:BA$12),IF(AND($B41="Wed",SUM(BA38:BA41,Apr!BA$11:BA$13)>0),AVERAGE(BA38:BA41,Apr!BA$11:BA$13),"")))) | BC41: =IF(CELL("type",BA41)="l","",IF(BA41*($K41+$AQ41)=0,"",IF($AQ41>0,+$AQ41*BA41*8.34,$K41*BA41*8.34))) | BD41: =IF(AND(+$B41="Sat",SUM(BC35:BC41)>0),AVERAGE(BC35:BC41),IF(AND(+$B41="Fri",SUM(BC36:BC41,Apr!BC$11)>0),AVERAGE(BC36:BC41,Apr!BC$11),IF(AND(+$B41="Thu",SUM(BC37:BC41,Apr!BC$11:BC$12)>0),AVERAGE(BC37:BC41,Apr!BC$11:BC$12),IF(AND($B41="Wed",SUM(BC38:BC41,Apr!BC$11:BC$13)>0),AVERAGE(BC38:BC41,Apr!BC$11:BC$13),"")))) | BF41: =IF(CELL("type",BE41)="l","",IF(BE41*($K41+$AQ41)=0,"",IF($AQ41>0,+$AQ41*BE41*8.34,$K41*BE41*8.34))) | BG41: =+A41 -> 31 | BV41: =+A41 -> 31 | BX41: =IF(CELL("type",BW41)="l","",IF(BW41*($K41+$AQ41)=0,"",IF($AQ41>0,+$AQ41*BW41*8.34,$K41*BW41*8.34))) | BZ41: =IF(CELL("type",BY41)="l","",IF(BY41*($K41+$AQ41)=0,"",IF($AQ41>0,+$AQ41*BY41*8.34,$K41*BY41*8.34))) | CM41: =+A41 -> 31
A42: Average | H42: =IF(SUM(H11:H41)>0,AVERAGE(H11:H41)," ") | I42: =IF(SUM(I11:I41)>0,AVERAGE(I11:I41)," ") | J42: =IF(SUM(J11:J41)>0,AVERAGE(J11:J41)," ") | K42: =IF(SUM(K11:K41)>0,AVERAGE(K11:K41)," ") | M42: =IF(SUM(M11:M41)>0,AVERAGE(M11:M41)," ") | N42: =IF(SUM(N11:N41)>0,AVERAGE(N11:N41)," ") | O42: =IF(SUM(O11:O41)>0,AVERAGE(O11:O41)," ") | P42: =IF(SUM(P11:P41)>0,AVERAGE(P11:P41)," ") | Q42: =IF(SUM(Q11:Q41)>0,AVERAGE(Q11:Q41)," ") | R42: =IF(SUM(R11:R41)>0,AVERAGE(R11:R41)," ") | S42: =IF(SUM(S11:S41)>0,AVERAGE(S11:S41)," ") | T42: Avg. | U42: =IF(SUM(U11:U41)>0,AVERAGE(U11:U41)," ") | V42: =IF(SUM(V11:V41)>0,AVERAGE(V11:V41)," ") | W42: =IF(SUM(W11:W41)>0,AVERAGE(W11:W41)," ") | X42: =IF(SUM(X11:X41)>0,AVERAGE(X11:X41)," ") | Y42: =IF(SUM(Y11:Y41)>0,AVERAGE(Y11:Y41)," ") | Z42: =IF(SUM(Z11:Z41)>0,AVERAGE(Z11:Z41)," ") | AA42: =IF(SUM(AA11:AA41)>0,AVERAGE(AA11:AA41)," ") | AB42: =IF(SUM(AB11:AB41)>0,AVERAGE(AB11:AB41)," ") | ... AH42: =IF(SUM(AH11:AH41)>0,AVERAGE(AH11:AH41)," ") | AJ42: =IF(SUM(AI11:AI41)>0,GEOMEAN(AI11:AI41),"") | AM42: =IF(SUM(AM11:AM41)>0,AVERAGE(AM11:AM41)," ") | AN42: =IF(SUM(AN11:AN41)>0,AVERAGE(AN11:AN41)," ") | AO42: Avg | AQ42: =IF(SUM(AQ11:AQ41)>0,AVERAGE(AQ11:AQ41)," ") | AS42: =IF(SUM(AS11:AS41)>0,AVERAGE(AS11:AS41)," ") | AU42: =IF(SUM(AU11:AU41)>0,AVERAGE(AU11:AU41)," ") | AW42: =IF(SUM(AW11:AW41)>0,AVERAGE(AW11:AW41)," ") | AY42: =IF(SUM(AY11:AY41)>0,AVERAGE(AY11:AY41)," ") | BA42: =IF(SUM(BA11:BA41)>0,AVERAGE(BA11:BA41)," ") | BC42: =IF(SUM(BC11:BC41)>0,AVERAGE(BC11:BC41)," ") | BE42: =IF(SUM(BE11:BE41)>0,AVERAGE(BE11:BE41)," ") | BF42: =IF(SUM(BF11:BF41)>0,AVERAGE(BF11:BF41)," ") | BG42: Avg. | BH42: =IF(SUM(BH11:BH41)>0,AVERAGE(BH11:BH41)," ") | BI42: =IF(SUM(BI11:BI41)>0,AVERAGE(BI11:BI41)," ") | BK42: =IF(SUM(BK11:BK41)>0,AVERAGE(BK11:BK41)," ") | BL42: =IF(SUM(BL11:BL41)>0,AVERAGE(BL11:BL41)," ") | BM42: =IF(SUM(BM11:BM41)>0,AVERAGE(BM11:BM41)," ") | BN42: =IF(SUM(BN11:BN41)>0,AVERAGE(BN11:BN41)," ") | BO42: =IF(SUM(BO11:BO41)>0,AVERAGE(BO11:BO41)," ") | BP42: =IF(SUM(BP11:BP41)>0,AVERAGE(BP11:BP41)," ") | BQ42: =IF(SUM(BQ11:BQ41)>0,AVERAGE(BQ11:BQ41)," ") | BR42: =IF(SUM(BR11:BR41)>0,AVERAGE(BR11:BR41)," ") | ... BU42: =IF(SUM(BU11:BU41)>0,AVERAGE(BU11:BU41)," ") | BV42: Avg | BW42: =IF(SUM(BW11:BW41)>0,AVERAGE(BW11:BW41)," ") | BX42: =IF(SUM(BX11:BX41)>0,AVERAGE(BX11:BX41)," ") | BY42: =IF(SUM(BY11:BY41)>0,AVERAGE(BY11:BY41)," ") | BZ42: =IF(SUM(BZ11:BZ41)>0,AVERAGE(BZ11:BZ41)," ") | CA42: =IF(SUM(CA11:CA41)>0,AVERAGE(CA11:CA41)," ") | CB42: =IF(SUM(CB11:CB41)>0,AVERAGE(CB11:CB41)," ") | CC42: =IF(SUM(CC11:CC41)>0,AVERAGE(CC11:CC41)," ") | CD42: =IF(SUM(CD11:CD41)>0,AVERAGE(CD11:CD41)," ") | ... CL42: =IF(SUM(CL11:CL41)>0,AVERAGE(CL11:CL41)," ") | CM42: Avg | CN42: =IF(SUM(CN11:CN41)>0,AVERAGE(CN11:CN41)," ") | CO42: =IF(SUM(CO11:CO41)>0,AVERAGE(CO11:CO41)," ") | CP42: =IF(SUM(CP11:CP41)>0,AVERAGE(CP11:CP41)," ") | CQ42: =IF(SUM(CQ11:CQ41)>0,AVERAGE(CQ11:CQ41)," ") | CR42: =IF(SUM(CR11:CR41)>0,AVERAGE(CR11:CR41)," ") | CS42: =IF(SUM(CS11:CS41)>0,AVERAGE(CS11:CS41)," ") | CT42: =IF(SUM(CT11:CT41)>0,AVERAGE(CT11:CT41)," ") | CU42: =IF(SUM(CU11:CU41)>0,AVERAGE(CU11:CU41)," ") | ... DC42: =IF(SUM(DC11:DC41)>0,AVERAGE(DC11:DC41)," ")
A43: Maximum | E43: =IF(SUM(E11:E41)>0,MAX(E11:E41)," ") | H43: =IF(SUM(H11:H41)>0,MAX(H11:H41)," ") | I43: =IF(SUM(I11:I41)>0,MAX(I11:I41)," ") | J43: =IF(SUM(J11:J41)>0,MAX(J11:J41)," ") | K43: =IF(SUM(K11:K41)>0,MAX(K11:K41)," ") | L43: =IF(SUM(L11:L41)>0,MAX(L11:L41)," ") | M43: =IF(SUM(M11:M41)>0,MAX(M11:M41)," ") | N43: =IF(SUM(N11:N41)>0,MAX(N11:N41)," ") | O43: =IF(SUM(O11:O41)>0,MAX(O11:O41)," ") | ... S43: =IF(SUM(S11:S41)>0,MAX(S11:S41)," ") | T43: Max. | U43: =IF(SUM(U11:U41)>0,MAX(U11:U41)," ") | V43: =IF(SUM(V11:V41)>0,MAX(V11:V41)," ") | W43: =IF(SUM(W11:W41)>0,MAX(W11:W41)," ") | X43: =IF(SUM(X11:X41)>0,MAX(X11:X41)," ") | Y43: =IF(SUM(Y11:Y41)>0,MAX(Y11:Y41)," ") | Z43: =IF(SUM(Z11:Z41)>0,MAX(Z11:Z41)," ") | AA43: =IF(SUM(AA11:AA41)>0,MAX(AA11:AA41)," ") | AB43: =IF(SUM(AB11:AB41)>0,MAX(AB11:AB41)," ") | ... AH43: =IF(SUM(AH11:AH41)>0,MAX(AH11:AH41)," ") | AI43: =IF(AJ42<>"",MAX(AI11:AI41),"") | AJ43: =IF(AI43=63200,"TNTC",AI43) | AK43: =IF(SUM(AK11:AL41)>0,MAX(AK11:AL41)," ") | AM43: =IF(SUM(AM11:AM41)>0,MAX(AM11:AM41)," ") | AN43: =IF(SUM(AN11:AN41)>0,MAX(AN11:AN41)," ") | AO43: Max | AQ43: =IF(SUM(AQ11:AQ41)>0,MAX(AQ11:AQ41)," ") | AR43: =IF(SUM(AR11:AR41)>0,MAX(AR11:AR41)," ") | AS43: =IF(SUM(AS11:AS41)>0,MAX(AS11:AS41)," ") | AT43: =IF(SUM(AT11:AT41)>0,MAX(AT11:AT41)," ") | AU43: =IF(SUM(AU11:AU41)>0,MAX(AU11:AU41)," ") | AV43: =IF(SUM(AV11:AV41)>0,MAX(AV11:AV41)," ") | AW43: =IF(SUM(AW11:AW41)>0,MAX(AW11:AW41)," ") | AX43: =IF(SUM(AX11:AX41)>0,MAX(AX11:AX41)," ") | ... BF43: =IF(SUM(BF11:BF41)>0,MAX(BF11:BF41)," ") | BG43: Max. | BH43: =IF(SUM(BH11:BH41)>0,MAX(BH11:BH41)," ") | BI43: =IF(SUM(BI11:BI41)>0,MAX(BI11:BI41)," ") | BJ43: =IF(SUM(BJ11:BJ41)>0,MAX(BJ11:BJ41)," ") | BK43: =IF(SUM(BK11:BK41)>0,MAX(BK11:BK41)," ") | BL43: =IF(SUM(BL11:BL41)>0,MAX(BL11:BL41)," ") | BM43: =IF(SUM(BM11:BM41)>0,MAX(BM11:BM41)," ") | BN43: =IF(SUM(BN11:BN41)>0,MAX(BN11:BN41)," ") | BO43: =IF(SUM(BO11:BO41)>0,MAX(BO11:BO41)," ") | ... BU43: =IF(SUM(BU11:BU41)>0,MAX(BU11:BU41)," ") | BV43: Max | BW43: =IF(SUM(BW11:BW41)>0,MAX(BW11:BW41)," ") | BX43: =IF(SUM(BX11:BX41)>0,MAX(BX11:BX41)," ") | BY43: =IF(SUM(BY11:BY41)>0,MAX(BY11:BY41)," ") | BZ43: =IF(SUM(BZ11:BZ41)>0,MAX(BZ11:BZ41)," ") | CA43: =IF(SUM(CA11:CA41)>0,MAX(CA11:CA41)," ") | CB43: =IF(SUM(CB11:CB41)>0,MAX(CB11:CB41)," ") | CC43: =IF(SUM(CC11:CC41)>0,MAX(CC11:CC41)," ") | CD43: =IF(SUM(CD11:CD41)>0,MAX(CD11:CD41)," ") | ... CL43: =IF(SUM(CL11:CL41)>0,MAX(CL11:CL41)," ") | CM43: Max | CN43: =IF(SUM(CN11:CN41)>0,MAX(CN11:CN41)," ") | CO43: =IF(SUM(CO11:CO41)>0,MAX(CO11:CO41)," ") | CP43: =IF(SUM(CP11:CP41)>0,MAX(CP11:CP41)," ") | CQ43: =IF(SUM(CQ11:CQ41)>0,MAX(CQ11:CQ41)," ") | CR43: =IF(SUM(CR11:CR41)>0,MAX(CR11:CR41)," ") | CS43: =IF(SUM(CS11:CS41)>0,MAX(CS11:CS41)," ") | CT43: =IF(SUM(CT11:CT41)>0,MAX(CT11:CT41)," ") | CU43: =IF(SUM(CU11:CU41)>0,MAX(CU11:CU41)," ") | ... DC43: =IF(SUM(DC11:DC41)>0,MAX(DC11:DC41)," ")
A44: Minimum | H44: =IF(SUM(H11:H41)>0,MIN(H11:H41),"") | I44: =IF(SUM(I11:I41)>0,MIN(I11:I41),"") | J44: =IF(SUM(J11:J41)>0,MIN(J11:J41),"") | K44: =IF(SUM(K11:K41)>0,MIN(K11:K41),"") | L44: =IF(SUM(L11:L41)>0,MIN(L11:L41),"") | M44: =IF(SUM(M11:M41)>0,MIN(M11:M41),"") | N44: =IF(SUM(N11:N41)>0,MIN(N11:N41),"") | O44: =IF(SUM(O11:O41)>0,MIN(O11:O41),"") | ... S44: =IF(SUM(S11:S41)>0,MIN(S11:S41),"") | T44: Min. | U44: =IF(SUM(U11:U41)>0,MIN(U11:U41),"") | V44: =IF(SUM(V11:V41)>0,MIN(V11:V41),"") | W44: =IF(SUM(W11:W41)>0,MIN(W11:W41),"") | X44: =IF(SUM(X11:X41)>0,MIN(X11:X41),"") | Y44: =IF(SUM(Y11:Y41)>0,MIN(Y11:Y41),"") | Z44: =IF(SUM(Z11:Z41)>0,MIN(Z11:Z41),"") | AA44: =IF(SUM(AA11:AA41)>0,MIN(AA11:AA41),"") | AB44: =IF(SUM(AB11:AB41)>0,MIN(AB11:AB41),"") | ... AH44: =IF(SUM(AH11:AH41)>0,MIN(AH11:AH41),"") | AJ44: =IF(SUM(AJ11:AJ41)>0,MIN(AJ11:AJ41),"") | AK44: =IF(SUM(AK11:AL41)>0,MIN(AK11:AL41),"") | AM44: =IF(SUM(AM11:AM41)>0,MIN(AM11:AM41),"") | AN44: =IF(SUM(AN11:AN41)>0,MIN(AN11:AN41),"") | AO44: Min | AQ44: =IF(SUM(AQ11:AQ41)>0,MIN(AQ11:AQ41),"") | AR44: =IF(SUM(AR11:AR41)>0,MIN(AR11:AR41),"") | AS44: =IF(SUM(AS11:AS41)>0,MIN(AS11:AS41),"") | AT44: =IF(SUM(AT11:AT41)>0,MIN(AT11:AT41),"") | AU44: =IF(SUM(AU11:AU41)>0,MIN(AU11:AU41),"") | AV44: =IF(SUM(AV11:AV41)>0,MIN(AV11:AV41),"") | AW44: =IF(SUM(AW11:AW41)>0,MIN(AW11:AW41),"") | AX44: =IF(SUM(AX11:AX41)>0,MIN(AX11:AX41),"") | ... BF44: =IF(SUM(BF11:BF41)>0,MIN(BF11:BF41),"") | BG44: Min. | BH44: =IF(SUM(BH11:BH41)>0,MIN(BH11:BH41),"") | BI44: =IF(SUM(BI11:BI41)>0,MIN(BI11:BI41),"") | BJ44: =IF(SUM(BJ11:BJ41)>0,MIN(BJ11:BJ41),"") | BK44: =IF(SUM(BK11:BK41)>0,MIN(BK11:BK41),"") | BL44: =IF(SUM(BL11:BL41)>0,MIN(BL11:BL41),"") | BM44: =IF(SUM(BM11:BM41)>0,MIN(BM11:BM41),"") | BN44: =IF(SUM(BN11:BN41)>0,MIN(BN11:BN41),"") | BO44: =IF(SUM(BO11:BO41)>0,MIN(BO11:BO41),"") | ... BU44: =IF(SUM(BU11:BU41)>0,MIN(BU11:BU41),"") | BV44: Min | BW44: =IF(SUM(BW11:BW41)>0,MIN(BW11:BW41),"") | BX44: =IF(SUM(BX11:BX41)>0,MIN(BX11:BX41),"") | BY44: =IF(SUM(BY11:BY41)>0,MIN(BY11:BY41),"") | BZ44: =IF(SUM(BZ11:BZ41)>0,MIN(BZ11:BZ41),"") | CA44: =IF(SUM(CA11:CA41)>0,MIN(CA11:CA41),"") | CB44: =IF(SUM(CB11:CB41)>0,MIN(CB11:CB41),"") | CC44: =IF(SUM(CC11:CC41)>0,MIN(CC11:CC41),"") | CD44: =IF(SUM(CD11:CD41)>0,MIN(CD11:CD41),"") | ... CL44: =IF(SUM(CL11:CL41)>0,MIN(CL11:CL41),"") | CM44: Min | CN44: =IF(SUM(CN11:CN41)>0,MIN(CN11:CN41),"") | CO44: =IF(SUM(CO11:CO41)>0,MIN(CO11:CO41),"") | CP44: =IF(SUM(CP11:CP41)>0,MIN(CP11:CP41),"") | CQ44: =IF(SUM(CQ11:CQ41)>0,MIN(CQ11:CQ41),"") | CR44: =IF(SUM(CR11:CR41)>0,MIN(CR11:CR41),"") | CS44: =IF(SUM(CS11:CS41)>0,MIN(CS11:CS41),"") | CT44: =IF(SUM(CT11:CT41)>0,MIN(CT11:CT41),"") | CU44: =IF(SUM(CU11:CU41)>0,MIN(CU11:CU41),"") | ... DC44: =IF(SUM(DC11:DC41)>0,MIN(DC11:DC41),"")
T45: Daily Max | AJ45: ='E.coli Standalone Calculation'!J38
T46: # of Days above 235 | AJ46: ='E.coli Standalone Calculation'!J41
A47: # of Data | E47: =COUNT(E11:E41) -> 0 | F47: =COUNTA(F11:F41) -> 0 | G47: =COUNTA(G11:G41) -> 0 | H47: =COUNT(H11:H41) -> 0 | I47: =COUNT(I11:I41) -> 0 | J47: =COUNT(J11:J41) -> 0 | K47: =COUNT(K11:K41) -> 0 | L47: =COUNT(L11:L41) -> 0 | M47: =COUNT(M11:M41) -> 0 | N47: =COUNT(N11:N41) -> 0 | O47: =COUNT(O11:O41) -> 0 | ... S47: =COUNT(S11:S41) -> 0 | T47: Data | U47: =COUNT(U11:U41) -> 0 | V47: =COUNT(V11:V41) -> 0 | W47: =COUNT(W11:W41) -> 0 | X47: =COUNT(X11:X41) -> 0 | Y47: =COUNT(Y11:Y41) -> 0 | Z47: =COUNT(Z11:Z41) -> 0 | AA47: =COUNT(AA11:AA41) -> 0 | AB47: =COUNT(AB11:AB41) -> 0 | ... AE47: =COUNT(AE11:AE41) -> 0 | AG47: =COUNT(AG11:AG41) -> 0 | AH47: =COUNT(AH11:AH41) -> 0 | AJ47: =COUNT(AI11:AI41) -> 0 | AK47: =COUNT(AK11:AL41) -> 0 | AM47: =COUNT(AM11:AM41) -> 0 | AN47: =COUNT(AN11:AN41) -> 0 | AO47: Data | AQ47: =COUNT(AQ11:AQ41) -> 0 | AR47: =COUNT(AR11:AR41) -> 0 | AS47: =COUNT(AS11:AS41) -> 0 | AT47: =COUNT(AT11:AT41) -> 0 | AU47: =COUNT(AU11:AU41) -> 0 | AV47: =COUNT(AV11:AV41) -> 0 | AW47: =COUNT(AW11:AW41) -> 0 | AX47: =COUNT(AX11:AX41) -> 0 | ... BF47: =COUNT(BF11:BF41) -> 0 | BG47: Data | BH47: =COUNT(BH11:BH41) -> 0 | BI47: =COUNT(BI11:BI41) -> 0 | BJ47: =COUNT(BJ11:BJ41) -> 0 | BK47: =COUNT(BK11:BK41) -> 0 | BL47: =COUNT(BL11:BL41) -> 0 | BM47: =COUNT(BM11:BM41) -> 0 | BN47: =COUNT(BN11:BN41) -> 0 | BO47: =COUNT(BO11:BO41) -> 0 | ... BU47: =COUNT(BU11:BU41) -> 0 | BV47: Data | BW47: =COUNT(BW11:BW41) -> 0 | BX47: =COUNT(BX11:BX41) -> 0 | BY47: =COUNT(BY11:BY41) -> 0 | BZ47: =COUNT(BZ11:BZ41) -> 0 | CA47: =COUNT(CA11:CA41) -> 0 | CB47: =COUNT(CB11:CB41) -> 0 | CC47: =COUNT(CC11:CC41) -> 0 | CD47: =COUNT(CD11:CD41) -> 0 | ... CL47: =COUNT(CL11:CL41) -> 0 | CM47: Data | CN47: =COUNT(CN11:CN41) -> 0 | CO47: =COUNT(CO11:CO41) -> 0 | CP47: =COUNT(CP11:CP41) -> 0 | CQ47: =COUNT(CQ11:CQ41) -> 0 | CR47: =COUNT(CR11:CR41) -> 0 | CS47: =COUNT(CS11:CS41) -> 0 | CT47: =COUNT(CT11:CT41) -> 0 | CU47: =COUNT(CU11:CU41) -> 0 | ... DC47: =COUNT(DC11:DC41) -> 0
A48: I certify under penalty of law that this document and all attachments were prepared under my direction or supervision in accordance with a system designed to assure that qualified personnel properly gather and evaluate the information submitted. Based on my inquiry of the persons who manage the system, or those persons directly responsible for gathering the information, the information submitted is, to the best of my knowledge and belief, true, accurate, and complete. I am aware that there are significant penalties for submitting false information, including the possibility of fine and imprisonment for knowing violations. | K48: Prepared by or under the direction of (Certified Operator): | Q48: Date (month, day, year) | T48: Comments for the Month (major repairs, breakdowns, process upsets and their causes, inplant treatment process bypass, etc.):
AQ49: MONTHLY REMOVAL SUMMARY | BB49: Total Monthly Flow: | BH49: Once completed, this form should be converted to a pdf document, named appropriately & attached to the corresponding netDMR for submittal
AQ50: Percent Removal | AT50: BOD5 | AV50: S.S. | AX50: Ammonia | AZ50: Phosphorus | BB50: (million gallons) | BD50: =IF(SUM(AQ11:AQ41)>0,SUM(AQ11:AQ41),SUM(K11:K41)) -> 0
AQ51: Primary Treatment | AT51: =IF(U47=0," NA",(+M42-U42)/M42*100) -> NA | AV51: =IF(V47=0," NA",(+O42-V42)/O42*100) -> NA
K52: Signature of principal executive officer or authorized agent | Q52: Date (month, day, year) | AQ52: =IF(+AQ53="Tertiary Treatment","Secondary Treatment"," ") -> Secondary Treatment | AT52: =IF(AD47=0," NA",IF(U47=0,(+M42-AD42)/M42*100,(+U42-AD42)/U42*100)) -> NA | AV52: =IF(AE47=0," NA",IF(V47=0,(+O42-AE42)/O42*100,(+V42-AE42)/V42*100)) -> NA | BB52: Percent Capacity
K53: (or attested by NetDMR subscriber agreement) | AQ53: =IF(AND(+U47+V47>0,+AD47+AE47=0),"Secondary Treatment","Tertiary Treatment") -> Tertiary Treatment | AT53: =IF(U47+AD47=0," NA",IF(AD47>0,(+AD42-AS42)/AD42*100,(+U42-AS42)/U42*100)) -> NA | AV53: =IF(V47+AE47=0," NA",IF(AE47>0,(+AE42-AW42)/AE42*100,(+V42-AW42)/V42*100)) -> NA | BB53: (actual flow/design) | BD53: =IF(AQ47+K47=0,"",IF(AQ47>0,+AQ42/O4,K42/O4))
AQ54: Overall Treatment | AT54: =IF(M42=" "," NA",(+M42-AS42)/M42*100) -> NA | AV54: =IF(O42=" "," NA",(+O42-AW42)/O42*100) -> NA | AX54: =IF(R42=" "," NA",(+R42-BA42)/R42*100) -> NA | AZ54: =IF(Q42=" "," NA",(+Q42-BE42)/Q42*100) -> NA
AQ55: =IF(OR(Q42=" ",BE42=" ",LEFT(Q10,4)<>"Phos",LEFT(BE10,4)<>"Phos"),"","Phosphorus limit would be") | AU55: =IF(OR(Q42=" ",+BE42=" ",LEFT(Q10,4)<>"Phos",LEFT(BE10,4)<>"Phos"),"",IF(+Q42>=5,1,IF(+Q42>=4,80,IF(+Q42>=3,75,IF(Q42>=2,70,IF(Q42>=1,65,60)))))) | AV55: =IF(OR(Q42=" ",+BE42=" ",LEFT(Q10,4)<>"Phos",LEFT(BE10,4)<>"Phos"),"",IF(+Q42>=5,"mg/l.","% removal.")) | AX55: =IF(OR(Q42=" ",+BE42=" ",LEFT(Q10,4)<>"Phos",LEFT(BE10,4)<>"Phos"),"",IF(OR(AND(+Q42>=5,BE42>1),AND(+Q42>=4,+Q42<5,AZ54<80),AND(+Q42>=3,+Q42<4,AZ54<75),AND(+Q42>=2,+Q42<3,AZ54<70),AND(+Q42>=1,+Q42<2,AZ54<65),AND(+Q42<1,AZ54<60)),"(compliance not achieved)","(compliance achieved)"))
A56: Page 1 of 6 | T56: Page 2 of 6 | AO56: Page 3 of 6 | BG56: Page 4 of 6 | BV56: Page 5 of 6 | CM56: Page 6 of 6

Sheet Apr
K1: Name of Facility | P1: Permit Number | T1: MONTHLY REPORT OF OPERATION | AO1: MONTHLY REPORT OF OPERATION | BG1: MONTHLY REPORT OF OPERATION | BV1: MONTHLY REPORT OF OPERATION
D2: MONTHLY REPORT OF OPERATION | K2: =Jan!K2 -> Exampleville | P2: =Jan!P2 -> IN0000000 | T2: ACTIVATED SLUDGE TYPE | AO2: ACTIVATED SLUDGE TYPE | BG2: ACTIVATED SLUDGE TYPE | BV2: ACTIVATED SLUDGE TYPE
D3: ACTIVATED SLUDGE TYPE | K3: Month | M3: Year | O3: Plant Design Flow | Q3: Telephone Number | T3: WASTEWATER TREATMENT PLANT | AO3: WASTEWATER TREATMENT PLANT | BG3: WASTEWATER TREATMENT PLANT | BV3: WASTEWATER TREATMENT PLANT | CM3: WASTEWATER TREATMENT PLANT
D4: WASTEWATER TREATMENT PLANT | K4: April | M4: =+Mar!M4 -> 2026 | O4: =Jan!O4 -> 0.001 | P4: mgd | Q4: =Jan!Q4 -> 555/555-5555 | T4: =+Jan!T4 -> State Form 10829 (R11 / 3-26) | AG4: < | AO4: =+Jan!AO4 -> State Form 10829 (R11 / 3-26) | BG4: =+Jan!BG4 -> State Form 10829 (R11 / 3-26) | BV4: =+Jan!BV4 -> State Form 10829 (R11 / 3-26) | CM4: =+$D$5 -> State Form 10829 (R11 / 3-26)
D5: =+Jan!D5 -> State Form 10829 (R11 / 3-26) | J5: =CONCATENATE("4/1/",M4) -> 4/1/2026 | K5: E-mail address: | M5: =Jan!M5 -> wwtp@city.org | R5: =+Mar!R5 -> 001 | S5: =+Mar!S5 -> A | T5: Name of Facility | X5: Permit Number | Z5: For Month Of: | AB5: Year | AO5: Name of Facility | AS5: Permit Number | AU5: For Month Of: | AW5: Year | BG5: Name of Facility | BI5: Permit Number | BK5: For Month Of: | BM5: Year | BV5: Name of Facility | BX5: Permit Number | BZ5: For Month Of: | CB5: Year | CM5: Name of Facility | CO5: Permit Number | CQ5: For Month Of: | CS5: Year
K6: Certified Operator: Name | O6: Class | P6: Certificate Number | R6: Expiration Date | T6: =+K2 -> Exampleville | X6: =+P2 -> IN0000000 | Z6: =+K4 -> April | AB6: =+M4 -> 2026 | AO6: =+K2 -> Exampleville | AS6: =+P2 -> IN0000000 | AU6: =+K4 -> April | AW6: =+M4 -> 2026 | BG6: =+K2 -> Exampleville | BI6: =+P2 -> IN0000000 | BK6: =+K4 -> April | BM6: =+M4 -> 2026 | BV6: =+K2 -> Exampleville | BX6: =+P2 -> IN0000000 | BZ6: =+K4 -> April | CB6: =+M4 -> 2026 | CM6: =+K2 -> Exampleville | CO6: =+P2 -> IN0000000 | CQ6: =+K4 -> April | CS6: =+M4 -> 2026
K7: =Jan!K7 -> Chris A. Operator | O7: =Jan!O7 -> V | P7: =Jan!P7 -> 9999 | R7: =Jan!R7 -> 41820 | BX7: =+Jan!BX7 -> Substitute for State Form 30530 | CO7: Substitute for State Form 30530
C8: =+Mar!C8 -> Man-Hours at Plant (Plants less than 1 MGD only) | D8: =+Mar!D8 -> Air Temperature (optional) | E8: Total= | F8: =+Mar!F8 -> Bypass At Plant Site ("x" If Occurred) | G8: =+Mar!G8 -> Sanitary Sewer Overflow ("x" If Occurred) | H8: CHEMICALS | K8: RAW SEWAGE | U8: PRIMARY | W8: AERATION | AD8: SECONDARY | AF8: FINAL EFFLUENT | AQ8: FINAL EFFLUENT | BH8: =+Mar!BH8 -> SLUDGE TO | BJ8: =+Mar!BJ8 -> DIGESTER OPERATION | BW8: =Jan!BW8 -> Final Effluent | CA8: =+Jan!CA8 | CB8: =+Jan!CB8 | CC8: =+Jan!CC8 | CD8: =+Jan!CD8 | CE8: =+Jan!CE8 | CF8: =+Jan!CF8 | CG8: =+Jan!CG8 | CH8: =+Jan!CH8 | ... CL8: =+Jan!CL8 | CN8: =Jan!CN8 -> 0 | CO8: =Jan!CO8 | CP8: =Jan!CP8 | CQ8: =Jan!CQ8 | CR8: =Jan!CR8 | CS8: =Jan!CS8 | CT8: =Jan!CT8 | CU8: =Jan!CU8 | ... DC8: =Jan!DC8
C9: =+Jan!C9 -> 0 | E9: =SUM(E11:E40) -> 0 | F9: =+Jan!F9 -> 0 | G9: =+Jan!G9 -> 0 | H9: USED | U9: EFFLUENT | W9: MIXED LIQUOR | AB9: RETURN SLUDGE | AD9: EFFLUENT | AQ9: Flow | AS9: BOD | AW9: Total Suspended Solids | BA9: Ammonia | BE9: =IF(+Mar!BE9<>"",+Mar!BE9,"") -> Phosphorus | BH9: =+Mar!BH9 -> DIGESTER | BJ9: =+Mar!BJ9 -> Anaerobic Only | BM9: =+Mar!BM9 -> Supernatant Withdrawn hrs. or Gal. x 1000 | BN9: =+Mar!BN9 -> Supernatant BOD5 mg/l or NH3-N mg/l | BO9: =+Mar!BO9 -> Total Solids in Incoming Sludge - % | BP9: =+Mar!BP9 -> Total Solids in Digested Sludge - % | BQ9: =+Mar!BQ9 -> Volatile Solids in Incoming Sludge - % | BR9: =+Mar!BR9 -> Volatile Solids in Digested Sludge - % | BS9: =+Mar!BS9 -> Digested Sludge Withdrawn hrs. or Gal. x 1000 | BT9: =+Mar!BT9 -> 0 | BU9: =+Mar!BU9 | BW9: Chloride | BY9: =Jan!BY9 -> Total Nitrogen | CA9: =+Jan!CA9 -> 0 | CB9: =+Jan!CB9 -> 0 | CC9: =+Jan!CC9 -> 0 | CD9: =+Jan!CD9 -> 0 | CE9: =+Jan!CE9 -> 0 | CF9: =+Jan!CF9 -> 0 | CG9: =+Jan!CG9 -> 0 | CH9: =+Jan!CH9 -> 0 | ... CL9: =+Jan!CL9 -> 0
A10: Day Of Month | B10: Day of Week | C10: =+Jan!C10 -> 0 | E10: =+Mar!E10 -> Precipitation - Inches | F10: =+Jan!F10 -> 0 | G10: =+Jan!G10 -> 0 | H10: =+Mar!H10 -> Chlorine - Lbs/day | I10: =Jan!I10 -> Lbs/Day or Gal./Day | J10: =+Mar!J10 -> Lbs/Day or Gal./Day | K10: =+Mar!K10 -> Influent Flow Rate (if metered) MGD | L10: =+Mar!L10 -> pH | M10: =+Mar!M10 -> CBOD5 - mg/l | N10: =+Mar!N10 -> CBOD5 - lbs/day | O10: =+Mar!O10 -> Susp. Solids - mg/l | P10: =+Mar!P10 -> Susp. Solids - lbs/day | Q10: =+Mar!Q10 -> Phosphorus - mg/l | R10: =+Mar!R10 -> Ammonia - mg/l | S10: =IF(+Mar!S10<>"",+Mar!S10,"") | T10: Day Of Month | U10: =+Mar!U10 -> CBOD5 - mg/l | V10: =+Mar!V10 -> Susp. Solids - mg/l | W10: =+Mar!W10 -> Settleable Solids % in 30 minutes | X10: =+Mar!X10 -> Susp. Solids - mg/l | Y10: =+Mar!Y10 -> Sludge Vol. Index - ml/gm | Z10: =+Mar!Z10 -> Dissolved Oxygen - mg/l | AA10: =+Mar!AA10 -> Temperature - F | AB10: =+Mar!AB10 -> Volume - MG | ... AE10: =+Mar!AE10 -> Susp. Solids - mg/l | AG10: =+Mar!AG10 -> Residual Chlorine - Final | AH10: =+Mar!AH10 -> Residual Chlorine - Contact Tank | AJ10: =+Mar!AJ10 -> E. Coli - colony/100 ml | AK10: =+Mar!AK10 -> pH - daily low (or single sample) | AL10: =+Mar!AL10 -> pH - daily high (if multiple samples) | AM10: =+Mar!AM10 -> Dissolved Oxygen - mg/l | AN10: =+Mar!AN10 -> Oil & Grease (mg/l) | AO10: Day Of Month | AP10: Day of Week | AQ10: =+Mar!AQ10 -> Effluent Flow Rate (MGD) | AR10: =+Mar!AR10 -> Effluent Flow Weekly Average | AS10: =+Mar!AS10 -> CBOD5 - mg/l | AT10: =+Mar!AT10 -> CBOD5 - mg/l Weekly Average | AU10: =+Mar!AU10 -> CBOD5 - lbs/day | AV10: =+Mar!AV10 -> CBOD5 - lbs/day Weekly Average | AW10: =+Mar!AW10 -> Susp. Solids - mg/l | AX10: =+Mar!AX10 -> Susp. Solids - mg/l Weekly Average | ... BD10: =+Mar!BD10 -> Ammonia - lbs/day Weekly Average | BE10: =IF(+Mar!BE10<>"",+Mar!BE10,"") -> Phosphorus - mg/l | BF10: =IF(+Mar!BF10<>"",+Mar!BF10,"") -> Phosphorus - lbs/day | BG10: Day Of Month | BH10: =+Mar!BH10 -> Primary Sludge Gal. x 1000 | BI10: =+Mar!BI10 -> Waste Act. Sludge Gal. x 1000 | BJ10: =+Mar!BJ10 -> pH | BK10: =+Mar!BK10 -> Gas Production Cubic Ft. x 1000 | BL10: =+Mar!BL10 -> Temperature - F | BV10: Day Of Month | BW10: =+Jan!BW10 -> Chloride - mg/l | BX10: =+Jan!BX10 -> Chloride - lbs/day | BY10: =+Jan!BY10 -> Total Nitrogen- mg/l | BZ10: =+Jan!BZ10 -> Total Nitrogen- lbs/day | CA10: =+Jan!CA10 -> 0 | CB10: =+Jan!CB10 -> 0 | CC10: =+Jan!CC10 -> 0 | CD10: =+Jan!CD10 -> 0 | ... CL10: =+Jan!CL10 -> 0 | CM10: Day Of Month
A11: 1 | B11: =TEXT(J$5 + A11-1,"DDD") -> Wed | N11: =IF(CELL("type",M11)="L","",IF(M11*($K11+$AQ11)=0,"",IF($K11>0,+$K11*M11*8.34,$AQ11*M11*8.34))) | P11: =IF(CELL("type",O11)="L","",IF(O11*($K11+$AQ11)=0,"",IF($K11>0,+$K11*O11*8.34,$AQ11*O11*8.34))) | T11: =+A11 -> 1 | Y11: =IF(W11*X11=0,"",IF(W11<100,W11*10000/X11,W11*1000/X11)) | AI11: =IF(CELL("type",AJ11)="b","",IF(AJ11="tntc",63200,IF(AJ11=0,1,AJ11))) | AO11: =+A11 -> 1 | AP11: =+B11 -> Wed | AU11: =IF(CELL("type",AS11)="l","",IF(AS11*($K11+$AQ11)=0,"",IF($AQ11>0,+$AQ11*AS11*8.34,$K11*AS11*8.34))) | AY11: =IF(CELL("type",AW11)="l","",IF(AW11*($K11+$AQ11)=0,"",IF($AQ11>0,+$AQ11*AW11*8.34,$K11*AW11*8.34))) | BC11: =IF(CELL("type",BA11)="l","",IF(BA11*($K11+$AQ11)=0,"",IF($AQ11>0,+$AQ11*BA11*8.34,$K11*BA11*8.34))) | BF11: =IF(CELL("type",BE11)="l","",IF(BE11*($K11+$AQ11)=0,"",IF($AQ11>0,+$AQ11*BE11*8.34,$K11*BE11*8.34))) | BG11: =+A11 -> 1 | BV11: =+A11 -> 1 | BX11: =IF(CELL("type",BW11)="l","",IF(BW11*($K11+$AQ11)=0,"",IF($AQ11>0,+$AQ11*BW11*8.34,$K11*BW11*8.34))) | BZ11: =IF(CELL("type",BY11)="l","",IF(BY11*($K11+$AQ11)=0,"",IF($AQ11>0,+$AQ11*BY11*8.34,$K11*BY11*8.34))) | CM11: =+T11 -> 1
A12: 2 | B12: =TEXT(J$5 + A12-1,"DDD") -> Thu | N12: =IF(CELL("type",M12)="L","",IF(M12*(K12+AQ12)=0,"",IF(K12>0,+K12*M12*8.34,AQ12*M12*8.34))) | P12: =IF(CELL("type",O12)="L","",IF(O12*($K12+$AQ12)=0,"",IF($K12>0,+$K12*O12*8.34,$AQ12*O12*8.34))) | T12: =+A12 -> 2 | Y12: =IF(W12*X12=0,"",IF(W12<100,W12*10000/X12,W12*1000/X12)) | AI12: =IF(CELL("type",AJ12)="b","",IF(AJ12="tntc",63200,IF(AJ12=0,1,AJ12))) | AO12: =+A12 -> 2 | AP12: =+B12 -> Thu | AU12: =IF(CELL("type",AS12)="l","",IF(AS12*($K12+$AQ12)=0,"",IF($AQ12>0,+$AQ12*AS12*8.34,$K12*AS12*8.34))) | AY12: =IF(CELL("type",AW12)="l","",IF(AW12*($K12+$AQ12)=0,"",IF($AQ12>0,+$AQ12*AW12*8.34,$K12*AW12*8.34))) | BC12: =IF(CELL("type",BA12)="l","",IF(BA12*($K12+$AQ12)=0,"",IF($AQ12>0,+$AQ12*BA12*8.34,$K12*BA12*8.34))) | BF12: =IF(CELL("type",BE12)="l","",IF(BE12*($K12+$AQ12)=0,"",IF($AQ12>0,+$AQ12*BE12*8.34,$K12*BE12*8.34))) | BG12: =+A12 -> 2 | BV12: =+A12 -> 2 | BX12: =IF(CELL("type",BW12)="l","",IF(BW12*($K12+$AQ12)=0,"",IF($AQ12>0,+$AQ12*BW12*8.34,$K12*BW12*8.34))) | BZ12: =IF(CELL("type",BY12)="l","",IF(BY12*($K12+$AQ12)=0,"",IF($AQ12>0,+$AQ12*BY12*8.34,$K12*BY12*8.34))) | CM12: =+T12 -> 2
A13: 3 | B13: =TEXT(J$5 + A13-1,"DDD") -> Fri | N13: =IF(CELL("type",M13)="L","",IF(M13*(K13+AQ13)=0,"",IF(K13>0,+K13*M13*8.34,AQ13*M13*8.34))) | P13: =IF(CELL("type",O13)="L","",IF(O13*($K13+$AQ13)=0,"",IF($K13>0,+$K13*O13*8.34,$AQ13*O13*8.34))) | T13: =+A13 -> 3 | Y13: =IF(W13*X13=0,"",IF(W13<100,W13*10000/X13,W13*1000/X13)) | AI13: =IF(CELL("type",AJ13)="b","",IF(AJ13="tntc",63200,IF(AJ13=0,1,AJ13))) | AO13: =+A13 -> 3 | AP13: =+B13 -> Fri | AU13: =IF(CELL("type",AS13)="l","",IF(AS13*($K13+$AQ13)=0,"",IF($AQ13>0,+$AQ13*AS13*8.34,$K13*AS13*8.34))) | AY13: =IF(CELL("type",AW13)="l","",IF(AW13*($K13+$AQ13)=0,"",IF($AQ13>0,+$AQ13*AW13*8.34,$K13*AW13*8.34))) | BC13: =IF(CELL("type",BA13)="l","",IF(BA13*($K13+$AQ13)=0,"",IF($AQ13>0,+$AQ13*BA13*8.34,$K13*BA13*8.34))) | BF13: =IF(CELL("type",BE13)="l","",IF(BE13*($K13+$AQ13)=0,"",IF($AQ13>0,+$AQ13*BE13*8.34,$K13*BE13*8.34))) | BG13: =+A13 -> 3 | BV13: =+A13 -> 3 | BX13: =IF(CELL("type",BW13)="l","",IF(BW13*($K13+$AQ13)=0,"",IF($AQ13>0,+$AQ13*BW13*8.34,$K13*BW13*8.34))) | BZ13: =IF(CELL("type",BY13)="l","",IF(BY13*($K13+$AQ13)=0,"",IF($AQ13>0,+$AQ13*BY13*8.34,$K13*BY13*8.34))) | CM13: =+T13 -> 3
A14: 4 | B14: =TEXT(J$5 + A14-1,"DDD") -> Sat | N14: =IF(CELL("type",M14)="L","",IF(M14*(K14+AQ14)=0,"",IF(K14>0,+K14*M14*8.34,AQ14*M14*8.34))) | P14: =IF(CELL("type",O14)="L","",IF(O14*($K14+$AQ14)=0,"",IF($K14>0,+$K14*O14*8.34,$AQ14*O14*8.34))) | T14: =+A14 -> 4 | Y14: =IF(W14*X14=0,"",IF(W14<100,W14*10000/X14,W14*1000/X14)) | AI14: =IF(CELL("type",AJ14)="b","",IF(AJ14="tntc",63200,IF(AJ14=0,1,AJ14))) | AO14: =+A14 -> 4 | AP14: =+B14 -> Sat | AR14: =IF(+$B14="Sat",IF(SUM(AQ$11:AQ14)>0,AVERAGE(AQ$11:AQ14,Mar!AQ39:AQ$41)," "),"") | AT14: =IF(+$B14="Sat",IF(SUM(AS$11:AS14,Mar!AS39:AS$41)>0,AVERAGE(AS$11:AS14,Mar!AS39:AS$41)," "),"") | AU14: =IF(CELL("type",AS14)="l","",IF(AS14*($K14+$AQ14)=0,"",IF($AQ14>0,+$AQ14*AS14*8.34,$K14*AS14*8.34))) | AV14: =IF(+$B14="Sat",IF(SUM(AU$11:AU14,Mar!AU39:AU$41)>0,AVERAGE(AU$11:AU14,Mar!AU39:AU$41)," "),"") | AX14: =IF(+$B14="Sat",IF(SUM(AW$11:AW14,Mar!AW39:AW$41)>0,AVERAGE(AW$11:AW14,Mar!AW39:AW$41)," "),"") | AY14: =IF(CELL("type",AW14)="l","",IF(AW14*($K14+$AQ14)=0,"",IF($AQ14>0,+$AQ14*AW14*8.34,$K14*AW14*8.34))) | AZ14: =IF(+$B14="Sat",IF(SUM(AY$11:AY14,Mar!AY39:AY$41)>0,AVERAGE(AY$11:AY14,Mar!AY39:AY$41)," "),"") | BB14: =IF(+$B14="Sat",IF(SUM(BA$11:BA14,Mar!BA39:BA$41)>0,AVERAGE(BA$11:BA14,Mar!BA39:BA$41)," "),"") | BC14: =IF(CELL("type",BA14)="l","",IF(BA14*($K14+$AQ14)=0,"",IF($AQ14>0,+$AQ14*BA14*8.34,$K14*BA14*8.34))) | BD14: =IF(+$B14="Sat",IF(SUM(BC$11:BC14,Mar!BC39:BC$41)>0,AVERAGE(BC$11:BC14,Mar!BC39:BC$41)," "),"") | BF14: =IF(CELL("type",BE14)="l","",IF(BE14*($K14+$AQ14)=0,"",IF($AQ14>0,+$AQ14*BE14*8.34,$K14*BE14*8.34))) | BG14: =+A14 -> 4 | BV14: =+A14 -> 4 | BX14: =IF(CELL("type",BW14)="l","",IF(BW14*($K14+$AQ14)=0,"",IF($AQ14>0,+$AQ14*BW14*8.34,$K14*BW14*8.34))) | BZ14: =IF(CELL("type",BY14)="l","",IF(BY14*($K14+$AQ14)=0,"",IF($AQ14>0,+$AQ14*BY14*8.34,$K14*BY14*8.34))) | CM14: =+T14 -> 4
A15: 5 | B15: =TEXT(J$5 + A15-1,"DDD") -> Sun | N15: =IF(CELL("type",M15)="L","",IF(M15*(K15+AQ15)=0,"",IF(K15>0,+K15*M15*8.34,AQ15*M15*8.34))) | P15: =IF(CELL("type",O15)="L","",IF(O15*($K15+$AQ15)=0,"",IF($K15>0,+$K15*O15*8.34,$AQ15*O15*8.34))) | T15: =+A15 -> 5 | Y15: =IF(W15*X15=0,"",IF(W15<100,W15*10000/X15,W15*1000/X15)) | AI15: =IF(CELL("type",AJ15)="b","",IF(AJ15="tntc",63200,IF(AJ15=0,1,AJ15))) | AO15: =+A15 -> 5 | AP15: =+B15 -> Sun | AR15: =IF(+$B15="Sat",IF(SUM(AQ$11:AQ15)>0,AVERAGE(AQ$11:AQ15,Mar!AQ40:AQ$41)," "),"") | AT15: =IF(+$B15="Sat",IF(SUM(AS$11:AS15,Mar!AS40:AS$41)>0,AVERAGE(AS$11:AS15,Mar!AS40:AS$41)," "),"") | AU15: =IF(CELL("type",AS15)="l","",IF(AS15*($K15+$AQ15)=0,"",IF($AQ15>0,+$AQ15*AS15*8.34,$K15*AS15*8.34))) | AV15: =IF(+$B15="Sat",IF(SUM(AU$11:AU15,Mar!AU40:AU$41)>0,AVERAGE(AU$11:AU15,Mar!AU40:AU$41)," "),"") | AX15: =IF(+$B15="Sat",IF(SUM(AW$11:AW15,Mar!AW40:AW$41)>0,AVERAGE(AW$11:AW15,Mar!AW40:AW$41)," "),"") | AY15: =IF(CELL("type",AW15)="l","",IF(AW15*($K15+$AQ15)=0,"",IF($AQ15>0,+$AQ15*AW15*8.34,$K15*AW15*8.34))) | AZ15: =IF(+$B15="Sat",IF(SUM(AY$11:AY15,Mar!AY40:AY$41)>0,AVERAGE(AY$11:AY15,Mar!AY40:AY$41)," "),"") | BB15: =IF(+$B15="Sat",IF(SUM(BA$11:BA15,Mar!BA40:BA$41)>0,AVERAGE(BA$11:BA15,Mar!BA40:BA$41)," "),"") | BC15: =IF(CELL("type",BA15)="l","",IF(BA15*($K15+$AQ15)=0,"",IF($AQ15>0,+$AQ15*BA15*8.34,$K15*BA15*8.34))) | BD15: =IF(+$B15="Sat",IF(SUM(BC$11:BC15,Mar!BC40:BC$41)>0,AVERAGE(BC$11:BC15,Mar!BC40:BC$41)," "),"") | BF15: =IF(CELL("type",BE15)="l","",IF(BE15*($K15+$AQ15)=0,"",IF($AQ15>0,+$AQ15*BE15*8.34,$K15*BE15*8.34))) | BG15: =+A15 -> 5 | BV15: =+A15 -> 5 | BX15: =IF(CELL("type",BW15)="l","",IF(BW15*($K15+$AQ15)=0,"",IF($AQ15>0,+$AQ15*BW15*8.34,$K15*BW15*8.34))) | BZ15: =IF(CELL("type",BY15)="l","",IF(BY15*($K15+$AQ15)=0,"",IF($AQ15>0,+$AQ15*BY15*8.34,$K15*BY15*8.34))) | CM15: =+T15 -> 5
A16: 6 | B16: =TEXT(J$5 + A16-1,"DDD") -> Mon | N16: =IF(CELL("type",M16)="L","",IF(M16*(K16+AQ16)=0,"",IF(K16>0,+K16*M16*8.34,AQ16*M16*8.34))) | P16: =IF(CELL("type",O16)="L","",IF(O16*($K16+$AQ16)=0,"",IF($K16>0,+$K16*O16*8.34,$AQ16*O16*8.34))) | T16: =+A16 -> 6 | Y16: =IF(W16*X16=0,"",IF(W16<100,W16*10000/X16,W16*1000/X16)) | AI16: =IF(CELL("type",AJ16)="b","",IF(AJ16="tntc",63200,IF(AJ16=0,1,AJ16))) | AO16: =+A16 -> 6 | AP16: =+B16 -> Mon | AR16: =IF(+$B16="Sat",IF(SUM(AQ$11:AQ16)>0,AVERAGE(AQ$11:AQ16,Mar!AQ41:AQ$41)," "),"") | AT16: =IF(+$B16="Sat",IF(SUM(AS$11:AS16)>0,AVERAGE(AS$11:AS16,Mar!AS41:AS$41)," "),"") | AU16: =IF(CELL("type",AS16)="l","",IF(AS16*($K16+$AQ16)=0,"",IF($AQ16>0,+$AQ16*AS16*8.34,$K16*AS16*8.34))) | AV16: =IF(+$B16="Sat",IF(SUM(AU$11:AU16)>0,AVERAGE(AU$11:AU16,Mar!AU41:AU$41)," "),"") | AX16: =IF(+$B16="Sat",IF(SUM(AW$11:AW16)>0,AVERAGE(AW$11:AW16,Mar!AW41:AW$41)," "),"") | AY16: =IF(CELL("type",AW16)="l","",IF(AW16*($K16+$AQ16)=0,"",IF($AQ16>0,+$AQ16*AW16*8.34,$K16*AW16*8.34))) | AZ16: =IF(+$B16="Sat",IF(SUM(AY$11:AY16)>0,AVERAGE(AY$11:AY16,Mar!AY41:AY$41)," "),"") | BB16: =IF(+$B16="Sat",IF(SUM(BA$11:BA16)>0,AVERAGE(BA$11:BA16,Mar!BA41:BA$41)," "),"") | BC16: =IF(CELL("type",BA16)="l","",IF(BA16*($K16+$AQ16)=0,"",IF($AQ16>0,+$AQ16*BA16*8.34,$K16*BA16*8.34))) | BD16: =IF(+$B16="Sat",IF(SUM(BC$11:BC16)>0,AVERAGE(BC$11:BC16,Mar!BC41:BC$41)," "),"") | BF16: =IF(CELL("type",BE16)="l","",IF(BE16*($K16+$AQ16)=0,"",IF($AQ16>0,+$AQ16*BE16*8.34,$K16*BE16*8.34))) | BG16: =+A16 -> 6 | BV16: =+A16 -> 6 | BX16: =IF(CELL("type",BW16)="l","",IF(BW16*($K16+$AQ16)=0,"",IF($AQ16>0,+$AQ16*BW16*8.34,$K16*BW16*8.34))) | BZ16: =IF(CELL("type",BY16)="l","",IF(BY16*($K16+$AQ16)=0,"",IF($AQ16>0,+$AQ16*BY16*8.34,$K16*BY16*8.34))) | CM16: =+T16 -> 6
A17: 7 | B17: =TEXT(J$5 + A17-1,"DDD") -> Tue | N17: =IF(CELL("type",M17)="L","",IF(M17*(K17+AQ17)=0,"",IF(K17>0,+K17*M17*8.34,AQ17*M17*8.34))) | P17: =IF(CELL("type",O17)="L","",IF(O17*($K17+$AQ17)=0,"",IF($K17>0,+$K17*O17*8.34,$AQ17*O17*8.34))) | T17: =+A17 -> 7 | Y17: =IF(W17*X17=0,"",IF(W17<100,W17*10000/X17,W17*1000/X17)) | AI17: =IF(CELL("type",AJ17)="b","",IF(AJ17="tntc",63200,IF(AJ17=0,1,AJ17))) | AO17: =+A17 -> 7 | AP17: =+B17 -> Tue | AR17: =IF(+$B17="Sat",IF(SUM(AQ11:AQ17)>0,AVERAGE(AQ11:AQ17)," "),"") | AT17: =IF(+$B17="Sat",IF(SUM(AS11:AS17)>0,AVERAGE(AS11:AS17)," "),"") | AU17: =IF(CELL("type",AS17)="l","",IF(AS17*($K17+$AQ17)=0,"",IF($AQ17>0,+$AQ17*AS17*8.34,$K17*AS17*8.34))) | AV17: =IF(+$B17="Sat",IF(SUM(AU11:AU17)>0,AVERAGE(AU11:AU17)," "),"") | AX17: =IF(+$B17="Sat",IF(SUM(AW11:AW17)>0,AVERAGE(AW11:AW17)," "),"") | AY17: =IF(CELL("type",AW17)="l","",IF(AW17*($K17+$AQ17)=0,"",IF($AQ17>0,+$AQ17*AW17*8.34,$K17*AW17*8.34))) | AZ17: =IF(+$B17="Sat",IF(SUM(AY11:AY17)>0,AVERAGE(AY11:AY17)," "),"") | BB17: =IF(+$B17="Sat",IF(SUM(BA11:BA17)>0,AVERAGE(BA11:BA17)," "),"") | BC17: =IF(CELL("type",BA17)="l","",IF(BA17*($K17+$AQ17)=0,"",IF($AQ17>0,+$AQ17*BA17*8.34,$K17*BA17*8.34))) | BD17: =IF(+$B17="Sat",IF(SUM(BC11:BC17)>0,AVERAGE(BC11:BC17)," "),"") | BF17: =IF(CELL("type",BE17)="l","",IF(BE17*($K17+$AQ17)=0,"",IF($AQ17>0,+$AQ17*BE17*8.34,$K17*BE17*8.34))) | BG17: =+A17 -> 7 | BV17: =+A17 -> 7 | BX17: =IF(CELL("type",BW17)="l","",IF(BW17*($K17+$AQ17)=0,"",IF($AQ17>0,+$AQ17*BW17*8.34,$K17*BW17*8.34))) | BZ17: =IF(CELL("type",BY17)="l","",IF(BY17*($K17+$AQ17)=0,"",IF($AQ17>0,+$AQ17*BY17*8.34,$K17*BY17*8.34))) | CM17: =+T17 -> 7
A18: 8 | B18: =TEXT(J$5 + A18-1,"DDD") -> Wed | N18: =IF(CELL("type",M18)="L","",IF(M18*(K18+AQ18)=0,"",IF(K18>0,+K18*M18*8.34,AQ18*M18*8.34))) | P18: =IF(CELL("type",O18)="L","",IF(O18*($K18+$AQ18)=0,"",IF($K18>0,+$K18*O18*8.34,$AQ18*O18*8.34))) | T18: =+A18 -> 8 | Y18: =IF(W18*X18=0,"",IF(W18<100,W18*10000/X18,W18*1000/X18)) | AI18: =IF(CELL("type",AJ18)="b","",IF(AJ18="tntc",63200,IF(AJ18=0,1,AJ18))) | AO18: =+A18 -> 8 | AP18: =+B18 -> Wed | AR18: =IF(+$B18="Sat",IF(SUM(AQ12:AQ18)>0,AVERAGE(AQ12:AQ18)," "),"") | AT18: =IF(+$B18="Sat",IF(SUM(AS12:AS18)>0,AVERAGE(AS12:AS18)," "),"") | AU18: =IF(CELL("type",AS18)="l","",IF(AS18*($K18+$AQ18)=0,"",IF($AQ18>0,+$AQ18*AS18*8.34,$K18*AS18*8.34))) | AV18: =IF(+$B18="Sat",IF(SUM(AU12:AU18)>0,AVERAGE(AU12:AU18)," "),"") | AX18: =IF(+$B18="Sat",IF(SUM(AW12:AW18)>0,AVERAGE(AW12:AW18)," "),"") | AY18: =IF(CELL("type",AW18)="l","",IF(AW18*($K18+$AQ18)=0,"",IF($AQ18>0,+$AQ18*AW18*8.34,$K18*AW18*8.34))) | AZ18: =IF(+$B18="Sat",IF(SUM(AY12:AY18)>0,AVERAGE(AY12:AY18)," "),"") | BB18: =IF(+$B18="Sat",IF(SUM(BA12:BA18)>0,AVERAGE(BA12:BA18)," "),"") | BC18: =IF(CELL("type",BA18)="l","",IF(BA18*($K18+$AQ18)=0,"",IF($AQ18>0,+$AQ18*BA18*8.34,$K18*BA18*8.34))) | BD18: =IF(+$B18="Sat",IF(SUM(BC12:BC18)>0,AVERAGE(BC12:BC18)," "),"") | BF18: =IF(CELL("type",BE18)="l","",IF(BE18*($K18+$AQ18)=0,"",IF($AQ18>0,+$AQ18*BE18*8.34,$K18*BE18*8.34))) | BG18: =+A18 -> 8 | BV18: =+A18 -> 8 | BX18: =IF(CELL("type",BW18)="l","",IF(BW18*($K18+$AQ18)=0,"",IF($AQ18>0,+$AQ18*BW18*8.34,$K18*BW18*8.34))) | BZ18: =IF(CELL("type",BY18)="l","",IF(BY18*($K18+$AQ18)=0,"",IF($AQ18>0,+$AQ18*BY18*8.34,$K18*BY18*8.34))) | CM18: =+T18 -> 8
